BEGIN:VCALENDAR
VERSION:2.0
PRODID:-//Latin Social - ECPv6.8.2//NONSGML v1.0//EN
CALSCALE:GREGORIAN
METHOD:PUBLISH
X-ORIGINAL-URL:https://latin.social
X-WR-CALDESC:Events for Latin Social
REFRESH-INTERVAL;VALUE=DURATION:PT1H
X-Robots-Tag:noindex
X-PUBLISHED-TTL:PT1H
BEGIN:VTIMEZONE
TZID:Europe/London
BEGIN:DAYLIGHT
TZOFFSETFROM:+0000
TZOFFSETTO:+0100
TZNAME:BST
DTSTART:20240331T010000
END:DAYLIGHT
BEGIN:STANDARD
TZOFFSETFROM:+0100
TZOFFSETTO:+0000
TZNAME:GMT
DTSTART:20241027T010000
END:STANDARD
END:VTIMEZONE
BEGIN:VEVENT
DTSTART;TZID=Europe/London:20240501T190000
DTEND;TZID=Europe/London:20240501T210000
DTSTAMP:20260420T013225
CREATED:20240501T154656Z
LAST-MODIFIED:20240508T094751Z
UID:10000902-1714590000-1714597200@latin.social
SUMMARY:Salsateca - Salsa and Bachata
DESCRIPTION:⏰ 6:40pm \n📚 7pm Cross-body salsa – Beginners\, Improvers\, Intermediate \n📚 8pm Bachata – Beginners\, Improvers\, Intermediate \n🪇 9pm Free Social \n😴 10pm Close
URL:https://latin.social/event/salsateca-salsa-and-bachata-2/2024-05-01/
LOCATION:Warren Centre\, Warren Centre\, Northumberland House\, Basement 1-8\,\, London\, W1T 5JU\, United Kingdom
CATEGORIES:Class
ATTACH;FMTTYPE=image/jpeg:https://latin.social/wp-content/uploads/2024/04/Salsateca.jpg
ORGANIZER;CN="Salsateca":MAILTO:admin@salsateca.co.uk
GEO:51.5237708;-0.1380523
X-APPLE-STRUCTURED-LOCATION;VALUE=URI;X-ADDRESS=Warren Centre Warren Centre Northumberland House Basement 1-8 London W1T 5JU United Kingdom;X-APPLE-RADIUS=500;X-TITLE=Warren Centre\, Northumberland House\, Basement 1-8\,:geo:-0.1380523,51.5237708
END:VEVENT
BEGIN:VEVENT
DTSTART;TZID=Europe/London:20240501T190000
DTEND;TZID=Europe/London:20240501T220000
DTSTAMP:20260420T013225
CREATED:20240430T152843Z
LAST-MODIFIED:20240508T094732Z
UID:10000446-1714590000-1714600800@latin.social
SUMMARY:Cali Swing - Monthly Imp/Int/Adv
DESCRIPTION:⏰ 6:50pm Doors open \n📚 7pm Improvers \n📚 8pm Intermediate \n📚 9pm Advanced \n😴 10pm Close \nThis is a monthly progressive course. Drop-ins are not available. \nBeginners should start at the Friday class.
URL:https://latin.social/event/cali-swing-monthly-imp-int-adv/2024-05-01/
LOCATION:Flow Dance\, Unit 3\, Kennington Business Park\, Canterbury Court\, London\, SW9 6DE\, United Kingdom
CATEGORIES:Class
ATTACH;FMTTYPE=image/png:https://latin.social/wp-content/uploads/2024/04/CaliSwing.png
ORGANIZER;CN="Cali Swing Dance School":MAILTO:info@caliswinguk.com
GEO:51.4804767;-0.1100447
X-APPLE-STRUCTURED-LOCATION;VALUE=URI;X-ADDRESS=Flow Dance Unit 3 Kennington Business Park Canterbury Court London SW9 6DE United Kingdom;X-APPLE-RADIUS=500;X-TITLE=Unit 3\, Kennington Business Park\, Canterbury Court:geo:-0.1100447,51.4804767
END:VEVENT
BEGIN:VEVENT
DTSTART;TZID=Europe/London:20240501T193000
DTEND;TZID=Europe/London:20240501T204500
DTSTAMP:20260420T013225
CREATED:20240501T141443Z
LAST-MODIFIED:20240911T192556Z
UID:10000656-1714591800-1714596300@latin.social
SUMMARY:City Salsa - Salsa All Levels
DESCRIPTION:Beginners\, improvers\, intermediate\, and advanced level classes in cross-body salsa. \n\n\n\n\nThis includes footwork\, styling and elements from the syllabus and couple dancing techniques. \nClass runs from 7:30pm until 8:45pm with social practice from 8:45pm onwards.
URL:https://latin.social/event/city-salsa-salsa-all-levels-2/2024-05-01/
LOCATION:Adulis\, Adulis\, 44-46 Brixton Rd\,\, London\, SW9 6BT\, United Kingdom
CATEGORIES:Class,Social
ATTACH;FMTTYPE=image/jpeg:https://latin.social/wp-content/uploads/2024/04/CitySalsa.jpg
ORGANIZER;CN="City Salsa":MAILTO:info@citysalsa.com
GEO:51.4794831;-0.1118872
X-APPLE-STRUCTURED-LOCATION;VALUE=URI;X-ADDRESS=Adulis Adulis 44-46 Brixton Rd London SW9 6BT United Kingdom;X-APPLE-RADIUS=500;X-TITLE=Adulis\, 44-46 Brixton Rd\,:geo:-0.1118872,51.4794831
END:VEVENT
BEGIN:VEVENT
DTSTART;TZID=Europe/London:20240501T200000
DTEND;TZID=Europe/London:20240501T211500
DTSTAMP:20260420T013225
CREATED:20240501T141713Z
LAST-MODIFIED:20240506T135628Z
UID:10000682-1714593600-1714598100@latin.social
SUMMARY:City Salsa - Salsa All Levels
DESCRIPTION:Beginners\, intermediate\, improvers\, and advanced level classes in cross-body salsa. \n\n\n\n\nThis includes footwork\, styling and elements from the syllabus and couple dancing techniques. \nClass runs from 8:00pm until 9:15pm with social practice from 9:15pm until midnight.
URL:https://latin.social/event/city-salsa-salsa-all-levels-3/2024-05-01/
LOCATION:St Peter’s Hall\, St Peter's Hall\, Prescott Place\, London\, SW4 7UJ\, United Kingdom
CATEGORIES:Class
ATTACH;FMTTYPE=image/jpeg:https://latin.social/wp-content/uploads/2024/04/CitySalsa.jpg
ORGANIZER;CN="City Salsa":MAILTO:info@citysalsa.com
GEO:51.4635238;-0.1352044
X-APPLE-STRUCTURED-LOCATION;VALUE=URI;X-ADDRESS=St Peter’s Hall St Peter's Hall Prescott Place London SW4 7UJ United Kingdom;X-APPLE-RADIUS=500;X-TITLE=St Peter's Hall\, Prescott Place:geo:-0.1352044,51.4635238
END:VEVENT
BEGIN:VEVENT
DTSTART;TZID=Europe/London:20240501T203000
DTEND;TZID=Europe/London:20240501T220000
DTSTAMP:20260420T013225
CREATED:20240430T142320Z
LAST-MODIFIED:20240506T135609Z
UID:10000282-1714595400-1714600800@latin.social
SUMMARY:Bachata Gravity
DESCRIPTION:Bachata Sensual classes with Stephanie Lucero. \nMonthly Membership\, please contact on Instagram.
URL:https://latin.social/event/bachata-gravity/2024-05-01/
LOCATION:Flow Dance\, Unit 3\, Kennington Business Park\, Canterbury Court\, London\, SW9 6DE\, United Kingdom
CATEGORIES:Class
ATTACH;FMTTYPE=image/webp:https://latin.social/wp-content/uploads/2024/04/Bachata-Gravity.webp
ORGANIZER;CN="Bachata Club":MAILTO:hello@bachataclub.co.uk
GEO:51.4804767;-0.1100447
X-APPLE-STRUCTURED-LOCATION;VALUE=URI;X-ADDRESS=Flow Dance Unit 3 Kennington Business Park Canterbury Court London SW9 6DE United Kingdom;X-APPLE-RADIUS=500;X-TITLE=Unit 3\, Kennington Business Park\, Canterbury Court:geo:-0.1100447,51.4804767
END:VEVENT
END:VCALENDAR