BEGIN:VCALENDAR
VERSION:2.0
PRODID:-//Latin Social - ECPv6.8.2//NONSGML v1.0//EN
CALSCALE:GREGORIAN
METHOD:PUBLISH
X-ORIGINAL-URL:https://latin.social
X-WR-CALDESC:Events for Latin Social
REFRESH-INTERVAL;VALUE=DURATION:PT1H
X-Robots-Tag:noindex
X-PUBLISHED-TTL:PT1H
BEGIN:VTIMEZONE
TZID:Europe/London
BEGIN:DAYLIGHT
TZOFFSETFROM:+0000
TZOFFSETTO:+0100
TZNAME:BST
DTSTART:20240331T010000
END:DAYLIGHT
BEGIN:STANDARD
TZOFFSETFROM:+0100
TZOFFSETTO:+0000
TZNAME:GMT
DTSTART:20241027T010000
END:STANDARD
END:VTIMEZONE
BEGIN:VEVENT
DTSTART;TZID=Europe/London:20240503T183000
DTEND;TZID=Europe/London:20240503T194500
DTSTAMP:20260420T044833
CREATED:20240514T194634Z
LAST-MODIFIED:20240515T153819Z
UID:10001853-1714761000-1714765500@latin.social
SUMMARY:MS Dance  - Beginners Salsa (8 Weeks)
DESCRIPTION:Have you ever wanted to learn Salsa? …You came to the right place. \nIn our Salsa beginners course you will learn the basic steps and moves as well as the rhythm of the dance. \nThis is a progressive course and your knowledge and progression will be built from week to week. \nThere will be plenty of drilling to make you comfortable and confident with the steps and moves you are to learn. \nAnd on top of that you may even have some fun…after all dancing is about fun 🙂 \nThis course is suitable for both men and women\, no partner necessary.
URL:https://latin.social/event/ms-dance-beginners-salsa-8-weeks/2024-05-03/
LOCATION:YMCA (Ealing)\, YMCA\, 25 St Mary's Road\, London\, W5 5RE\, United Kingdom
CATEGORIES:Class
ATTACH;FMTTYPE=image/jpeg:https://latin.social/wp-content/uploads/2024/04/MSDance-logo.jpg
ORGANIZER;CN="MS Dance":MAILTO:info@msdance.co.uk
GEO:51.5070375;-0.3040958
X-APPLE-STRUCTURED-LOCATION;VALUE=URI;X-ADDRESS=YMCA (Ealing) YMCA 25 St Mary's Road London W5 5RE United Kingdom;X-APPLE-RADIUS=500;X-TITLE=YMCA\, 25 St Mary's Road:geo:-0.3040958,51.5070375
END:VEVENT
BEGIN:VEVENT
DTSTART;TZID=Europe/London:20240503T190000
DTEND;TZID=Europe/London:20240503T203000
DTSTAMP:20260420T044833
CREATED:20240430T140748Z
LAST-MODIFIED:20240506T135455Z
UID:10000256-1714762800-1714768200@latin.social
SUMMARY:AT Dancing - Salsa Ladies Styling Intermediate
DESCRIPTION:On-going Salsa Ladies Styling Intermediate class in Whetstone – Join to gain more confidence with your body movement and stylings! Learn small routines\, work on details! Sessions include isolation exercises\, armwork\, balance\, spin techniques and more. Come to get inspired! Each session is 1.5hr \nBook one off class or a 4 week course to maintain continuation in your learning. \nPlease pre-book your classes online or contact us to book your spot.
URL:https://latin.social/event/at-dancing-salsa-ladies-styling-intermediate/2024-05-03/
LOCATION:High Road\, Whetstone\, High Road\, Whetstone\, London\, N20 0PT\, United Kingdom
CATEGORIES:Class
ATTACH;FMTTYPE=image/jpeg:https://latin.social/wp-content/uploads/2024/04/ATDancing.jpg
ORGANIZER;CN="AT Dancing":MAILTO:atdancing.uk@gmail.com
GEO:51.6256214;-0.1759873
X-APPLE-STRUCTURED-LOCATION;VALUE=URI;X-ADDRESS=High Road Whetstone High Road Whetstone London N20 0PT United Kingdom;X-APPLE-RADIUS=500;X-TITLE=High Road\, Whetstone:geo:-0.1759873,51.6256214
END:VEVENT
BEGIN:VEVENT
DTSTART;TZID=Europe/London:20240503T190000
DTEND;TZID=Europe/London:20240503T210000
DTSTAMP:20260420T044833
CREATED:20240501T155111Z
LAST-MODIFIED:20240508T094559Z
UID:10000954-1714762800-1714770000@latin.social
SUMMARY:Salsateca - Salsa and Bachata
DESCRIPTION:⏰ 6:40pm \n📚 7pm Cross-body salsa – Beginners\, Improvers\, Intermediate \n📚 8pm Bachata – Beginners\, Improvers\, Intermediate \n🪇 9pm Free Social \n😴 11pm Close
URL:https://latin.social/event/salsateca-salsa-and-bachata-3/2024-05-03/
LOCATION:St Mary Moorfields\, St Mary Moorfields\, 4-5 Eldon St\,\, London\, EC2M 7LS\, United Kingdom
CATEGORIES:Class
ATTACH;FMTTYPE=image/jpeg:https://latin.social/wp-content/uploads/2024/04/Salsateca.jpg
ORGANIZER;CN="Salsateca":MAILTO:admin@salsateca.co.uk
GEO:51.5187492;-0.08568
X-APPLE-STRUCTURED-LOCATION;VALUE=URI;X-ADDRESS=St Mary Moorfields St Mary Moorfields 4-5 Eldon St London EC2M 7LS United Kingdom;X-APPLE-RADIUS=500;X-TITLE=St Mary Moorfields\, 4-5 Eldon St\,:geo:-0.08568,51.5187492
END:VEVENT
BEGIN:VEVENT
DTSTART;TZID=Europe/London:20240503T190000
DTEND;TZID=Europe/London:20240503T210000
DTSTAMP:20260420T044833
CREATED:20240501T155320Z
LAST-MODIFIED:20240508T094537Z
UID:10000980-1714762800-1714770000@latin.social
SUMMARY:Salsateca - Salsa and Bachata
DESCRIPTION:⏰ 6:40pm \n📚 7pm Cross-body salsa – Beginners\, Improvers\, Intermediate \n📚 8pm Bachata – Beginners\, Improvers\, Intermediate \n🪇 9pm Free Social \n😴 10:30pm Close \nNote: On the 2nd Friday of Every Month this event becomes a party called LATIN PARADISE until 12am. With guest DJs\, Instructors and shows.
URL:https://latin.social/event/salsateca-salsa-and-bachata-4/2024-05-03/
LOCATION:Crofton Halls\, Crofton Halls\, York Rise\,\, Orpington\, BR6 8PR\, United Kingdom
CATEGORIES:Class
ATTACH;FMTTYPE=image/jpeg:https://latin.social/wp-content/uploads/2024/04/Salsateca.jpg
ORGANIZER;CN="Salsateca":MAILTO:admin@salsateca.co.uk
GEO:51.3735151;0.087235
X-APPLE-STRUCTURED-LOCATION;VALUE=URI;X-ADDRESS=Crofton Halls Crofton Halls York Rise Orpington BR6 8PR United Kingdom;X-APPLE-RADIUS=500;X-TITLE=Crofton Halls\, York Rise\,:geo:0.087235,51.3735151
END:VEVENT
BEGIN:VEVENT
DTSTART;TZID=Europe/London:20240503T190000
DTEND;TZID=Europe/London:20240503T213000
DTSTAMP:20260420T044833
CREATED:20240430T153249Z
LAST-MODIFIED:20240508T094511Z
UID:10000472-1714762800-1714771800@latin.social
SUMMARY:Cali Swing - Monthly Beg/Imp/Int/Adv
DESCRIPTION:Room 2 \n⏰ 6:50pm Doors open \n📚 7pm Beginner footwork \n📚 8pm Beginner partnerwork \n😴 9pm Close \n  \nRoom 1 \n⏰ 6:20pm Doors open \n📚 6:30pm Improvers partnerwork \n📚 7:30pm Intermediate partnerwork \n📚 8:30pm Advanced partnerwork \n😴 9:30pm Close \nThis is a monthly progressive course. Drop-ins are not available.
URL:https://latin.social/event/cali-swing-monthly-beg-imp-int-adv/2024-05-03/
LOCATION:Mulberry Sports Centre\, Mulberry Sports Centre\, Richard Street\, London\, E1 2JR\, United Kingdom
CATEGORIES:Class
ATTACH;FMTTYPE=image/png:https://latin.social/wp-content/uploads/2024/04/CaliSwing.png
ORGANIZER;CN="Cali Swing Dance School":MAILTO:info@caliswinguk.com
GEO:51.5139955;-0.0595965
X-APPLE-STRUCTURED-LOCATION;VALUE=URI;X-ADDRESS=Mulberry Sports Centre Mulberry Sports Centre Richard Street London E1 2JR United Kingdom;X-APPLE-RADIUS=500;X-TITLE=Mulberry Sports Centre\, Richard Street:geo:-0.0595965,51.5139955
END:VEVENT
BEGIN:VEVENT
DTSTART;TZID=Europe/London:20240503T200000
DTEND;TZID=Europe/London:20240504T020000
DTSTAMP:20260420T044833
CREATED:20240501T162802Z
LAST-MODIFIED:20240625T172758Z
UID:10001061-1714766400-1714788000@latin.social
SUMMARY:Bachata First
DESCRIPTION:Bachata social dance only (no classes). \nBYOB (but no red wine).
URL:https://latin.social/event/bachata-first/2024-05-03/
LOCATION:St Ethelburga’s Centre for Reconciliation and Peace\, 78 Bishopsgate\, London\, EC2N 4AG\, United Kingdom
CATEGORIES:Social
ATTACH;FMTTYPE=image/jpeg:https://latin.social/wp-content/uploads/2024/05/BachataFirst.jpg
GEO:51.5154655;-0.0819124
X-APPLE-STRUCTURED-LOCATION;VALUE=URI;X-ADDRESS=St Ethelburga’s Centre for Reconciliation and Peace 78 Bishopsgate London EC2N 4AG United Kingdom;X-APPLE-RADIUS=500;X-TITLE=78 Bishopsgate:geo:-0.0819124,51.5154655
END:VEVENT
END:VCALENDAR