BEGIN:VCALENDAR
VERSION:2.0
PRODID:-//Latin Social - ECPv6.8.2//NONSGML v1.0//EN
CALSCALE:GREGORIAN
METHOD:PUBLISH
X-WR-CALNAME:Latin Social
X-ORIGINAL-URL:https://latin.social
X-WR-CALDESC:Events for Latin Social
REFRESH-INTERVAL;VALUE=DURATION:PT1H
X-Robots-Tag:noindex
X-PUBLISHED-TTL:PT1H
BEGIN:VTIMEZONE
TZID:Europe/London
BEGIN:DAYLIGHT
TZOFFSETFROM:+0000
TZOFFSETTO:+0100
TZNAME:BST
DTSTART:20240331T010000
END:DAYLIGHT
BEGIN:STANDARD
TZOFFSETFROM:+0100
TZOFFSETTO:+0000
TZNAME:GMT
DTSTART:20241027T010000
END:STANDARD
END:VTIMEZONE
BEGIN:VEVENT
DTSTART;TZID=Europe/London:20240510T183000
DTEND;TZID=Europe/London:20240510T194500
DTSTAMP:20260419T215442
CREATED:20240514T194634Z
LAST-MODIFIED:20240515T153819Z
UID:10001854-1715365800-1715370300@latin.social
SUMMARY:MS Dance  - Beginners Salsa (8 Weeks)
DESCRIPTION:Have you ever wanted to learn Salsa? …You came to the right place. \nIn our Salsa beginners course you will learn the basic steps and moves as well as the rhythm of the dance. \nThis is a progressive course and your knowledge and progression will be built from week to week. \nThere will be plenty of drilling to make you comfortable and confident with the steps and moves you are to learn. \nAnd on top of that you may even have some fun…after all dancing is about fun 🙂 \nThis course is suitable for both men and women\, no partner necessary.
URL:https://latin.social/event/ms-dance-beginners-salsa-8-weeks/2024-05-10/
LOCATION:YMCA (Ealing)\, YMCA\, 25 St Mary's Road\, London\, W5 5RE\, United Kingdom
CATEGORIES:Class
ATTACH;FMTTYPE=image/jpeg:https://latin.social/wp-content/uploads/2024/04/MSDance-logo.jpg
ORGANIZER;CN="MS Dance":MAILTO:info@msdance.co.uk
GEO:51.5070375;-0.3040958
X-APPLE-STRUCTURED-LOCATION;VALUE=URI;X-ADDRESS=YMCA (Ealing) YMCA 25 St Mary's Road London W5 5RE United Kingdom;X-APPLE-RADIUS=500;X-TITLE=YMCA\, 25 St Mary's Road:geo:-0.3040958,51.5070375
END:VEVENT
BEGIN:VEVENT
DTSTART;TZID=Europe/London:20240510T190000
DTEND;TZID=Europe/London:20240510T203000
DTSTAMP:20260419T215442
CREATED:20240430T140748Z
LAST-MODIFIED:20240506T135455Z
UID:10000257-1715367600-1715373000@latin.social
SUMMARY:AT Dancing - Salsa Ladies Styling Intermediate
DESCRIPTION:On-going Salsa Ladies Styling Intermediate class in Whetstone – Join to gain more confidence with your body movement and stylings! Learn small routines\, work on details! Sessions include isolation exercises\, armwork\, balance\, spin techniques and more. Come to get inspired! Each session is 1.5hr \nBook one off class or a 4 week course to maintain continuation in your learning. \nPlease pre-book your classes online or contact us to book your spot.
URL:https://latin.social/event/at-dancing-salsa-ladies-styling-intermediate/2024-05-10/
LOCATION:High Road\, Whetstone\, High Road\, Whetstone\, London\, N20 0PT\, United Kingdom
CATEGORIES:Class
ATTACH;FMTTYPE=image/jpeg:https://latin.social/wp-content/uploads/2024/04/ATDancing.jpg
ORGANIZER;CN="AT Dancing":MAILTO:atdancing.uk@gmail.com
GEO:51.6256214;-0.1759873
X-APPLE-STRUCTURED-LOCATION;VALUE=URI;X-ADDRESS=High Road Whetstone High Road Whetstone London N20 0PT United Kingdom;X-APPLE-RADIUS=500;X-TITLE=High Road\, Whetstone:geo:-0.1759873,51.6256214
END:VEVENT
BEGIN:VEVENT
DTSTART;TZID=Europe/London:20240510T190000
DTEND;TZID=Europe/London:20240510T210000
DTSTAMP:20260419T215442
CREATED:20240501T155111Z
LAST-MODIFIED:20240508T094559Z
UID:10000955-1715367600-1715374800@latin.social
SUMMARY:Salsateca - Salsa and Bachata
DESCRIPTION:⏰ 6:40pm \n📚 7pm Cross-body salsa – Beginners\, Improvers\, Intermediate \n📚 8pm Bachata – Beginners\, Improvers\, Intermediate \n🪇 9pm Free Social \n😴 11pm Close
URL:https://latin.social/event/salsateca-salsa-and-bachata-3/2024-05-10/
LOCATION:St Mary Moorfields\, St Mary Moorfields\, 4-5 Eldon St\,\, London\, EC2M 7LS\, United Kingdom
CATEGORIES:Class
ATTACH;FMTTYPE=image/jpeg:https://latin.social/wp-content/uploads/2024/04/Salsateca.jpg
ORGANIZER;CN="Salsateca":MAILTO:admin@salsateca.co.uk
GEO:51.5187492;-0.08568
X-APPLE-STRUCTURED-LOCATION;VALUE=URI;X-ADDRESS=St Mary Moorfields St Mary Moorfields 4-5 Eldon St London EC2M 7LS United Kingdom;X-APPLE-RADIUS=500;X-TITLE=St Mary Moorfields\, 4-5 Eldon St\,:geo:-0.08568,51.5187492
END:VEVENT
BEGIN:VEVENT
DTSTART;TZID=Europe/London:20240510T190000
DTEND;TZID=Europe/London:20240510T210000
DTSTAMP:20260419T215442
CREATED:20240501T155320Z
LAST-MODIFIED:20240508T094537Z
UID:10000981-1715367600-1715374800@latin.social
SUMMARY:Salsateca - Salsa and Bachata
DESCRIPTION:⏰ 6:40pm \n📚 7pm Cross-body salsa – Beginners\, Improvers\, Intermediate \n📚 8pm Bachata – Beginners\, Improvers\, Intermediate \n🪇 9pm Free Social \n😴 10:30pm Close \nNote: On the 2nd Friday of Every Month this event becomes a party called LATIN PARADISE until 12am. With guest DJs\, Instructors and shows.
URL:https://latin.social/event/salsateca-salsa-and-bachata-4/2024-05-10/
LOCATION:Crofton Halls\, Crofton Halls\, York Rise\,\, Orpington\, BR6 8PR\, United Kingdom
CATEGORIES:Class
ATTACH;FMTTYPE=image/jpeg:https://latin.social/wp-content/uploads/2024/04/Salsateca.jpg
ORGANIZER;CN="Salsateca":MAILTO:admin@salsateca.co.uk
GEO:51.3735151;0.087235
X-APPLE-STRUCTURED-LOCATION;VALUE=URI;X-ADDRESS=Crofton Halls Crofton Halls York Rise Orpington BR6 8PR United Kingdom;X-APPLE-RADIUS=500;X-TITLE=Crofton Halls\, York Rise\,:geo:0.087235,51.3735151
END:VEVENT
BEGIN:VEVENT
DTSTART;TZID=Europe/London:20240510T190000
DTEND;TZID=Europe/London:20240510T213000
DTSTAMP:20260419T215442
CREATED:20240430T153249Z
LAST-MODIFIED:20240508T094511Z
UID:10000473-1715367600-1715376600@latin.social
SUMMARY:Cali Swing - Monthly Beg/Imp/Int/Adv
DESCRIPTION:Room 2 \n⏰ 6:50pm Doors open \n📚 7pm Beginner footwork \n📚 8pm Beginner partnerwork \n😴 9pm Close \n  \nRoom 1 \n⏰ 6:20pm Doors open \n📚 6:30pm Improvers partnerwork \n📚 7:30pm Intermediate partnerwork \n📚 8:30pm Advanced partnerwork \n😴 9:30pm Close \nThis is a monthly progressive course. Drop-ins are not available.
URL:https://latin.social/event/cali-swing-monthly-beg-imp-int-adv/2024-05-10/
LOCATION:Mulberry Sports Centre\, Mulberry Sports Centre\, Richard Street\, London\, E1 2JR\, United Kingdom
CATEGORIES:Class
ATTACH;FMTTYPE=image/png:https://latin.social/wp-content/uploads/2024/04/CaliSwing.png
ORGANIZER;CN="Cali Swing Dance School":MAILTO:info@caliswinguk.com
GEO:51.5139955;-0.0595965
X-APPLE-STRUCTURED-LOCATION;VALUE=URI;X-ADDRESS=Mulberry Sports Centre Mulberry Sports Centre Richard Street London E1 2JR United Kingdom;X-APPLE-RADIUS=500;X-TITLE=Mulberry Sports Centre\, Richard Street:geo:-0.0595965,51.5139955
END:VEVENT
BEGIN:VEVENT
DTSTART;TZID=Europe/London:20240510T190000
DTEND;TZID=Europe/London:20240510T213000
DTSTAMP:20260419T215442
CREATED:20240507T115827Z
LAST-MODIFIED:20240508T091739Z
UID:10001167-1715367600-1715376600@latin.social
SUMMARY:Cubaneando - Cuban Salsa
DESCRIPTION:📚 7pm Cuban Salsa – Beginners 1\, Improvers 1\, Intermediates \n📚 8:15pm Cuban Salsa – Beginners 2\, Improvers 2\, Advanced \n🪇 9:30pm Social \n😴 3:30am Close \n£13 1 class + social\, £16 2 classes + social\, £10 social only
URL:https://latin.social/event/cubaneando-cuban-salsa-2/2024-05-10/
LOCATION:La Pollera Colora\, La Pollera Colora\, 4-6 London Bridge St\,\, London\, SE1 9SG\, United Kingdom
CATEGORIES:Class,Social
ATTACH;FMTTYPE=image/jpeg:https://latin.social/wp-content/uploads/2024/05/Cubaneando-1-e1715082514819.jpg
ORGANIZER;CN="Cubaneando":MAILTO:info@cubaneando.com
GEO:51.5054504;-0.0885496
X-APPLE-STRUCTURED-LOCATION;VALUE=URI;X-ADDRESS=La Pollera Colora La Pollera Colora 4-6 London Bridge St London SE1 9SG United Kingdom;X-APPLE-RADIUS=500;X-TITLE=La Pollera Colora\, 4-6 London Bridge St\,:geo:-0.0885496,51.5054504
END:VEVENT
BEGIN:VEVENT
DTSTART;TZID=Europe/London:20240510T190000
DTEND;TZID=Europe/London:20240510T220000
DTSTAMP:20260419T215442
CREATED:20240508T113130Z
LAST-MODIFIED:20240508T113130Z
UID:10001711-1715367600-1715378400@latin.social
SUMMARY:Fiesta Fuego Monthly Parties
DESCRIPTION:📚 7pm Bachata Class – General Level \n🪇 7:45pm Salsa and Bachata Social \n😴 10pm Close
URL:https://latin.social/event/fiesta-fuego-monthly-parties/2024-05-10/
LOCATION:Saw Swee Hock Centre\, Saw Swee Hock Centre\, 1 Sheffield Street\, London\, WC2A 2AP\, United Kingdom
CATEGORIES:Social
ATTACH;FMTTYPE=image/jpeg:https://latin.social/wp-content/uploads/2024/04/SalsaTropical.jpg
ORGANIZER;CN="Salsa Tropical":MAILTO:salsa@salsa-tropical.com
GEO:51.5147023;-0.1175738
X-APPLE-STRUCTURED-LOCATION;VALUE=URI;X-ADDRESS=Saw Swee Hock Centre Saw Swee Hock Centre 1 Sheffield Street London WC2A 2AP United Kingdom;X-APPLE-RADIUS=500;X-TITLE=Saw Swee Hock Centre\, 1 Sheffield Street:geo:-0.1175738,51.5147023
END:VEVENT
BEGIN:VEVENT
DTSTART;TZID=Europe/London:20240510T190000
DTEND;TZID=Europe/London:20240511T000000
DTSTAMP:20260419T215442
CREATED:20240501T160832Z
LAST-MODIFIED:20240508T093630Z
UID:10001058-1715367600-1715385600@latin.social
SUMMARY:Latin Paradise
DESCRIPTION:⏰ 6:40pm \n📚 7pm Cross-body salsa – Beginners\, Improvers\, Intermediate \n📚 8pm Bachata – Beginners\, Improvers\, Intermediate \n🪇 9pm Free Social \n😴 Midnight Close
URL:https://latin.social/event/latin-paradise/
LOCATION:Crofton Halls\, Crofton Halls\, York Rise\,\, Orpington\, BR6 8PR\, United Kingdom
CATEGORIES:Class,Social
ATTACH;FMTTYPE=image/webp:https://latin.social/wp-content/uploads/2024/05/Latin-Paradise.webp
ORGANIZER;CN="Salsateca":MAILTO:admin@salsateca.co.uk
GEO:51.3735151;0.087235
X-APPLE-STRUCTURED-LOCATION;VALUE=URI;X-ADDRESS=Crofton Halls Crofton Halls York Rise Orpington BR6 8PR United Kingdom;X-APPLE-RADIUS=500;X-TITLE=Crofton Halls\, York Rise\,:geo:0.087235,51.3735151
END:VEVENT
BEGIN:VEVENT
DTSTART;TZID=Europe/London:20240510T193000
DTEND;TZID=Europe/London:20240511T000000
DTSTAMP:20260419T215442
CREATED:20240510T104600Z
LAST-MODIFIED:20240725T184425Z
UID:10001833-1715369400-1715385600@latin.social
SUMMARY:DansTime Friday
DESCRIPTION:📚 7:30pm Bachata class – Beginners\, Improvers/Intermediate \n🪇 8:30pm Social \n😴 Midnight Close \n💰 £14 Class & Social\, £10 Social only
URL:https://latin.social/event/danstime-friday/2024-05-10/
LOCATION:Nursery On The Green\, Nursery On The Green\, 65-67 High Street\, London\, SW19 2JF\, United Kingdom
CATEGORIES:Class,Social
ATTACH;FMTTYPE=image/jpeg:https://latin.social/wp-content/uploads/2024/05/Danstime.jpg
ORGANIZER;CN="Dans Time":MAILTO:Markdanstime@gmail.com
GEO:51.4196805;-0.1760974
X-APPLE-STRUCTURED-LOCATION;VALUE=URI;X-ADDRESS=Nursery On The Green Nursery On The Green 65-67 High Street London SW19 2JF United Kingdom;X-APPLE-RADIUS=500;X-TITLE=Nursery On The Green\, 65-67 High Street:geo:-0.1760974,51.4196805
END:VEVENT
BEGIN:VEVENT
DTSTART;TZID=Europe/London:20240510T200000
DTEND;TZID=Europe/London:20240510T233000
DTSTAMP:20260419T215442
CREATED:20240430T151309Z
LAST-MODIFIED:20240506T141529Z
UID:10000443-1715371200-1715383800@latin.social
SUMMARY:LLBOS Carlos & Chloe Weekender
DESCRIPTION:Friday Location – GHappyFeet Studio\, 19-23 Overseas House\, Ironmonger Row\, EC1V 3QN \nSaturday Location – THE VAULT\, 300 Strand\, London WC2R 1AE \n★The LLBBOS FRIDAY Schedule★ \nIntimate Masterclasses with our Internationals \nLimited to 25 couples only \nMirrored Studio \nmust be high improver+ \n  \n730pm – 830pm – Juanjo & Maria \n830pm – 930pm – Carlos & Chloe \n930pm – 12am – Social Dance (Only 20 spaces avail\, must be booked in advance) \n  \n★The LLBBOS SATURDAY Schedule★ \n5:00pm – 7:00pm – 2x workshops with Carlos & Chloe *Must be high improver+ \n7:30- 8:30pm – Bachata Fusion \nLevel 1 – Andrea \nLevel 2 – Pierre & Pebbles \nLevel 3 – Juanjo & Maria \n  \n8:30 – 9:30pm – Bachata Sensual \nLevel 1 – Pebbles \nLevel 2 – Biskit & Federica \nLevel 3 – Juanjo & Maria \n  \n9:30pm – 3am – PARTY
URL:https://latin.social/event/llbos-carlos-chloe-weekender/2024-05-10/
LOCATION:GHappyFeet Studio\, 19-23 Overseas House\, Ironmonger Row\, London\, EC1V 3QN\, United Kingdom
CATEGORIES:Class,Social,Workshop
ATTACH;FMTTYPE=image/webp:https://latin.social/wp-content/uploads/2024/04/LLBOS-Weekender.webp
GEO:51.5269672;-0.0946068
X-APPLE-STRUCTURED-LOCATION;VALUE=URI;X-ADDRESS=GHappyFeet Studio 19-23 Overseas House Ironmonger Row London EC1V 3QN United Kingdom;X-APPLE-RADIUS=500;X-TITLE=19-23 Overseas House\, Ironmonger Row:geo:-0.0946068,51.5269672
END:VEVENT
BEGIN:VEVENT
DTSTART;TZID=Europe/London:20240510T213000
DTEND;TZID=Europe/London:20240511T030000
DTSTAMP:20260419T215442
CREATED:20240508T175752Z
LAST-MODIFIED:20240508T175909Z
UID:10001821-1715376600-1715396400@latin.social
SUMMARY:Diversão Nights Monthly Kizomba Party
DESCRIPTION:⏰ 9pm \n📚 9:30pm Kizomba Class – Open Level \n🪇 10:30pm Social \n😴 3am Close \n💰 £15 on the door\, £12 if booked in advance by contacting Manon on +44 7375 290969
URL:https://latin.social/event/diversao-nights-monthly-kizomba-party/2024-05-10/
LOCATION:Adulis\, Adulis\, 44-46 Brixton Rd\,\, London\, SW9 6BT\, United Kingdom
CATEGORIES:Class,Social
ATTACH;FMTTYPE=image/jpeg:https://latin.social/wp-content/uploads/2024/05/Diversao-Nights.jpg
ORGANIZER;CN="Divers%C3%A3o Nights":MAILTO:lonkizschool@gmail.com
GEO:51.4794831;-0.1118872
X-APPLE-STRUCTURED-LOCATION;VALUE=URI;X-ADDRESS=Adulis Adulis 44-46 Brixton Rd London SW9 6BT United Kingdom;X-APPLE-RADIUS=500;X-TITLE=Adulis\, 44-46 Brixton Rd\,:geo:-0.1118872,51.4794831
END:VEVENT
END:VCALENDAR