BEGIN:VCALENDAR
VERSION:2.0
PRODID:-//Latin Social - ECPv6.8.2//NONSGML v1.0//EN
CALSCALE:GREGORIAN
METHOD:PUBLISH
X-ORIGINAL-URL:https://latin.social
X-WR-CALDESC:Events for Latin Social
REFRESH-INTERVAL;VALUE=DURATION:PT1H
X-Robots-Tag:noindex
X-PUBLISHED-TTL:PT1H
BEGIN:VTIMEZONE
TZID:Europe/London
BEGIN:DAYLIGHT
TZOFFSETFROM:+0000
TZOFFSETTO:+0100
TZNAME:BST
DTSTART:20240331T010000
END:DAYLIGHT
BEGIN:STANDARD
TZOFFSETFROM:+0100
TZOFFSETTO:+0000
TZNAME:GMT
DTSTART:20241027T010000
END:STANDARD
END:VTIMEZONE
BEGIN:VEVENT
DTSTART;TZID=Europe/London:20240514T181000
DTEND;TZID=Europe/London:20240514T191000
DTSTAMP:20260419T162658
CREATED:20240418T161733Z
LAST-MODIFIED:20240507T123226Z
UID:10001259-1715710200-1715713800@latin.social
SUMMARY:DanceBuzz - Salsa Improvers
DESCRIPTION:Our Improver Salsa classes program follows straight from the Level 1 Beginners Salsa courses. It is split into a number of progressive courses running throughout the year\, allowing you to get exposed to a large number of moves and variations and improve on your leading\, following\, rhythm and balance. \nYou are expected to complete four to six Level 2 courses before progressing to Level 3 – Intermediate Salsa.
URL:https://latin.social/event/dancebuzz-salsa-improvers/2024-05-14/
LOCATION:St Aloysius R.C. Church\, St Aloysius R.C. Church\, 20 Phoenix Rd\,\, London\, NW1 1TA\, United Kingdom
CATEGORIES:Class
ATTACH;FMTTYPE=image/png:https://latin.social/wp-content/uploads/2024/04/Dancebuzz.png
ORGANIZER;CN="DanceBuzz":MAILTO:hello@dancebuzz.co.uk
GEO:51.5300869;-0.1334929
X-APPLE-STRUCTURED-LOCATION;VALUE=URI;X-ADDRESS=St Aloysius R.C. Church St Aloysius R.C. Church 20 Phoenix Rd London NW1 1TA United Kingdom;X-APPLE-RADIUS=500;X-TITLE=St Aloysius R.C. Church\, 20 Phoenix Rd\,:geo:-0.1334929,51.5300869
END:VEVENT
BEGIN:VEVENT
DTSTART;TZID=Europe/London:20240514T183000
DTEND;TZID=Europe/London:20240514T210000
DTSTAMP:20260419T162658
CREATED:20240508T110940Z
LAST-MODIFIED:20240508T110940Z
UID:10001661-1715711400-1715720400@latin.social
SUMMARY:Salsa Tropical - Bachata Classes
DESCRIPTION:📚 6:30pm Bachata Taster Class \n📚 7pm Bachata Class – Beginners Level 1\, Improvers/Intermediate Level 3 \n📚 8pm Bachata Class – Beginners Level 2\, Improvers/Intermediate Level 4 \n🪇 9pm Social \n😴 10pm Close \n💰 £15 for 1 hour\, £25 for 2 hours\, Multi-hour packages available
URL:https://latin.social/event/salsa-tropical-bachata-classes/2024-05-14/
LOCATION:Saw Swee Hock Centre\, Saw Swee Hock Centre\, 1 Sheffield Street\, London\, WC2A 2AP\, United Kingdom
CATEGORIES:Class
ATTACH;FMTTYPE=image/jpeg:https://latin.social/wp-content/uploads/2024/04/SalsaTropical.jpg
ORGANIZER;CN="Salsa Tropical":MAILTO:salsa@salsa-tropical.com
GEO:51.5147023;-0.1175738
X-APPLE-STRUCTURED-LOCATION;VALUE=URI;X-ADDRESS=Saw Swee Hock Centre Saw Swee Hock Centre 1 Sheffield Street London WC2A 2AP United Kingdom;X-APPLE-RADIUS=500;X-TITLE=Saw Swee Hock Centre\, 1 Sheffield Street:geo:-0.1175738,51.5147023
END:VEVENT
BEGIN:VEVENT
DTSTART;TZID=Europe/London:20240514T183000
DTEND;TZID=Europe/London:20240514T211500
DTSTAMP:20260419T162658
CREATED:20240507T115135Z
LAST-MODIFIED:20240624T151149Z
UID:10002876-1715711400-1715721300@latin.social
SUMMARY:Cubaneando - Cuban Salsa
DESCRIPTION:📚 6:30pm Free Cuban Salsa Shines Class \n📚 7pm Cuban Salsa Class – Beginners 1\, Improvers 1 \n📚 8:15pm Cuban Salsa Class – Beginners 2\, Improvers 2/Intermediates \n😴 9:15pm Close \n💰 £10 for 1h or £15 if you do 2h (£2 off for Students and NHS staff)
URL:https://latin.social/event/cubaneando-cuban-salsa/2024-05-14/
LOCATION:Miraflores Bar & Lounge\, Miraflores Bar & Lounge\, 60 Southwark Street\, London\, SE1 1UN\, United Kingdom
CATEGORIES:Class
ATTACH;FMTTYPE=image/jpeg:https://latin.social/wp-content/uploads/2024/05/Cubaneando-1-e1715082514819.jpg
ORGANIZER;CN="Cubaneando":MAILTO:info@cubaneando.com
GEO:51.5050153;-0.0953625
X-APPLE-STRUCTURED-LOCATION;VALUE=URI;X-ADDRESS=Miraflores Bar & Lounge Miraflores Bar & Lounge 60 Southwark Street London SE1 1UN United Kingdom;X-APPLE-RADIUS=500;X-TITLE=Miraflores Bar & Lounge\, 60 Southwark Street:geo:-0.0953625,51.5050153
END:VEVENT
BEGIN:VEVENT
DTSTART;TZID=Europe/London:20240514T184500
DTEND;TZID=Europe/London:20240514T213000
DTSTAMP:20260419T162658
CREATED:20240430T143522Z
LAST-MODIFIED:20240815T154548Z
UID:10000336-1715712300-1715722200@latin.social
SUMMARY:Bachata Essence
DESCRIPTION:📚 6:45pm Ladies and Mens Styling \n📚 7:40pm Beginners\, Yellow\, and Orange tracks \n📚 8:35pm Beginners\, Yellow\, and Orange tracks \n🪇 9:30pm Social \n😴 11pm Close \n💰 Three Classes & Social £15 \n💰 Two Classes & Social £12 \n💰 One Class & Social £10 \n💰 Social Only £5
URL:https://latin.social/event/bachata-essence/2024-05-14/
LOCATION:Uthink Art Gallery\, Uthink Art Gallery\, Unit 1\, 13 High Holborn\,\, London\, WC1V 6DR\, United Kingdom
CATEGORIES:Class,Social
ATTACH;FMTTYPE=image/jpeg:https://latin.social/wp-content/uploads/2024/04/BachataEssence.jpg
GEO:51.5183736;-0.1119497
X-APPLE-STRUCTURED-LOCATION;VALUE=URI;X-ADDRESS=Uthink Art Gallery Uthink Art Gallery Unit 1 13 High Holborn London WC1V 6DR United Kingdom;X-APPLE-RADIUS=500;X-TITLE=Uthink Art Gallery\, Unit 1\, 13 High Holborn\,:geo:-0.1119497,51.5183736
END:VEVENT
BEGIN:VEVENT
DTSTART;TZID=Europe/London:20240514T190000
DTEND;TZID=Europe/London:20240514T200000
DTSTAMP:20260419T162658
CREATED:20240430T140344Z
LAST-MODIFIED:20240506T135808Z
UID:10000206-1715713200-1715716800@latin.social
SUMMARY:AT Dancing - Salsa Beginners
DESCRIPTION:Come to learn how to dance with a partner! No experience required! \nJoin a beginner group and learn how to dance with a partner from basics\, gain new dance skills with others\, it is a great practice time as well as best way to meet more dancers on your level! \nBook one off class or a 4 week course to maintain continuation in your learning. \nPlease pre-book your classes online or contact us to book your spot.
URL:https://latin.social/event/at-dancing-salsa-beginners/2024-05-14/
LOCATION:The Pavilion\, The Pavilion\, Brickfield Lane\,\, London\, EN5 3LD\, United Kingdom
CATEGORIES:Class
ATTACH;FMTTYPE=image/jpeg:https://latin.social/wp-content/uploads/2024/04/ATDancing.jpg
ORGANIZER;CN="AT Dancing":MAILTO:atdancing.uk@gmail.com
GEO:51.642436;-0.242858
X-APPLE-STRUCTURED-LOCATION;VALUE=URI;X-ADDRESS=The Pavilion The Pavilion Brickfield Lane London EN5 3LD United Kingdom;X-APPLE-RADIUS=500;X-TITLE=The Pavilion\, Brickfield Lane\,:geo:-0.242858,51.642436
END:VEVENT
BEGIN:VEVENT
DTSTART;TZID=Europe/London:20240514T190000
DTEND;TZID=Europe/London:20240514T200000
DTSTAMP:20260419T162658
CREATED:20240430T161439Z
LAST-MODIFIED:20240506T134919Z
UID:10000553-1715713200-1715716800@latin.social
SUMMARY:Cali Beat – Cross-body Level 3
DESCRIPTION:Progressive cross-body salsa course. \n£40 per month (or £50 if the month has 5 weeks).
URL:https://latin.social/event/cali-beat-cross-body-level-3/2024-05-14/
LOCATION:Arts Educational Schools\, Arts Educational Schools\, Cone Ripman House\, 14 Bath Rd\, Chiswick\,\, London\, W4 1LY\, United Kingdom
CATEGORIES:Class
ATTACH;FMTTYPE=image/png:https://latin.social/wp-content/uploads/2024/04/CaliBeat.png
ORGANIZER;CN="CaliBeat Dance Co":MAILTO:info@calibeatdance.com
GEO:51.4959866;-0.2530531
X-APPLE-STRUCTURED-LOCATION;VALUE=URI;X-ADDRESS=Arts Educational Schools Arts Educational Schools Cone Ripman House 14 Bath Rd Chiswick London W4 1LY United Kingdom;X-APPLE-RADIUS=500;X-TITLE=Arts Educational Schools\, Cone Ripman House\, 14 Bath Rd\, Chiswick\,:geo:-0.2530531,51.4959866
END:VEVENT
BEGIN:VEVENT
DTSTART;TZID=Europe/London:20240514T190000
DTEND;TZID=Europe/London:20240514T203000
DTSTAMP:20260419T162658
CREATED:20240430T140606Z
LAST-MODIFIED:20240506T135737Z
UID:10000232-1715713200-1715718600@latin.social
SUMMARY:AT Dancing - Salsa Intermediate
DESCRIPTION:For Intermediate dancers. Book courses to expand your Partnerwork skills\, learn new combinations\, leading/following techniques\, footworks and more! \nSolo or with a partner – come to practice your dance skills with others! Focus on quality of your dancing! Book one off class or a 4 week course to maintain continuation in your learning. \nPlease Note with course you get access to a closed whatsapp group with all ongoing videos from your class. \nPlease pre-book your classes online or contact us to book your spot.
URL:https://latin.social/event/at-dancing-salsa-intermediate/2024-05-14/
LOCATION:The Pavilion\, The Pavilion\, Brickfield Lane\,\, London\, EN5 3LD\, United Kingdom
CATEGORIES:Class
ATTACH;FMTTYPE=image/jpeg:https://latin.social/wp-content/uploads/2024/04/ATDancing.jpg
ORGANIZER;CN="AT Dancing":MAILTO:atdancing.uk@gmail.com
GEO:51.642436;-0.242858
X-APPLE-STRUCTURED-LOCATION;VALUE=URI;X-ADDRESS=The Pavilion The Pavilion Brickfield Lane London EN5 3LD United Kingdom;X-APPLE-RADIUS=500;X-TITLE=The Pavilion\, Brickfield Lane\,:geo:-0.242858,51.642436
END:VEVENT
BEGIN:VEVENT
DTSTART;TZID=Europe/London:20240514T190000
DTEND;TZID=Europe/London:20240514T210000
DTSTAMP:20260419T162658
CREATED:20240507T143910Z
LAST-MODIFIED:20240822T122921Z
UID:10001452-1715713200-1715720400@latin.social
SUMMARY:Pura Nights - Bachata Classes and Social
DESCRIPTION:⏰ 7pm \n📚 7pm Ladies Styling \n📚 7:30pm Bachata Fusion \n📚 8:15pm Bachata Moderna \n🪇 9pm Social \n😴 10:30pm Close \n💰 £10 for one class & party \n💰 £15 for two classes & party \n💰 £5 for party only \nPLEASE NOTE: cash payments are accepted at the door only! \nSTUDENT SPECIAL: You receive £5 off any class pass! Bring your valid NUS! Only £5 for one class & party | Only £10 for 2 classes & party
URL:https://latin.social/event/pura-nights-bachata-classes-and-social/2024-05-14/
LOCATION:The Rocket\, The Rocket\, 11-13 Churchfield Road\, London\, W3 6BD\, United Kingdom
CATEGORIES:Class,Social
ATTACH;FMTTYPE=image/jpeg:https://latin.social/wp-content/uploads/2024/05/Pura-Nights-Tuesdays.jpeg
ORGANIZER;CN="Melitta Siomos":MAILTO:siomosmelitta@gmail.com
GEO:51.508696;-0.263924
X-APPLE-STRUCTURED-LOCATION;VALUE=URI;X-ADDRESS=The Rocket The Rocket 11-13 Churchfield Road London W3 6BD United Kingdom;X-APPLE-RADIUS=500;X-TITLE=The Rocket\, 11-13 Churchfield Road:geo:-0.263924,51.508696
END:VEVENT
BEGIN:VEVENT
DTSTART;TZID=Europe/London:20240514T191500
DTEND;TZID=Europe/London:20240514T201500
DTSTAMP:20260419T162658
CREATED:20240418T161732Z
LAST-MODIFIED:20240507T121753Z
UID:10000035-1715714100-1715717700@latin.social
SUMMARY:DanceBuzz - Salsa Beginners
DESCRIPTION:Our beginners salsa classes are structured in progressive courses which means that you will be covering a syllabus of steps and routines each week for the duration of the salsa course\, making your learning curve continuous. This format allows you to learn the salsa steps and rhythm faster with our structured\, yet fun and effective teaching method.
URL:https://latin.social/event/dancebuzz-salsa-beginners/2024-05-14/
LOCATION:St Aloysius R.C. Church\, St Aloysius R.C. Church\, 20 Phoenix Rd\,\, London\, NW1 1TA\, United Kingdom
CATEGORIES:Class
ATTACH;FMTTYPE=image/png:https://latin.social/wp-content/uploads/2024/04/Dancebuzz.png
ORGANIZER;CN="DanceBuzz":MAILTO:hello@dancebuzz.co.uk
GEO:51.5300869;-0.1334929
X-APPLE-STRUCTURED-LOCATION;VALUE=URI;X-ADDRESS=St Aloysius R.C. Church St Aloysius R.C. Church 20 Phoenix Rd London NW1 1TA United Kingdom;X-APPLE-RADIUS=500;X-TITLE=St Aloysius R.C. Church\, 20 Phoenix Rd\,:geo:-0.1334929,51.5300869
END:VEVENT
BEGIN:VEVENT
DTSTART;TZID=Europe/London:20240514T193000
DTEND;TZID=Europe/London:20240514T220000
DTSTAMP:20260419T162658
CREATED:20240507T163350Z
LAST-MODIFIED:20240508T093923Z
UID:10001522-1715715000-1715724000@latin.social
SUMMARY:Pexava - Salsa Classes and Social
DESCRIPTION:⏰ 6:40pm \n📚 7:30pm Crossbody Salsa – Beginners and Improvers \n⏰ 8:30pm Break \n📚 9pm Crossbody Salsa – Intermediate and Advanced \n🪇 10pm Social/Practice \n😴 11pm Close \n💰 £10 for 1 lesson\, £15 for 2 lessons
URL:https://latin.social/event/pexava-salsa-classes-and-social/2024-05-14/
LOCATION:Navasartian Centre\, Navasartian Centre\, 223 Northfield Avenue\, London\, W13 9QU\, United Kingdom
CATEGORIES:Class
ATTACH;FMTTYPE=image/png:https://latin.social/wp-content/uploads/2024/04/Pexava.png
ORGANIZER;CN="Pexava":MAILTO:info@pexava.com
GEO:51.5002755;-0.3150072
X-APPLE-STRUCTURED-LOCATION;VALUE=URI;X-ADDRESS=Navasartian Centre Navasartian Centre 223 Northfield Avenue London W13 9QU United Kingdom;X-APPLE-RADIUS=500;X-TITLE=Navasartian Centre\, 223 Northfield Avenue:geo:-0.3150072,51.5002755
END:VEVENT
BEGIN:VEVENT
DTSTART;TZID=Europe/London:20240514T200000
DTEND;TZID=Europe/London:20240514T210000
DTSTAMP:20260419T162658
CREATED:20240430T161551Z
LAST-MODIFIED:20240506T134904Z
UID:10000579-1715716800-1715720400@latin.social
SUMMARY:Cali Beat – Cross-body Level 1
DESCRIPTION:Progressive cross-body salsa course. \n£40 per month (or £50 if the month has 5 weeks).
URL:https://latin.social/event/cali-beat-cross-body-level-1/2024-05-14/
LOCATION:Arts Educational Schools\, Arts Educational Schools\, Cone Ripman House\, 14 Bath Rd\, Chiswick\,\, London\, W4 1LY\, United Kingdom
CATEGORIES:Class
ATTACH;FMTTYPE=image/png:https://latin.social/wp-content/uploads/2024/04/CaliBeat.png
ORGANIZER;CN="CaliBeat Dance Co":MAILTO:info@calibeatdance.com
GEO:51.4959866;-0.2530531
X-APPLE-STRUCTURED-LOCATION;VALUE=URI;X-ADDRESS=Arts Educational Schools Arts Educational Schools Cone Ripman House 14 Bath Rd Chiswick London W4 1LY United Kingdom;X-APPLE-RADIUS=500;X-TITLE=Arts Educational Schools\, Cone Ripman House\, 14 Bath Rd\, Chiswick\,:geo:-0.2530531,51.4959866
END:VEVENT
END:VCALENDAR