BEGIN:VCALENDAR
VERSION:2.0
PRODID:-//Latin Social - ECPv6.8.2//NONSGML v1.0//EN
CALSCALE:GREGORIAN
METHOD:PUBLISH
X-ORIGINAL-URL:https://latin.social
X-WR-CALDESC:Events for Latin Social
REFRESH-INTERVAL;VALUE=DURATION:PT1H
X-Robots-Tag:noindex
X-PUBLISHED-TTL:PT1H
BEGIN:VTIMEZONE
TZID:Europe/London
BEGIN:DAYLIGHT
TZOFFSETFROM:+0000
TZOFFSETTO:+0100
TZNAME:BST
DTSTART:20240331T010000
END:DAYLIGHT
BEGIN:STANDARD
TZOFFSETFROM:+0100
TZOFFSETTO:+0000
TZNAME:GMT
DTSTART:20241027T010000
END:STANDARD
END:VTIMEZONE
BEGIN:VEVENT
DTSTART;TZID=Europe/London:20240524T183000
DTEND;TZID=Europe/London:20240524T194500
DTSTAMP:20260419T170647
CREATED:20240514T194634Z
LAST-MODIFIED:20240515T153819Z
UID:10001856-1716575400-1716579900@latin.social
SUMMARY:MS Dance  - Beginners Salsa (8 Weeks)
DESCRIPTION:Have you ever wanted to learn Salsa? …You came to the right place. \nIn our Salsa beginners course you will learn the basic steps and moves as well as the rhythm of the dance. \nThis is a progressive course and your knowledge and progression will be built from week to week. \nThere will be plenty of drilling to make you comfortable and confident with the steps and moves you are to learn. \nAnd on top of that you may even have some fun…after all dancing is about fun 🙂 \nThis course is suitable for both men and women\, no partner necessary.
URL:https://latin.social/event/ms-dance-beginners-salsa-8-weeks/2024-05-24/
LOCATION:YMCA (Ealing)\, YMCA\, 25 St Mary's Road\, London\, W5 5RE\, United Kingdom
CATEGORIES:Class
ATTACH;FMTTYPE=image/jpeg:https://latin.social/wp-content/uploads/2024/04/MSDance-logo.jpg
ORGANIZER;CN="MS Dance":MAILTO:info@msdance.co.uk
GEO:51.5070375;-0.3040958
X-APPLE-STRUCTURED-LOCATION;VALUE=URI;X-ADDRESS=YMCA (Ealing) YMCA 25 St Mary's Road London W5 5RE United Kingdom;X-APPLE-RADIUS=500;X-TITLE=YMCA\, 25 St Mary's Road:geo:-0.3040958,51.5070375
END:VEVENT
BEGIN:VEVENT
DTSTART;TZID=Europe/London:20240524T190000
DTEND;TZID=Europe/London:20240524T203000
DTSTAMP:20260419T170648
CREATED:20240430T140748Z
LAST-MODIFIED:20240506T135455Z
UID:10000259-1716577200-1716582600@latin.social
SUMMARY:AT Dancing - Salsa Ladies Styling Intermediate
DESCRIPTION:On-going Salsa Ladies Styling Intermediate class in Whetstone – Join to gain more confidence with your body movement and stylings! Learn small routines\, work on details! Sessions include isolation exercises\, armwork\, balance\, spin techniques and more. Come to get inspired! Each session is 1.5hr \nBook one off class or a 4 week course to maintain continuation in your learning. \nPlease pre-book your classes online or contact us to book your spot.
URL:https://latin.social/event/at-dancing-salsa-ladies-styling-intermediate/2024-05-24/
LOCATION:High Road\, Whetstone\, High Road\, Whetstone\, London\, N20 0PT\, United Kingdom
CATEGORIES:Class
ATTACH;FMTTYPE=image/jpeg:https://latin.social/wp-content/uploads/2024/04/ATDancing.jpg
ORGANIZER;CN="AT Dancing":MAILTO:atdancing.uk@gmail.com
GEO:51.6256214;-0.1759873
X-APPLE-STRUCTURED-LOCATION;VALUE=URI;X-ADDRESS=High Road Whetstone High Road Whetstone London N20 0PT United Kingdom;X-APPLE-RADIUS=500;X-TITLE=High Road\, Whetstone:geo:-0.1759873,51.6256214
END:VEVENT
BEGIN:VEVENT
DTSTART;TZID=Europe/London:20240524T190000
DTEND;TZID=Europe/London:20240524T210000
DTSTAMP:20260419T170648
CREATED:20240501T155111Z
LAST-MODIFIED:20240508T094559Z
UID:10000957-1716577200-1716584400@latin.social
SUMMARY:Salsateca - Salsa and Bachata
DESCRIPTION:⏰ 6:40pm \n📚 7pm Cross-body salsa – Beginners\, Improvers\, Intermediate \n📚 8pm Bachata – Beginners\, Improvers\, Intermediate \n🪇 9pm Free Social \n😴 11pm Close
URL:https://latin.social/event/salsateca-salsa-and-bachata-3/2024-05-24/
LOCATION:St Mary Moorfields\, St Mary Moorfields\, 4-5 Eldon St\,\, London\, EC2M 7LS\, United Kingdom
CATEGORIES:Class
ATTACH;FMTTYPE=image/jpeg:https://latin.social/wp-content/uploads/2024/04/Salsateca.jpg
ORGANIZER;CN="Salsateca":MAILTO:admin@salsateca.co.uk
GEO:51.5187492;-0.08568
X-APPLE-STRUCTURED-LOCATION;VALUE=URI;X-ADDRESS=St Mary Moorfields St Mary Moorfields 4-5 Eldon St London EC2M 7LS United Kingdom;X-APPLE-RADIUS=500;X-TITLE=St Mary Moorfields\, 4-5 Eldon St\,:geo:-0.08568,51.5187492
END:VEVENT
BEGIN:VEVENT
DTSTART;TZID=Europe/London:20240524T190000
DTEND;TZID=Europe/London:20240524T210000
DTSTAMP:20260419T170648
CREATED:20240501T155320Z
LAST-MODIFIED:20240508T094537Z
UID:10000983-1716577200-1716584400@latin.social
SUMMARY:Salsateca - Salsa and Bachata
DESCRIPTION:⏰ 6:40pm \n📚 7pm Cross-body salsa – Beginners\, Improvers\, Intermediate \n📚 8pm Bachata – Beginners\, Improvers\, Intermediate \n🪇 9pm Free Social \n😴 10:30pm Close \nNote: On the 2nd Friday of Every Month this event becomes a party called LATIN PARADISE until 12am. With guest DJs\, Instructors and shows.
URL:https://latin.social/event/salsateca-salsa-and-bachata-4/2024-05-24/
LOCATION:Crofton Halls\, Crofton Halls\, York Rise\,\, Orpington\, BR6 8PR\, United Kingdom
CATEGORIES:Class
ATTACH;FMTTYPE=image/jpeg:https://latin.social/wp-content/uploads/2024/04/Salsateca.jpg
ORGANIZER;CN="Salsateca":MAILTO:admin@salsateca.co.uk
GEO:51.3735151;0.087235
X-APPLE-STRUCTURED-LOCATION;VALUE=URI;X-ADDRESS=Crofton Halls Crofton Halls York Rise Orpington BR6 8PR United Kingdom;X-APPLE-RADIUS=500;X-TITLE=Crofton Halls\, York Rise\,:geo:0.087235,51.3735151
END:VEVENT
BEGIN:VEVENT
DTSTART;TZID=Europe/London:20240524T190000
DTEND;TZID=Europe/London:20240524T213000
DTSTAMP:20260419T170648
CREATED:20240430T153249Z
LAST-MODIFIED:20240508T094511Z
UID:10000475-1716577200-1716586200@latin.social
SUMMARY:Cali Swing - Monthly Beg/Imp/Int/Adv
DESCRIPTION:Room 2 \n⏰ 6:50pm Doors open \n📚 7pm Beginner footwork \n📚 8pm Beginner partnerwork \n😴 9pm Close \n  \nRoom 1 \n⏰ 6:20pm Doors open \n📚 6:30pm Improvers partnerwork \n📚 7:30pm Intermediate partnerwork \n📚 8:30pm Advanced partnerwork \n😴 9:30pm Close \nThis is a monthly progressive course. Drop-ins are not available.
URL:https://latin.social/event/cali-swing-monthly-beg-imp-int-adv/2024-05-24/
LOCATION:Mulberry Sports Centre\, Mulberry Sports Centre\, Richard Street\, London\, E1 2JR\, United Kingdom
CATEGORIES:Class
ATTACH;FMTTYPE=image/png:https://latin.social/wp-content/uploads/2024/04/CaliSwing.png
ORGANIZER;CN="Cali Swing Dance School":MAILTO:info@caliswinguk.com
GEO:51.5139955;-0.0595965
X-APPLE-STRUCTURED-LOCATION;VALUE=URI;X-ADDRESS=Mulberry Sports Centre Mulberry Sports Centre Richard Street London E1 2JR United Kingdom;X-APPLE-RADIUS=500;X-TITLE=Mulberry Sports Centre\, Richard Street:geo:-0.0595965,51.5139955
END:VEVENT
BEGIN:VEVENT
DTSTART;TZID=Europe/London:20240524T190000
DTEND;TZID=Europe/London:20240524T213000
DTSTAMP:20260419T170648
CREATED:20240507T115827Z
LAST-MODIFIED:20240508T091739Z
UID:10001169-1716577200-1716586200@latin.social
SUMMARY:Cubaneando - Cuban Salsa
DESCRIPTION:📚 7pm Cuban Salsa – Beginners 1\, Improvers 1\, Intermediates \n📚 8:15pm Cuban Salsa – Beginners 2\, Improvers 2\, Advanced \n🪇 9:30pm Social \n😴 3:30am Close \n£13 1 class + social\, £16 2 classes + social\, £10 social only
URL:https://latin.social/event/cubaneando-cuban-salsa-2/2024-05-24/
LOCATION:La Pollera Colora\, La Pollera Colora\, 4-6 London Bridge St\,\, London\, SE1 9SG\, United Kingdom
CATEGORIES:Class,Social
ATTACH;FMTTYPE=image/jpeg:https://latin.social/wp-content/uploads/2024/05/Cubaneando-1-e1715082514819.jpg
ORGANIZER;CN="Cubaneando":MAILTO:info@cubaneando.com
GEO:51.5054504;-0.0885496
X-APPLE-STRUCTURED-LOCATION;VALUE=URI;X-ADDRESS=La Pollera Colora La Pollera Colora 4-6 London Bridge St London SE1 9SG United Kingdom;X-APPLE-RADIUS=500;X-TITLE=La Pollera Colora\, 4-6 London Bridge St\,:geo:-0.0885496,51.5054504
END:VEVENT
BEGIN:VEVENT
DTSTART;TZID=Europe/London:20240524T190000
DTEND;TZID=Europe/London:20240525T030000
DTSTAMP:20260419T170648
CREATED:20240523T140413Z
LAST-MODIFIED:20240523T140413Z
UID:10002151-1716577200-1716606000@latin.social
SUMMARY:London Sensual Days - Bachata Influence Edition
DESCRIPTION:We are excited for our event happening on Friday\, Saturday and Sunday 24th\, 25th and 26th May 2024 \nWe’re thrilled to announce that our event will now take place at the incredible PARK PLAZA HOTEL VICTORIA LONDON: \nThis venue offers a spectacular atmosphere and an even better experience for everyone attending. Plus\, it’s our new partner for all London Sensual Days events! \nAn added bonus: PARK PLAZA HOTEL offers room bookings for our attendees. \nWe can’t wait to see you there! \n🚨📣 London Sensual Days with Melvin & Gatica and the top Bachata artists in the UK. 📣\nUse code JULIAN15 for 15% off! \nhttps://www.tickettailor.com/events/londonsensualdays/1156173 \n🌟 Event Info: \n🌟 DATE: \n🗓 FRIDAY 24th May 2024: \n⏰️ 7pm – 9pm PreParty Workshops \n🥳 9pm – 2am: Party in 2 Areas: \nArea 1: Modern / Fusion \nArea 2: Dominican \n🗓 SATURDAY 25th May 2024: \n⏰️ 12:00pm – 21:00pm: All Day Workshops \n🥳 21:00pm – 2:00am: Party in 2 Areas \nArea 1: Modern / Fusion / Dominican \nArea 2: Dominican / Dembow / Merengue \n🗓 SUNDAY 26th May 2024: \n⏰️ 12:00pm – 20:30pm: All Day Workshops \n🥳 21:00 – 2:00am: Party in 2 Areas \nArea 1: Modern / Fusion \nArea 2: Dominican – Santo Domingo \n🌟 Bachata Influence Edition brings you the creators of Bachata Influence methodology alongside some of the best dance teachers\, performers and dancers from the UK! \n✨️ MELVIN & GATICA
URL:https://latin.social/event/london-sensual-days-bachata-influence-edition/2024-05-24/
LOCATION:Park Plaza\, Park Plaza\, 239 Vauxhall Bridge Road\, London\, SW1V 1EQ\, United Kingdom
CATEGORIES:Class,Festival,Social,Workshop
ATTACH;FMTTYPE=image/jpeg:https://latin.social/wp-content/uploads/2024/05/London-Sensual-Days.jpeg
GEO:51.494317;-0.14132
X-APPLE-STRUCTURED-LOCATION;VALUE=URI;X-ADDRESS=Park Plaza Park Plaza 239 Vauxhall Bridge Road London SW1V 1EQ United Kingdom;X-APPLE-RADIUS=500;X-TITLE=Park Plaza\, 239 Vauxhall Bridge Road:geo:-0.14132,51.494317
END:VEVENT
BEGIN:VEVENT
DTSTART;TZID=Europe/London:20240524T193000
DTEND;TZID=Europe/London:20240525T000000
DTSTAMP:20260419T170648
CREATED:20240523T165616Z
LAST-MODIFIED:20240523T165616Z
UID:10002346-1716579000-1716595200@latin.social
SUMMARY:DansTime Friday
DESCRIPTION:📚 7:30pm Free Bachata Technique Class – Beginners\, Improvers/Intermediate \n📚 8pm Bachata Class – Beginners\, Improvers/Intermediate \n🪇 9pm Social \n😴 Midnight Close \n💰 £14 Class & Social\, £10 Social only
URL:https://latin.social/event/danstime-friday-3/
LOCATION:Nursery On The Green\, Nursery On The Green\, 65-67 High Street\, London\, SW19 2JF\, United Kingdom
CATEGORIES:Class,Social
ATTACH;FMTTYPE=image/jpeg:https://latin.social/wp-content/uploads/2024/05/Danstime.jpg
ORGANIZER;CN="Dans Time":MAILTO:Markdanstime@gmail.com
GEO:51.4196805;-0.1760974
X-APPLE-STRUCTURED-LOCATION;VALUE=URI;X-ADDRESS=Nursery On The Green Nursery On The Green 65-67 High Street London SW19 2JF United Kingdom;X-APPLE-RADIUS=500;X-TITLE=Nursery On The Green\, 65-67 High Street:geo:-0.1760974,51.4196805
END:VEVENT
BEGIN:VEVENT
DTSTART;TZID=Europe/London:20240524T194500
DTEND;TZID=Europe/London:20240524T234500
DTSTAMP:20260419T170648
CREATED:20240524T134331Z
LAST-MODIFIED:20240524T134331Z
UID:10002426-1716579900-1716594300@latin.social
SUMMARY:The Latin Collective - Bailando Cambridge Fridays
DESCRIPTION:⏰ 7:40pm \n📚 7:45pm Free Salsa Intro Class (Beginners). Free Shines Salsa Class (Improvers+) \n📚 8pm Crossbody Salsa (4 Levels) \n📚 8:50pm Crossbody Salsa (4 Levels)\, Urban Kiz \n🪇 9:40pm Social \n😴 11:45pm Close \n💰 £10 for classes and social\, £5 social only
URL:https://latin.social/event/the-latin-collective-bailando-cambridge-fridays/2024-05-24/
LOCATION:St Andrews Street Baptist Church\, St Andrews Street Baptist Church\, 40-43 St Andrew's Street\, Cambridge\, CB2 3AR\, United Kingdom
CATEGORIES:Class,Social
ATTACH;FMTTYPE=image/png:https://latin.social/wp-content/uploads/2024/05/Bailando-Fridays_Cambridge.png
ORGANIZER;CN="Latin Collective":MAILTO:info@latincollectiveuk.com
GEO:52.202697;0.1240327
X-APPLE-STRUCTURED-LOCATION;VALUE=URI;X-ADDRESS=St Andrews Street Baptist Church St Andrews Street Baptist Church 40-43 St Andrew's Street Cambridge CB2 3AR United Kingdom;X-APPLE-RADIUS=500;X-TITLE=St Andrews Street Baptist Church\, 40-43 St Andrew's Street:geo:0.1240327,52.202697
END:VEVENT
BEGIN:VEVENT
DTSTART;TZID=Europe/London:20240524T203000
DTEND;TZID=Europe/London:20240525T030000
DTSTAMP:20260419T170648
CREATED:20240523T163955Z
LAST-MODIFIED:20240523T164039Z
UID:10002320-1716582600-1716606000@latin.social
SUMMARY:RV Dance - I ❤️ Kizomba Fridays!
DESCRIPTION:⏰ 8pm \n📚 8:30pm Kizomba Classes – 3 Levels \n🪇 9:30pm Social \n😴 3am Close \n💰 £12 Classes and party\, £8 Party only (before 10pm)
URL:https://latin.social/event/rv-dance-i-love-kizomba-fridays/2024-05-24/
LOCATION:Bar Salsa! – Temple\, Bar Salsa!\, Temple Place\, London\, WC2R 2PH\, United Kingdom
CATEGORIES:Class,Social
ATTACH;FMTTYPE=image/jpeg:https://latin.social/wp-content/uploads/2024/05/I-Heart-Kizomba-Fridays.jpeg
ORGANIZER;CN="RV Dance":MAILTO:contact@rvdance.co.uk
GEO:51.511005;-0.114235
X-APPLE-STRUCTURED-LOCATION;VALUE=URI;X-ADDRESS=Bar Salsa! – Temple Bar Salsa! Temple Place London WC2R 2PH United Kingdom;X-APPLE-RADIUS=500;X-TITLE=Bar Salsa!\, Temple Place:geo:-0.114235,51.511005
END:VEVENT
END:VCALENDAR