BEGIN:VCALENDAR
VERSION:2.0
PRODID:-//Latin Social - ECPv6.8.2//NONSGML v1.0//EN
CALSCALE:GREGORIAN
METHOD:PUBLISH
X-WR-CALNAME:Latin Social
X-ORIGINAL-URL:https://latin.social
X-WR-CALDESC:Events for Latin Social
REFRESH-INTERVAL;VALUE=DURATION:PT1H
X-Robots-Tag:noindex
X-PUBLISHED-TTL:PT1H
BEGIN:VTIMEZONE
TZID:Europe/London
BEGIN:DAYLIGHT
TZOFFSETFROM:+0000
TZOFFSETTO:+0100
TZNAME:BST
DTSTART:20240331T010000
END:DAYLIGHT
BEGIN:STANDARD
TZOFFSETFROM:+0100
TZOFFSETTO:+0000
TZNAME:GMT
DTSTART:20241027T010000
END:STANDARD
END:VTIMEZONE
BEGIN:VEVENT
DTSTART;TZID=Europe/London:20240525T110000
DTEND;TZID=Europe/London:20240525T130000
DTSTAMP:20260419T151326
CREATED:20240517T230441Z
LAST-MODIFIED:20240517T230453Z
UID:10002040-1716634800-1716642000@latin.social
SUMMARY:Latin Groove - Bachata and Salsa by the River
DESCRIPTION:Experience Bachata and Salsa By The River this Bank Holiday Weekend! Beginner-friendly sessions led by our fab instructor. Join us! 💃🏽🕺🏼 \n📚 11am Bachata Class \n📚 12pm Salsa Class \n😴 1pm Close \n💰 £10 for 1 class\, £15 for 2 classes
URL:https://latin.social/event/latin-groove-bachata-and-salsa-by-the-river/
LOCATION:Battersea Reach\, Battersea Reach\, Baltimore House\, Juniper Drive\, London\, SW18 1TS\, United Kingdom
CATEGORIES:Class
ATTACH;FMTTYPE=image/jpeg:https://latin.social/wp-content/uploads/2024/04/LatinGroove.jpg
ORGANIZER;CN="Latin Groove Hub":MAILTO:info@latingroovehub.com
GEO:51.4640809;-0.184665
X-APPLE-STRUCTURED-LOCATION;VALUE=URI;X-ADDRESS=Battersea Reach Battersea Reach Baltimore House Juniper Drive London SW18 1TS United Kingdom;X-APPLE-RADIUS=500;X-TITLE=Battersea Reach\, Baltimore House\, Juniper Drive:geo:-0.184665,51.4640809
END:VEVENT
BEGIN:VEVENT
DTSTART;TZID=Europe/London:20240525T120000
DTEND;TZID=Europe/London:20240525T170000
DTSTAMP:20260419T151326
CREATED:20240510T154913Z
LAST-MODIFIED:20240510T154913Z
UID:10001836-1716638400-1716656400@latin.social
SUMMARY:Caramelo - 1 Day Intensive Salsa Beginners
DESCRIPTION:As a Salsa beginner you also have a powerful option to fast track the foundational steps and basic turn patterns by taking one of our 1-Day Intensive courses which are held on select Saturdays. \nThese are intensive 5-hour courses where you will master the content of the Beginner level that we typically teach over 4 weeks in our regular 4-week course format and will be able to jump straight into the Improver level of our 4-week courses for Salsa or Bachata respectively. \nWhether you are just starting out or want to try out what it’s all about\, this is a great option to learn the basics in just one day! \nNo prior dance experience required and no partner needed to attend. We rotate partners through the class so you will be able to dance with everyone. \n  \n⏰ 11:45am \n📚 12pm Course starts \n⏰ 2pm Break – bring some water and a snack\ \n📚 2:30pm Course continues \n🪇 4:30pm Social dancing and practice \n😴 5pm Close
URL:https://latin.social/event/caramelo-1-day-intensive-salsa-beginners/2024-05-25/
LOCATION:Paddington Academy\, Paddington Academy\, 50 Marylands Road\, London\, W9 2DR\, United Kingdom
CATEGORIES:Class
ATTACH;FMTTYPE=image/jpeg:https://latin.social/wp-content/uploads/2024/04/Caramelo.jpg
ORGANIZER;CN="Caramelo Latin Dance":MAILTO:info@caramelolatindance.co.uk
GEO:51.5252497;-0.1937846
X-APPLE-STRUCTURED-LOCATION;VALUE=URI;X-ADDRESS=Paddington Academy Paddington Academy 50 Marylands Road London W9 2DR United Kingdom;X-APPLE-RADIUS=500;X-TITLE=Paddington Academy\, 50 Marylands Road:geo:-0.1937846,51.5252497
END:VEVENT
BEGIN:VEVENT
DTSTART;TZID=Europe/London:20240525T120000
DTEND;TZID=Europe/London:20240525T170000
DTSTAMP:20260419T151326
CREATED:20240510T155112Z
LAST-MODIFIED:20240510T155112Z
UID:10001839-1716638400-1716656400@latin.social
SUMMARY:Caramelo - 1 Day Intensive Bachata Beginners
DESCRIPTION:As a Bachata beginner you also have a powerful option to fast track the foundational steps and basic turn patterns by taking one of our 1-Day Intensive courses which are held on select Saturdays. \nThese are intensive 5-hour courses where you will master the content of the Beginner level that we typically teach over 4 weeks in our regular 4-week course format and will be able to jump straight into the Improver level of our 4-week courses for Salsa or Bachata respectively. \nWhether you are just starting out or want to try out what it’s all about\, this is a great option to learn the basics in just one day! \nNo prior dance experience required and no partner needed to attend. We rotate partners through the class so you will be able to dance with everyone. \n  \n⏰ 11:45am \n📚 12pm Course starts \n⏰ 2pm Break – bring some water and a snack\ \n📚 2:30pm Course continues \n🪇 4:30pm Social dancing and practice \n😴 5pm Close
URL:https://latin.social/event/caramelo-1-day-intensive-bachata-beginners/2024-05-25/
LOCATION:Paddington Academy\, Paddington Academy\, 50 Marylands Road\, London\, W9 2DR\, United Kingdom
CATEGORIES:Class
ATTACH;FMTTYPE=image/jpeg:https://latin.social/wp-content/uploads/2024/04/Caramelo.jpg
ORGANIZER;CN="Caramelo Latin Dance":MAILTO:info@caramelolatindance.co.uk
GEO:51.5252497;-0.1937846
X-APPLE-STRUCTURED-LOCATION;VALUE=URI;X-ADDRESS=Paddington Academy Paddington Academy 50 Marylands Road London W9 2DR United Kingdom;X-APPLE-RADIUS=500;X-TITLE=Paddington Academy\, 50 Marylands Road:geo:-0.1937846,51.5252497
END:VEVENT
BEGIN:VEVENT
DTSTART;TZID=Europe/London:20240525T120000
DTEND;TZID=Europe/London:20240525T210000
DTSTAMP:20260419T151326
CREATED:20240523T140413Z
LAST-MODIFIED:20240523T140413Z
UID:10002152-1716638400-1716670800@latin.social
SUMMARY:London Sensual Days - Bachata Influence Edition
DESCRIPTION:We are excited for our event happening on Friday\, Saturday and Sunday 24th\, 25th and 26th May 2024 \nWe’re thrilled to announce that our event will now take place at the incredible PARK PLAZA HOTEL VICTORIA LONDON: \nThis venue offers a spectacular atmosphere and an even better experience for everyone attending. Plus\, it’s our new partner for all London Sensual Days events! \nAn added bonus: PARK PLAZA HOTEL offers room bookings for our attendees. \nWe can’t wait to see you there! \n🚨📣 London Sensual Days with Melvin & Gatica and the top Bachata artists in the UK. 📣\nUse code JULIAN15 for 15% off! \nhttps://www.tickettailor.com/events/londonsensualdays/1156173 \n🌟 Event Info: \n🌟 DATE: \n🗓 FRIDAY 24th May 2024: \n⏰️ 7pm – 9pm PreParty Workshops \n🥳 9pm – 2am: Party in 2 Areas: \nArea 1: Modern / Fusion \nArea 2: Dominican \n🗓 SATURDAY 25th May 2024: \n⏰️ 12:00pm – 21:00pm: All Day Workshops \n🥳 21:00pm – 2:00am: Party in 2 Areas \nArea 1: Modern / Fusion / Dominican \nArea 2: Dominican / Dembow / Merengue \n🗓 SUNDAY 26th May 2024: \n⏰️ 12:00pm – 20:30pm: All Day Workshops \n🥳 21:00 – 2:00am: Party in 2 Areas \nArea 1: Modern / Fusion \nArea 2: Dominican – Santo Domingo \n🌟 Bachata Influence Edition brings you the creators of Bachata Influence methodology alongside some of the best dance teachers\, performers and dancers from the UK! \n✨️ MELVIN & GATICA
URL:https://latin.social/event/london-sensual-days-bachata-influence-edition/2024-05-25/1/
LOCATION:Park Plaza\, Park Plaza\, 239 Vauxhall Bridge Road\, London\, SW1V 1EQ\, United Kingdom
CATEGORIES:Class,Festival,Social,Workshop
ATTACH;FMTTYPE=image/jpeg:https://latin.social/wp-content/uploads/2024/05/London-Sensual-Days.jpeg
GEO:51.494317;-0.14132
X-APPLE-STRUCTURED-LOCATION;VALUE=URI;X-ADDRESS=Park Plaza Park Plaza 239 Vauxhall Bridge Road London SW1V 1EQ United Kingdom;X-APPLE-RADIUS=500;X-TITLE=Park Plaza\, 239 Vauxhall Bridge Road:geo:-0.14132,51.494317
END:VEVENT
BEGIN:VEVENT
DTSTART;TZID=Europe/London:20240525T140000
DTEND;TZID=Europe/London:20240525T183000
DTSTAMP:20260419T151326
CREATED:20240501T144730Z
LAST-MODIFIED:20241017T145423Z
UID:10000807-1716645600-1716661800@latin.social
SUMMARY:Super Mario Social
DESCRIPTION:Daytime social in central London.  Bring a £1 coin to put your belongings in the lockers. \n3 Rooms to dance in: \n\nRoom 1: Salsa/Mambo/Cha Cha\nRoom 2: Salsa Romantica\nRoom 3: Mambo/Cha Cha
URL:https://latin.social/event/super-mario-social/2024-05-25/
LOCATION:YMCA (Tottenham Court Road)\, YMCA Club\, 112 Great Russell Street\,\, London\, WC1B 3NQ\, United Kingdom
CATEGORIES:Social
ATTACH;FMTTYPE=image/jpeg:https://latin.social/wp-content/uploads/2024/04/Super-Mario-e1714996072239.jpg
ORGANIZER;CN="Salsa4Fun":MAILTO:info@salsa4fun.co.uk
GEO:51.5174572;-0.1303356
X-APPLE-STRUCTURED-LOCATION;VALUE=URI;X-ADDRESS=YMCA (Tottenham Court Road) YMCA Club 112 Great Russell Street London WC1B 3NQ United Kingdom;X-APPLE-RADIUS=500;X-TITLE=YMCA Club\, 112 Great Russell Street\,:geo:-0.1303356,51.5174572
END:VEVENT
BEGIN:VEVENT
DTSTART;TZID=Europe/London:20240525T140000
DTEND;TZID=Europe/London:20240525T183000
DTSTAMP:20260419T151326
CREATED:20240523T141328Z
LAST-MODIFIED:20240727T120641Z
UID:10001939-1716645600-1716661800@latin.social
SUMMARY:Sizzling Summer Latin Dance Fiesta: Bachata & Salsa
DESCRIPTION: Get ready to groove in London! \n Whether you’re a Bachata enthusiast or a Salsa aficionado\, Estrella Dance invites you to move to the rhythm of Bachata and Salsa\, but only when there’s no rain and the temperature is a warm 15°C or above.Remember to check in before heading to the event. ⏰ Leisurely picnic in Hyde Park \n📚 2pm Free Dance Class \n🪇 3pm Free Social \n😴 6:30pm Close \nSee you under the open air dance!  \nCheck the Facebook link in case the event is cancelled due to bad weather.
URL:https://latin.social/event/sizzling-summer-latin-dance-fiesta-bachata-salsa/2024-05-25/
LOCATION:Hyde Park Bandstand\, Hyde Park Bandstand\, Hyde Park\, London\, W2 2UH\, United Kingdom
CATEGORIES:Social
ATTACH;FMTTYPE=image/jpeg:https://latin.social/wp-content/uploads/2024/05/Joyful-Jamboree.jpg
GEO:51.5050116;-0.1564583
X-APPLE-STRUCTURED-LOCATION;VALUE=URI;X-ADDRESS=Hyde Park Bandstand Hyde Park Bandstand Hyde Park London W2 2UH United Kingdom;X-APPLE-RADIUS=500;X-TITLE=Hyde Park Bandstand\, Hyde Park:geo:-0.1564583,51.5050116
END:VEVENT
BEGIN:VEVENT
DTSTART;TZID=Europe/London:20240525T140000
DTEND;TZID=Europe/London:20240525T190000
DTSTAMP:20260419T151326
CREATED:20240524T172232Z
LAST-MODIFIED:20240524T172232Z
UID:10002532-1716645600-1716663600@latin.social
SUMMARY:Bachata Under The Sun
DESCRIPTION:Saturday afternoon bachata social from 2pm – 7:00pm\nHyde Park\, @ Cavalry Statue (https://maps.app.goo.gl/eLtt8HwCSBLm4dwZA?g_st=ic) \nClosest entrance: Hyde Park Corner station\nPlease feel free to bring picnic blankets\, food\, drinks and friends
URL:https://latin.social/event/bachata-under-the-sun-2/
LOCATION:Hyde Park Bandstand\, Hyde Park Bandstand\, Hyde Park\, London\, W2 2UH\, United Kingdom
CATEGORIES:Social
ATTACH;FMTTYPE=image/jpeg:https://latin.social/wp-content/uploads/2024/05/Bachata-Under-The-Sun.jpg
GEO:51.5050116;-0.1564583
X-APPLE-STRUCTURED-LOCATION;VALUE=URI;X-ADDRESS=Hyde Park Bandstand Hyde Park Bandstand Hyde Park London W2 2UH United Kingdom;X-APPLE-RADIUS=500;X-TITLE=Hyde Park Bandstand\, Hyde Park:geo:-0.1564583,51.5050116
END:VEVENT
BEGIN:VEVENT
DTSTART;TZID=Europe/London:20240525T170000
DTEND;TZID=Europe/London:20240525T191500
DTSTAMP:20260419T151326
CREATED:20240507T120646Z
LAST-MODIFIED:20240508T093511Z
UID:10001194-1716656400-1716664500@latin.social
SUMMARY:Cubaneando - Structured Cuban Salsa
DESCRIPTION:⏰ 4:45pm \n📚 5pm Cuban Salsa – Beginners 1\, Improvers 1 \n📚 6:15pm Cuban Salsa – Beginners 2\, Improvers 2\, Intermediates 1 \n😴 7:15pm Close \n💰 £10 for 1 hour\, £15 for 2 hours\, multi-hour bundle prices available \nSign-up is mandatory\, contact via WhatsApp (+44 795 018 4131) to confirm your place.
URL:https://latin.social/event/cubaneando-structured-cuban-salsa/2024-05-25/
LOCATION:O2 Centre\,The Venue Hall\, O2 Centre\,The Venue Hall\, 255 Finchley Road\, London\, NW3 6LU\, United Kingdom
CATEGORIES:Class
ATTACH;FMTTYPE=image/jpeg:https://latin.social/wp-content/uploads/2024/05/Cubaneando-1-e1715082514819.jpg
ORGANIZER;CN="Cubaneando":MAILTO:info@cubaneando.com
GEO:51.5478286;-0.1814281
X-APPLE-STRUCTURED-LOCATION;VALUE=URI;X-ADDRESS=O2 CentreThe Venue Hall O2 CentreThe Venue Hall 255 Finchley Road London NW3 6LU United Kingdom;X-APPLE-RADIUS=500;X-TITLE=O2 Centre\,The Venue Hall\, 255 Finchley Road:geo:-0.1814281,51.5478286
END:VEVENT
BEGIN:VEVENT
DTSTART;TZID=Europe/London:20240525T170000
DTEND;TZID=Europe/London:20240525T210000
DTSTAMP:20260419T151326
CREATED:20240429T171807Z
LAST-MODIFIED:20240508T092916Z
UID:10000147-1716656400-1716670800@latin.social
SUMMARY:SATURDAY SUPER INTENSIVE CUBAN SON & SALSA WORKSHOPS
DESCRIPTION:⏰ 4:40pm \n📚 5pm Cuban Son Workshop \n📚 6pm Intensive 3 Hour Cuban Workshop \n😴 9pm Close
URL:https://latin.social/event/saturday-super-intensive-cuban-son-salsa-workshops/
LOCATION:Christ Church Southwark\, Christ Church Southwark\, 27 Blackfriars Rd\,\, London\, SE1 8NY\, United Kingdom
CATEGORIES:Workshop
ATTACH;FMTTYPE=image/jpeg:https://latin.social/wp-content/uploads/2024/04/Salsateca.jpg
ORGANIZER;CN="Salsateca":MAILTO:admin@salsateca.co.uk
GEO:51.5062543;-0.105126
X-APPLE-STRUCTURED-LOCATION;VALUE=URI;X-ADDRESS=Christ Church Southwark Christ Church Southwark 27 Blackfriars Rd London SE1 8NY United Kingdom;X-APPLE-RADIUS=500;X-TITLE=Christ Church Southwark\, 27 Blackfriars Rd\,:geo:-0.105126,51.5062543
END:VEVENT
BEGIN:VEVENT
DTSTART;TZID=Europe/London:20240525T180000
DTEND;TZID=Europe/London:20240525T210000
DTSTAMP:20260419T151326
CREATED:20240501T160320Z
LAST-MODIFIED:20240508T094403Z
UID:10001009-1716660000-1716670800@latin.social
SUMMARY:Salsateca - Intensive Cuban Salsa Workshop
DESCRIPTION:⏰ 5:40pm \n📚 6pm Intensive 3 Hour Cuban Workshop \n😴 9pm Close \nEvery other week this workshop becomes Super Intensive and we add 1 hour of Cuban Son from 5pm to 6pm. \nCheck the website to see which week is extended.
URL:https://latin.social/event/salsateca-intensive-cuban-salsa-workshop/2024-05-25/
LOCATION:Christ Church Southwark\, Christ Church Southwark\, 27 Blackfriars Rd\,\, London\, SE1 8NY\, United Kingdom
CATEGORIES:Class,Workshop
ATTACH;FMTTYPE=image/jpeg:https://latin.social/wp-content/uploads/2024/04/Salsateca.jpg
ORGANIZER;CN="Salsateca":MAILTO:admin@salsateca.co.uk
GEO:51.5062543;-0.105126
X-APPLE-STRUCTURED-LOCATION;VALUE=URI;X-ADDRESS=Christ Church Southwark Christ Church Southwark 27 Blackfriars Rd London SE1 8NY United Kingdom;X-APPLE-RADIUS=500;X-TITLE=Christ Church Southwark\, 27 Blackfriars Rd\,:geo:-0.105126,51.5062543
END:VEVENT
BEGIN:VEVENT
DTSTART;TZID=Europe/London:20240525T180000
DTEND;TZID=Europe/London:20240526T030000
DTSTAMP:20260419T151326
CREATED:20240515T163957Z
LAST-MODIFIED:20240515T163957Z
UID:10001930-1716660000-1716692400@latin.social
SUMMARY:BOS - Bachata On Saturday
DESCRIPTION:⏰ 6pm Doors open \n📚 6:15pm Bonus Ladies Styling Class – Kimberly Hoopes \n📚 7:30pm Dominican Fusion – 3 Levels \n📚 8:30pm Bachata Moderna/Sensual – 4 Levels with guest teachers from AK Bachata Academy \n🪇 9:30pm Social \n🪇 11pm Showtime \n😴 2am Close \n💰 3 Classes plus social £19\, Social only £15\, NUS discount available with ID \nID Mandatory
URL:https://latin.social/event/bos-bachata-on-saturday/
LOCATION:The Vault\, The Vault\, 300 Strand\,\, London\, WC2R 1AE\, United Kingdom
CATEGORIES:Class,Social
ATTACH;FMTTYPE=image/webp:https://latin.social/wp-content/uploads/2024/05/BOS.webp
GEO:51.5126561;-0.1167114
X-APPLE-STRUCTURED-LOCATION;VALUE=URI;X-ADDRESS=The Vault The Vault 300 Strand London WC2R 1AE United Kingdom;X-APPLE-RADIUS=500;X-TITLE=The Vault\, 300 Strand\,:geo:-0.1167114,51.5126561
END:VEVENT
BEGIN:VEVENT
DTSTART;TZID=Europe/London:20240525T193000
DTEND;TZID=Europe/London:20240526T000000
DTSTAMP:20260419T151326
CREATED:20240418T161734Z
LAST-MODIFIED:20240508T094929Z
UID:10000010-1716665400-1716681600@latin.social
SUMMARY:Incognito - Monthly Salsa and Bachata Party
DESCRIPTION:⏰ 7pm \n📚 7:30pm Bachata Classes (All levels) \n📚 8:30pm Salsa Classes (All levels) \n🪇 9:30pm Party \n😴 Midnight Close
URL:https://latin.social/event/incognito-monthly-salsa-and-bachata-party/2024-05-25/
LOCATION:The Dance Lab\, The Dance Lab\, 63 Upper Richmond Rd\,\, London\, SW15 2RD\, United Kingdom
CATEGORIES:Class,Social
ATTACH;FMTTYPE=image/jpeg:https://latin.social/wp-content/uploads/2024/04/Incognito.jpg
ORGANIZER;CN="Incognito Dance":MAILTO:info@incognitodance.com
GEO:51.4581144;-0.2083948
X-APPLE-STRUCTURED-LOCATION;VALUE=URI;X-ADDRESS=The Dance Lab The Dance Lab 63 Upper Richmond Rd London SW15 2RD United Kingdom;X-APPLE-RADIUS=500;X-TITLE=The Dance Lab\, 63 Upper Richmond Rd\,:geo:-0.2083948,51.4581144
END:VEVENT
BEGIN:VEVENT
DTSTART;TZID=Europe/London:20240525T200000
DTEND;TZID=Europe/London:20240526T020000
DTSTAMP:20260419T151326
CREATED:20240507T141858Z
LAST-MODIFIED:20240508T092850Z
UID:10001417-1716667200-1716688800@latin.social
SUMMARY:Mambo City Monthly Salsa Party
DESCRIPTION:⏰ 8pm \n📚 8:15pm Salsa classes – all levels \n🪇 9:30pm Party \n😴 2am Close \n💰 £15 on the door\, discount if you book online. Bring your own drinks.
URL:https://latin.social/event/mambo-city-monthly-salsa-party/
LOCATION:Marlborough Primary School\, Marlborough Primary School\, Draycott Ave\,\, London\, SW3 3AP\, United Kingdom
CATEGORIES:Class,Social
ATTACH;FMTTYPE=image/jpeg:https://latin.social/wp-content/uploads/2024/04/MamboCity.jpg
GEO:51.4928652;-0.165994
X-APPLE-STRUCTURED-LOCATION;VALUE=URI;X-ADDRESS=Marlborough Primary School Marlborough Primary School Draycott Ave London SW3 3AP United Kingdom;X-APPLE-RADIUS=500;X-TITLE=Marlborough Primary School\, Draycott Ave\,:geo:-0.165994,51.4928652
END:VEVENT
BEGIN:VEVENT
DTSTART;TZID=Europe/London:20240525T210000
DTEND;TZID=Europe/London:20240526T030000
DTSTAMP:20260419T151326
CREATED:20240523T140413Z
LAST-MODIFIED:20240523T140413Z
UID:10002153-1716670800-1716692400@latin.social
SUMMARY:London Sensual Days - Bachata Influence Edition
DESCRIPTION:We are excited for our event happening on Friday\, Saturday and Sunday 24th\, 25th and 26th May 2024 \nWe’re thrilled to announce that our event will now take place at the incredible PARK PLAZA HOTEL VICTORIA LONDON: \nThis venue offers a spectacular atmosphere and an even better experience for everyone attending. Plus\, it’s our new partner for all London Sensual Days events! \nAn added bonus: PARK PLAZA HOTEL offers room bookings for our attendees. \nWe can’t wait to see you there! \n🚨📣 London Sensual Days with Melvin & Gatica and the top Bachata artists in the UK. 📣\nUse code JULIAN15 for 15% off! \nhttps://www.tickettailor.com/events/londonsensualdays/1156173 \n🌟 Event Info: \n🌟 DATE: \n🗓 FRIDAY 24th May 2024: \n⏰️ 7pm – 9pm PreParty Workshops \n🥳 9pm – 2am: Party in 2 Areas: \nArea 1: Modern / Fusion \nArea 2: Dominican \n🗓 SATURDAY 25th May 2024: \n⏰️ 12:00pm – 21:00pm: All Day Workshops \n🥳 21:00pm – 2:00am: Party in 2 Areas \nArea 1: Modern / Fusion / Dominican \nArea 2: Dominican / Dembow / Merengue \n🗓 SUNDAY 26th May 2024: \n⏰️ 12:00pm – 20:30pm: All Day Workshops \n🥳 21:00 – 2:00am: Party in 2 Areas \nArea 1: Modern / Fusion \nArea 2: Dominican – Santo Domingo \n🌟 Bachata Influence Edition brings you the creators of Bachata Influence methodology alongside some of the best dance teachers\, performers and dancers from the UK! \n✨️ MELVIN & GATICA
URL:https://latin.social/event/london-sensual-days-bachata-influence-edition/2024-05-25/2/
LOCATION:Park Plaza\, Park Plaza\, 239 Vauxhall Bridge Road\, London\, SW1V 1EQ\, United Kingdom
CATEGORIES:Class,Festival,Social,Workshop
ATTACH;FMTTYPE=image/jpeg:https://latin.social/wp-content/uploads/2024/05/London-Sensual-Days.jpeg
GEO:51.494317;-0.14132
X-APPLE-STRUCTURED-LOCATION;VALUE=URI;X-ADDRESS=Park Plaza Park Plaza 239 Vauxhall Bridge Road London SW1V 1EQ United Kingdom;X-APPLE-RADIUS=500;X-TITLE=Park Plaza\, 239 Vauxhall Bridge Road:geo:-0.14132,51.494317
END:VEVENT
END:VCALENDAR