BEGIN:VCALENDAR
VERSION:2.0
PRODID:-//Latin Social - ECPv6.8.2//NONSGML v1.0//EN
CALSCALE:GREGORIAN
METHOD:PUBLISH
X-WR-CALNAME:Latin Social
X-ORIGINAL-URL:https://latin.social
X-WR-CALDESC:Events for Latin Social
REFRESH-INTERVAL;VALUE=DURATION:PT1H
X-Robots-Tag:noindex
X-PUBLISHED-TTL:PT1H
BEGIN:VTIMEZONE
TZID:Europe/London
BEGIN:DAYLIGHT
TZOFFSETFROM:+0000
TZOFFSETTO:+0100
TZNAME:BST
DTSTART:20240331T010000
END:DAYLIGHT
BEGIN:STANDARD
TZOFFSETFROM:+0100
TZOFFSETTO:+0000
TZNAME:GMT
DTSTART:20241027T010000
END:STANDARD
END:VTIMEZONE
BEGIN:VEVENT
DTSTART;TZID=Europe/London:20240526T120000
DTEND;TZID=Europe/London:20240526T210000
DTSTAMP:20260419T151417
CREATED:20240523T140413Z
LAST-MODIFIED:20240523T140413Z
UID:10002154-1716724800-1716757200@latin.social
SUMMARY:London Sensual Days - Bachata Influence Edition
DESCRIPTION:We are excited for our event happening on Friday\, Saturday and Sunday 24th\, 25th and 26th May 2024 \nWe’re thrilled to announce that our event will now take place at the incredible PARK PLAZA HOTEL VICTORIA LONDON: \nThis venue offers a spectacular atmosphere and an even better experience for everyone attending. Plus\, it’s our new partner for all London Sensual Days events! \nAn added bonus: PARK PLAZA HOTEL offers room bookings for our attendees. \nWe can’t wait to see you there! \n🚨📣 London Sensual Days with Melvin & Gatica and the top Bachata artists in the UK. 📣\nUse code JULIAN15 for 15% off! \nhttps://www.tickettailor.com/events/londonsensualdays/1156173 \n🌟 Event Info: \n🌟 DATE: \n🗓 FRIDAY 24th May 2024: \n⏰️ 7pm – 9pm PreParty Workshops \n🥳 9pm – 2am: Party in 2 Areas: \nArea 1: Modern / Fusion \nArea 2: Dominican \n🗓 SATURDAY 25th May 2024: \n⏰️ 12:00pm – 21:00pm: All Day Workshops \n🥳 21:00pm – 2:00am: Party in 2 Areas \nArea 1: Modern / Fusion / Dominican \nArea 2: Dominican / Dembow / Merengue \n🗓 SUNDAY 26th May 2024: \n⏰️ 12:00pm – 20:30pm: All Day Workshops \n🥳 21:00 – 2:00am: Party in 2 Areas \nArea 1: Modern / Fusion \nArea 2: Dominican – Santo Domingo \n🌟 Bachata Influence Edition brings you the creators of Bachata Influence methodology alongside some of the best dance teachers\, performers and dancers from the UK! \n✨️ MELVIN & GATICA
URL:https://latin.social/event/london-sensual-days-bachata-influence-edition/2024-05-26/1/
LOCATION:Park Plaza\, Park Plaza\, 239 Vauxhall Bridge Road\, London\, SW1V 1EQ\, United Kingdom
CATEGORIES:Class,Festival,Social,Workshop
ATTACH;FMTTYPE=image/jpeg:https://latin.social/wp-content/uploads/2024/05/London-Sensual-Days.jpeg
GEO:51.494317;-0.14132
X-APPLE-STRUCTURED-LOCATION;VALUE=URI;X-ADDRESS=Park Plaza Park Plaza 239 Vauxhall Bridge Road London SW1V 1EQ United Kingdom;X-APPLE-RADIUS=500;X-TITLE=Park Plaza\, 239 Vauxhall Bridge Road:geo:-0.14132,51.494317
END:VEVENT
BEGIN:VEVENT
DTSTART;TZID=Europe/London:20240526T140000
DTEND;TZID=Europe/London:20240527T020000
DTSTAMP:20260419T151417
CREATED:20240523T142158Z
LAST-MODIFIED:20240523T142158Z
UID:10002156-1716732000-1716775200@latin.social
SUMMARY:KIZ LDN Invites KIZZ Meetup Part II
DESCRIPTION:📚 2pm Urban Kiz Workshop with JayJay & Natalia \n📚 3:30pm Urban Kiz Workshop with Endos & Nienke \n🪇 5pm Free Social \n😴 2am Close \n💰 £20
URL:https://latin.social/event/kiz-ldn-invites-kizz-meetup-part-ii/
LOCATION:St Ethelburga’s Centre for Reconciliation and Peace\, 78 Bishopsgate\, London\, EC2N 4AG\, United Kingdom
CATEGORIES:Class,Social
ATTACH;FMTTYPE=image/jpeg:https://latin.social/wp-content/uploads/2024/05/KIZ-LDN-Kizz-Meetup.jpg
ORGANIZER;CN="KIZ LDN":MAILTO:contact@kizldn.com
GEO:51.5154655;-0.0819124
X-APPLE-STRUCTURED-LOCATION;VALUE=URI;X-ADDRESS=St Ethelburga’s Centre for Reconciliation and Peace 78 Bishopsgate London EC2N 4AG United Kingdom;X-APPLE-RADIUS=500;X-TITLE=78 Bishopsgate:geo:-0.0819124,51.5154655
END:VEVENT
BEGIN:VEVENT
DTSTART;TZID=Europe/London:20240526T160000
DTEND;TZID=Europe/London:20240526T180000
DTSTAMP:20260419T151417
CREATED:20240515T161524Z
LAST-MODIFIED:20240515T161524Z
UID:10001928-1716739200-1716746400@latin.social
SUMMARY:Sanura Dance - Queer Salsa Cali Style Workshop - Improvers
DESCRIPTION:In our workshops you learn to LEAD & FOLLOW! \n🌈 Elevate your salsa game with our QUEER Salsa Cali Style workshop for improver dancers! 🌟 \nJoin us for an immersive dance experience tailored for those looking to refine their skills and take their salsa moves to the next level. Guided by our seasoned instructors\, this workshop delves deep into the nuances of Cali-style salsa\, offering techniques\, style pointers\, and dynamic routines suitable for your level of expertise. \nWhether you’re looking to sharpen your footwork\, enhance your partner connection\, or add flair to your styling\, this workshop provides the perfect opportunity to expand your dance repertoire in a supportive and inclusive environment. Connect with like-minded dancers within the FLINTA & LGBTQ+ community and unleash your creativity on the dance floor. \nDon’t miss out on this chance to refine your salsa technique and connect with fellow dancers who share your passion! Register now to secure your spot and get ready to elevate your salsa skills to new heights! 💃🕺
URL:https://latin.social/event/sanura-dance-queer-salsa-cali-style-workshop-improvers/
LOCATION:Academy Mews Studios\, Academy Mews Studios\, 15 Pratt Mews\, London\, NW1 0AD\, United Kingdom
CATEGORIES:Workshop
ATTACH;FMTTYPE=image/png:https://latin.social/wp-content/uploads/2024/05/Queer-Salsa-Workshop.png
ORGANIZER;CN="Sanura Dance":MAILTO:info@sanuradance.com
GEO:51.5371893;-0.1405343
X-APPLE-STRUCTURED-LOCATION;VALUE=URI;X-ADDRESS=Academy Mews Studios Academy Mews Studios 15 Pratt Mews London NW1 0AD United Kingdom;X-APPLE-RADIUS=500;X-TITLE=Academy Mews Studios\, 15 Pratt Mews:geo:-0.1405343,51.5371893
END:VEVENT
BEGIN:VEVENT
DTSTART;TZID=Europe/London:20240526T170000
DTEND;TZID=Europe/London:20240526T230000
DTSTAMP:20260419T151417
CREATED:20240430T144055Z
LAST-MODIFIED:20241103T232208Z
UID:10000363-1716742800-1716764400@latin.social
SUMMARY:Bachata Exchange
DESCRIPTION:Dance outdoors at the most popular weekly bachata event in the UK! \n📚 5pm Bachata Class – All levels \n🪇 6pm Social \n😴 11pm Close \n💰 Free! (Donations encouraged) \nPlease leave bags in the designated area at the side\, but note that you do so at your own risk.  This is a publicly accessible space and the organisers cannot not take any responsibility for loss or theft. \nThe site is alcohol free\, but please bring soft-drinks.  Water bottles can be refilled from the public fountain in Exchange Square. \nThe nearest public toilets are at Liverpool Street Station. \nWe aim to make the event as safe and welcoming as possible\, but if you have any concerns on the night\, please speak to someone at the DJ desk\, or one of the volunteers wearing an armband. \n 
URL:https://latin.social/event/bachata-exchange/2024-05-26/
LOCATION:Exchange House\, Exchange House\, 12 Primrose Street\, London\, EC2A 2EG\, United Kingdom
CATEGORIES:Class,Social
ATTACH;FMTTYPE=image/png:https://latin.social/wp-content/uploads/2024/04/BachataExchange.png
GEO:51.5204008;-0.080911
X-APPLE-STRUCTURED-LOCATION;VALUE=URI;X-ADDRESS=Exchange House Exchange House 12 Primrose Street London EC2A 2EG United Kingdom;X-APPLE-RADIUS=500;X-TITLE=Exchange House\, 12 Primrose Street:geo:-0.080911,51.5204008
END:VEVENT
BEGIN:VEVENT
DTSTART;TZID=Europe/London:20240526T170000
DTEND;TZID=Europe/London:20240526T230000
DTSTAMP:20260419T151417
CREATED:20240514T201112Z
LAST-MODIFIED:20240625T180026Z
UID:10001866-1716742800-1716764400@latin.social
SUMMARY:Cuban Sundays at Juju's Bar and Stage
DESCRIPTION:Sambroso Sambroso is bringing you London’s most famous Cuban get together\, Every week at Juju’s Bar & Stage! Join us for an exclusive six hours of the best Cuban music with the amazing DJ Javier La Maquina De Cuba\, delicious cocktails and dancing! But before the party you need to learn the moves innit? \nThe talented Maikel Mota will be providing dance classes every week! \n📚 5pm Cuban Salsa Class by Maikel Mota \n🪇 6pm Social \n😴 11pm Close \n💰 Class and social £12\, Social only £10 (including a drink) \nTable bookings are available on the Juju’s Bar & Stage website. \nWe accept large and VERY large bookings \nThis is an 18+ event \nYou can book online or pay on the door.
URL:https://latin.social/event/cuban-sundays-at-jujus-bar-and-stage/2024-05-26/
LOCATION:Juju’s Bar and Stage\, Juju's Bar and Stage\, Ely's Yard\, 15 Hanbury Street\, London\, E1 6QR\, United Kingdom
CATEGORIES:Class,Social
ATTACH;FMTTYPE=image/png:https://latin.social/wp-content/uploads/2024/04/SambrosoSambroso.png
ORGANIZER;CN="Sambroso Sambroso":MAILTO:info@sambroso-sambroso.com
GEO:51.5205128;-0.0736106
X-APPLE-STRUCTURED-LOCATION;VALUE=URI;X-ADDRESS=Juju’s Bar and Stage Juju's Bar and Stage Ely's Yard 15 Hanbury Street London E1 6QR United Kingdom;X-APPLE-RADIUS=500;X-TITLE=Juju's Bar and Stage\, Ely's Yard\, 15 Hanbury Street:geo:-0.0736106,51.5205128
END:VEVENT
BEGIN:VEVENT
DTSTART;TZID=Europe/London:20240526T180000
DTEND;TZID=Europe/London:20240526T200000
DTSTAMP:20260419T151417
CREATED:20240501T160513Z
LAST-MODIFIED:20240508T094137Z
UID:10001035-1716746400-1716753600@latin.social
SUMMARY:Salsateca - Salsa and Bachata
DESCRIPTION:⏰ 5:40pm \n📚 6pm Cross-body salsa – Beginners\, Improvers\, Intermediate \n📚 7pm Bachata – Beginners\, Improvers\, Intermediate \n🪇 8pm Free Social \n😴 9pm Close
URL:https://latin.social/event/salsateca-salsa-and-bachata-5/2024-05-26/
LOCATION:Siobhan Davies Studios\, Siobhan Davies Studios\, 85 St George's Rd\,\, London\, SE1 6ER\, United Kingdom
CATEGORIES:Class
ATTACH;FMTTYPE=image/jpeg:https://latin.social/wp-content/uploads/2024/04/Salsateca.jpg
ORGANIZER;CN="Salsateca":MAILTO:admin@salsateca.co.uk
GEO:51.4960929;-0.1052934
X-APPLE-STRUCTURED-LOCATION;VALUE=URI;X-ADDRESS=Siobhan Davies Studios Siobhan Davies Studios 85 St George's Rd London SE1 6ER United Kingdom;X-APPLE-RADIUS=500;X-TITLE=Siobhan Davies Studios\, 85 St George's Rd\,:geo:-0.1052934,51.4960929
END:VEVENT
BEGIN:VEVENT
DTSTART;TZID=Europe/London:20240526T190000
DTEND;TZID=Europe/London:20240526T230000
DTSTAMP:20260419T151417
CREATED:20240501T143645Z
LAST-MODIFIED:20241123T140524Z
UID:10000784-1716750000-1716764400@latin.social
SUMMARY:SOS - Salsa on Sunday
DESCRIPTION:Classes from 7:00pm-8:00pm\, all levels. \nSocial from 8:00pm-11:00pm. \n£10 on the door or in advance\n£8 – Door Only! (Students with NUS\, NHS\, Police\, Fire\, Ambulance – Must show ID at the door) \n 
URL:https://latin.social/event/sos-salsa-on-sunday/2024-05-26/
LOCATION:Cecil Sharp House\, Cecil Sharp House\, 2 Regent's Park Rd\,\, London\, NW1 7AY\, United Kingdom
CATEGORIES:Class,Social
ATTACH;FMTTYPE=image/jpeg:https://latin.social/wp-content/uploads/2024/04/SOS.jpg
GEO:51.5381546;-0.1493065
X-APPLE-STRUCTURED-LOCATION;VALUE=URI;X-ADDRESS=Cecil Sharp House Cecil Sharp House 2 Regent's Park Rd London NW1 7AY United Kingdom;X-APPLE-RADIUS=500;X-TITLE=Cecil Sharp House\, 2 Regent's Park Rd\,:geo:-0.1493065,51.5381546
END:VEVENT
BEGIN:VEVENT
DTSTART;TZID=Europe/London:20240526T210000
DTEND;TZID=Europe/London:20240527T030000
DTSTAMP:20260419T151417
CREATED:20240523T140413Z
LAST-MODIFIED:20240523T140413Z
UID:10002155-1716757200-1716778800@latin.social
SUMMARY:London Sensual Days - Bachata Influence Edition
DESCRIPTION:We are excited for our event happening on Friday\, Saturday and Sunday 24th\, 25th and 26th May 2024 \nWe’re thrilled to announce that our event will now take place at the incredible PARK PLAZA HOTEL VICTORIA LONDON: \nThis venue offers a spectacular atmosphere and an even better experience for everyone attending. Plus\, it’s our new partner for all London Sensual Days events! \nAn added bonus: PARK PLAZA HOTEL offers room bookings for our attendees. \nWe can’t wait to see you there! \n🚨📣 London Sensual Days with Melvin & Gatica and the top Bachata artists in the UK. 📣\nUse code JULIAN15 for 15% off! \nhttps://www.tickettailor.com/events/londonsensualdays/1156173 \n🌟 Event Info: \n🌟 DATE: \n🗓 FRIDAY 24th May 2024: \n⏰️ 7pm – 9pm PreParty Workshops \n🥳 9pm – 2am: Party in 2 Areas: \nArea 1: Modern / Fusion \nArea 2: Dominican \n🗓 SATURDAY 25th May 2024: \n⏰️ 12:00pm – 21:00pm: All Day Workshops \n🥳 21:00pm – 2:00am: Party in 2 Areas \nArea 1: Modern / Fusion / Dominican \nArea 2: Dominican / Dembow / Merengue \n🗓 SUNDAY 26th May 2024: \n⏰️ 12:00pm – 20:30pm: All Day Workshops \n🥳 21:00 – 2:00am: Party in 2 Areas \nArea 1: Modern / Fusion \nArea 2: Dominican – Santo Domingo \n🌟 Bachata Influence Edition brings you the creators of Bachata Influence methodology alongside some of the best dance teachers\, performers and dancers from the UK! \n✨️ MELVIN & GATICA
URL:https://latin.social/event/london-sensual-days-bachata-influence-edition/2024-05-26/2/
LOCATION:Park Plaza\, Park Plaza\, 239 Vauxhall Bridge Road\, London\, SW1V 1EQ\, United Kingdom
CATEGORIES:Class,Festival,Social,Workshop
ATTACH;FMTTYPE=image/jpeg:https://latin.social/wp-content/uploads/2024/05/London-Sensual-Days.jpeg
GEO:51.494317;-0.14132
X-APPLE-STRUCTURED-LOCATION;VALUE=URI;X-ADDRESS=Park Plaza Park Plaza 239 Vauxhall Bridge Road London SW1V 1EQ United Kingdom;X-APPLE-RADIUS=500;X-TITLE=Park Plaza\, 239 Vauxhall Bridge Road:geo:-0.14132,51.494317
END:VEVENT
END:VCALENDAR