BEGIN:VCALENDAR
VERSION:2.0
PRODID:-//Latin Social - ECPv6.8.2//NONSGML v1.0//EN
CALSCALE:GREGORIAN
METHOD:PUBLISH
X-ORIGINAL-URL:https://latin.social
X-WR-CALDESC:Events for Latin Social
REFRESH-INTERVAL;VALUE=DURATION:PT1H
X-Robots-Tag:noindex
X-PUBLISHED-TTL:PT1H
BEGIN:VTIMEZONE
TZID:Europe/London
BEGIN:DAYLIGHT
TZOFFSETFROM:+0000
TZOFFSETTO:+0100
TZNAME:BST
DTSTART:20240331T010000
END:DAYLIGHT
BEGIN:STANDARD
TZOFFSETFROM:+0100
TZOFFSETTO:+0000
TZNAME:GMT
DTSTART:20241027T010000
END:STANDARD
END:VTIMEZONE
BEGIN:VEVENT
DTSTART;TZID=Europe/London:20240527T160000
DTEND;TZID=Europe/London:20240528T010000
DTSTAMP:20260419T162640
CREATED:20240524T134531Z
LAST-MODIFIED:20240527T091701Z
UID:10002348-1716825600-1716858000@latin.social
SUMMARY:The Latin Collective - Fuego Monday Bank Holiday Special
DESCRIPTION:⏰ 4pm Free social and “clinic” answering all your questions \n📚 5pm 2 Hours of Salsa\, Bachata\, On2\, Cha Cha\, and Zouk Workshops (See schedule below) \n⏰ 6:55pm Break \n📚 7:10pm Free Salsa Intro Class \n📚 Room 1: 7:30pm 2 Hours of Crossbody Salsa (3 Levels)\, Salsa On2 (2 Levels)\, Bachata (3 Levels) \n📚 Room 2: 7:30pm 2 Hours of Brazilian Zouk (2 Levels) \n🪇 9:30pm Social \n😴 1am Close \n  \n💰 £22 for Full Pass (£18 NUS) \n💰 Evening Only: £8 for 1 Class (£6 NUS)\, £12 for 2 Classes (£8 NUS)
URL:https://latin.social/event/the-latin-collective-fuego-mondays-2/
LOCATION:Bar Salsa! – Temple\, Bar Salsa!\, Temple Place\, London\, WC2R 2PH\, United Kingdom
CATEGORIES:Class,Social,Workshop
ATTACH;FMTTYPE=image/jpeg:https://latin.social/wp-content/uploads/2024/05/BH-Mon27thMay24-e1716801412398.jpg
ORGANIZER;CN="Latin Collective":MAILTO:info@latincollectiveuk.com
GEO:51.511005;-0.114235
X-APPLE-STRUCTURED-LOCATION;VALUE=URI;X-ADDRESS=Bar Salsa! – Temple Bar Salsa! Temple Place London WC2R 2PH United Kingdom;X-APPLE-RADIUS=500;X-TITLE=Bar Salsa!\, Temple Place:geo:-0.114235,51.511005
END:VEVENT
BEGIN:VEVENT
DTSTART;TZID=Europe/London:20240527T190000
DTEND;TZID=Europe/London:20240527T200000
DTSTAMP:20260419T162640
CREATED:20240430T161125Z
LAST-MODIFIED:20240506T135007Z
UID:10000503-1716836400-1716840000@latin.social
SUMMARY:Cali Beat - Cross-body Level 2
DESCRIPTION:Progressive cross-body salsa course. \n£40 per month (or £50 if the month has 5 weeks).
URL:https://latin.social/event/cali-beat-cross-body-level-2/2024-05-27/
LOCATION:Arts Educational Schools\, Arts Educational Schools\, Cone Ripman House\, 14 Bath Rd\, Chiswick\,\, London\, W4 1LY\, United Kingdom
CATEGORIES:Class
ATTACH;FMTTYPE=image/png:https://latin.social/wp-content/uploads/2024/04/CaliBeat.png
ORGANIZER;CN="CaliBeat Dance Co":MAILTO:info@calibeatdance.com
GEO:51.4959866;-0.2530531
X-APPLE-STRUCTURED-LOCATION;VALUE=URI;X-ADDRESS=Arts Educational Schools Arts Educational Schools Cone Ripman House 14 Bath Rd Chiswick London W4 1LY United Kingdom;X-APPLE-RADIUS=500;X-TITLE=Arts Educational Schools\, Cone Ripman House\, 14 Bath Rd\, Chiswick\,:geo:-0.2530531,51.4959866
END:VEVENT
BEGIN:VEVENT
DTSTART;TZID=Europe/London:20240527T190000
DTEND;TZID=Europe/London:20240527T210000
DTSTAMP:20260419T162640
CREATED:20240501T153704Z
LAST-MODIFIED:20240508T094112Z
UID:10000826-1716836400-1716843600@latin.social
SUMMARY:Salsateca - Salsa and Bachata
DESCRIPTION:⏰ 6:40pm \n📚 7pm Cross-body salsa – Beginners\, Improvers\, Intermediate \n📚 8pm Bachata – Beginners\, Improvers\, Intermediate \n🪇 9pm Free Social \n😴 10pm Close
URL:https://latin.social/event/salsateca-salsa-and-bachata/2024-05-27/
LOCATION:Haberdasher’s Borough Academy Sports Centre\, Haberdasher's Borough Academy Sports Centre\, King's Ct\,\, London\, SE1 0BU\, United Kingdom
CATEGORIES:Class
ATTACH;FMTTYPE=image/jpeg:https://latin.social/wp-content/uploads/2024/04/Salsateca.jpg
ORGANIZER;CN="Salsateca":MAILTO:admin@salsateca.co.uk
GEO:51.5015593;-0.0995307
X-APPLE-STRUCTURED-LOCATION;VALUE=URI;X-ADDRESS=Haberdasher’s Borough Academy Sports Centre Haberdasher's Borough Academy Sports Centre King's Ct London SE1 0BU United Kingdom;X-APPLE-RADIUS=500;X-TITLE=Haberdasher's Borough Academy Sports Centre\, King's Ct\,:geo:-0.0995307,51.5015593
END:VEVENT
BEGIN:VEVENT
DTSTART;TZID=Europe/London:20240527T190000
DTEND;TZID=Europe/London:20240527T210000
DTSTAMP:20260419T162640
CREATED:20240508T172531Z
LAST-MODIFIED:20240508T172531Z
UID:10001719-1716836400-1716843600@latin.social
SUMMARY:Super Mario - Monday Drop-In Salsa
DESCRIPTION:📚 6:30pm Assessment for students joining Weds/Thurs progressive courses \n📚 7pm Cross-body salsa – Beginners 1\, Improvers 1\, Advanced \n📚 8pm Cross-body salsa – Beginners 2\, Improvers 2\, Intermediate \n🪇 9pm Social \n😴 2am Close \n💰 £6 for 1 class\, £10 for 2 classes
URL:https://latin.social/event/super-mario-monday-drop-in-salsa/2024-05-27/
LOCATION:Bar Salsa! – Soho\, Bar Salsa! - Soho\, 96 Charing Cross Road\, London\, WC2H 0JG\, United Kingdom
CATEGORIES:Class,Social
ATTACH;FMTTYPE=image/jpeg:https://latin.social/wp-content/uploads/2024/05/Salsa4Fun-Mondays.jpeg
ORGANIZER;CN="Salsa4Fun":MAILTO:info@salsa4fun.co.uk
GEO:51.5139929;-0.129356
X-APPLE-STRUCTURED-LOCATION;VALUE=URI;X-ADDRESS=Bar Salsa! – Soho Bar Salsa! - Soho 96 Charing Cross Road London WC2H 0JG United Kingdom;X-APPLE-RADIUS=500;X-TITLE=Bar Salsa! - Soho\, 96 Charing Cross Road:geo:-0.129356,51.5139929
END:VEVENT
BEGIN:VEVENT
DTSTART;TZID=Europe/London:20240527T190000
DTEND;TZID=Europe/London:20240527T230000
DTSTAMP:20260419T162640
CREATED:20240527T163457Z
LAST-MODIFIED:20240527T164021Z
UID:10002725-1716836400-1716850800@latin.social
SUMMARY:Bachata Flow Party
DESCRIPTION:Bank Holiday Bachata Party! \n🪇 7pm Free Social \n😴 Late Close \n💰 £8\, or £14 for 2 people
URL:https://latin.social/event/bachata-flow-party/
LOCATION:Be At One – Regent Street\, Be At One\, 10 Beak Street\, London\, W1F 9RD\, United Kingdom
CATEGORIES:Social
ATTACH;FMTTYPE=image/jpeg:https://latin.social/wp-content/uploads/2024/05/Bachata-Flow-e1716828015623.jpeg
ORGANIZER;CN="London Bachata Academy":MAILTO:biskichata1@gmail.com
GEO:51.5118693;-0.1384912
X-APPLE-STRUCTURED-LOCATION;VALUE=URI;X-ADDRESS=Be At One – Regent Street Be At One 10 Beak Street London W1F 9RD United Kingdom;X-APPLE-RADIUS=500;X-TITLE=Be At One\, 10 Beak Street:geo:-0.1384912,51.5118693
END:VEVENT
BEGIN:VEVENT
DTSTART;TZID=Europe/London:20240527T191500
DTEND;TZID=Europe/London:20240527T210000
DTSTAMP:20260419T162640
CREATED:20240507T143506Z
LAST-MODIFIED:20240718T144708Z
UID:10001427-1716837300-1716843600@latin.social
SUMMARY:Pura Nights - Salsa and Bachata Classes & Social
DESCRIPTION:⏰ 7:15pm \n📚 7:30pm Cross-body salsa – 2-3 Levels \n📚 8:15pm Bachata – 2-3 Levels \n🪇 9pm Social \n😴 11pm Close \n💰 £10 for one class & party \n💰 £15 for two classes & party \n💰 £5 for party only \nPLEASE NOTE: cash payments are accepted at the door only! \nSTUDENT SPECIAL: You receive £5 off any class pass! Bring your valid NUS! Only £5 for one class & party | Only £10 for 2 classes & party
URL:https://latin.social/event/pura-nights-salsa-and-bachata-classes-social/2024-05-27/
LOCATION:The George VI\, The George VI\, 185 Chiswick High Road\, London\, W4 2DR\, United Kingdom
CATEGORIES:Class,Social
ATTACH;FMTTYPE=image/jpeg:https://latin.social/wp-content/uploads/2024/05/Pura-Nights-Mondays-e1716306148221.jpg
ORGANIZER;CN="Melitta Siomos":MAILTO:siomosmelitta@gmail.com
GEO:51.4922866;-0.2569831
X-APPLE-STRUCTURED-LOCATION;VALUE=URI;X-ADDRESS=The George VI The George VI 185 Chiswick High Road London W4 2DR United Kingdom;X-APPLE-RADIUS=500;X-TITLE=The George VI\, 185 Chiswick High Road:geo:-0.2569831,51.4922866
END:VEVENT
BEGIN:VEVENT
DTSTART;TZID=Europe/London:20240527T193000
DTEND;TZID=Europe/London:20240527T213000
DTSTAMP:20260419T162640
CREATED:20240508T104201Z
LAST-MODIFIED:20240508T104201Z
UID:10001558-1716838200-1716845400@latin.social
SUMMARY:La Escuela de Bachata - Bachata Classes and Social
DESCRIPTION:⏰ 7pm \n📚 7:30pm Bachata Sensual – Beginners\, Improvers\, Intermediate\, Advanced \n📚 8:30pm Bachata Moderna – Beginners\, Improvers\, Intermediate\, Advanced \n🪇 9:30pm Social \n😴 11pm Close \n💰 1 class £9 (students/ NHS £7) \n💰 2 classes £12 (students/ NHS £10) \n💰 Social £3
URL:https://latin.social/event/la-escuela-de-bachata-bachata-classes-and-social/2024-05-27/
LOCATION:Brighthelm Centre\, Brighthelm Centre\, North Road\, Brighton\, BN1 1YD\, United Kingdom
CATEGORIES:Class,Social
ATTACH;FMTTYPE=image/png:https://latin.social/wp-content/uploads/2024/04/EscuelaDeBachata.png
ORGANIZER;CN="La Escuela de Bachata":MAILTO:laescueladebachata@gmail.com
GEO:50.8258864;-0.1419405
X-APPLE-STRUCTURED-LOCATION;VALUE=URI;X-ADDRESS=Brighthelm Centre Brighthelm Centre North Road Brighton BN1 1YD United Kingdom;X-APPLE-RADIUS=500;X-TITLE=Brighthelm Centre\, North Road:geo:-0.1419405,50.8258864
END:VEVENT
BEGIN:VEVENT
DTSTART;TZID=Europe/London:20240527T193000
DTEND;TZID=Europe/London:20240527T213000
DTSTAMP:20260419T162640
CREATED:20240523T154301Z
LAST-MODIFIED:20240523T154342Z
UID:10002157-1716838200-1716845400@latin.social
SUMMARY:FK Dance - Cuban Influence Classes
DESCRIPTION:📚 7:30pm Cuban salsa – Beginners\, Intermediate \n📚 8:30pm Cuban Salsa – Improvers\, Advanced \n😴 9:30pm Close \n💰 £10 for 1 class\, £15 for 2 classes
URL:https://latin.social/event/fk-dance-cuban-influence-classes/2024-05-27/
LOCATION:Haverstock School\, Haverstock School\, 24 Haverstock Hill\, London\, NW3 2BQ\, United Kingdom
CATEGORIES:Class
ATTACH;FMTTYPE=image/png:https://latin.social/wp-content/uploads/2024/04/FKDance.png
ORGANIZER;CN="Fadi K Dance Academy":MAILTO:info@fkdance.com
GEO:51.5451542;-0.1539639
X-APPLE-STRUCTURED-LOCATION;VALUE=URI;X-ADDRESS=Haverstock School Haverstock School 24 Haverstock Hill London NW3 2BQ United Kingdom;X-APPLE-RADIUS=500;X-TITLE=Haverstock School\, 24 Haverstock Hill:geo:-0.1539639,51.5451542
END:VEVENT
BEGIN:VEVENT
DTSTART;TZID=Europe/London:20240527T193000
DTEND;TZID=Europe/London:20240527T230000
DTSTAMP:20260419T162640
CREATED:20240507T131513Z
LAST-MODIFIED:20240805T170014Z
UID:10001306-1716838200-1716850800@latin.social
SUMMARY:Incognito - Bachata and Salsa
DESCRIPTION:⏰ 7:00pm \n📚 7:30pm Bachata Classes – All Levels \n📚 8:45pm Salsa Classes – All Levels \n🪇 9:45pm Social \n😴 11pm Close \n💰 £14 for Both Classes + Club Entry \n💰 £5 Club Only Entry
URL:https://latin.social/event/incognito-bachata-and-salsa-2/2024-05-27/
LOCATION:Wimbledon Salsa and Bachata Club\, Wimbledon Salsa & Bachata Club\, 44 St George's Rd\,\, London\, SW19 4ED\, United Kingdom
CATEGORIES:Class,Social
ATTACH;FMTTYPE=image/jpeg:https://latin.social/wp-content/uploads/2024/04/Incognito.jpg
ORGANIZER;CN="Incognito Dance":MAILTO:info@incognitodance.com
GEO:51.4197387;-0.2103977
X-APPLE-STRUCTURED-LOCATION;VALUE=URI;X-ADDRESS=Wimbledon Salsa and Bachata Club Wimbledon Salsa & Bachata Club 44 St George's Rd London SW19 4ED United Kingdom;X-APPLE-RADIUS=500;X-TITLE=Wimbledon Salsa & Bachata Club\, 44 St George's Rd\,:geo:-0.2103977,51.4197387
END:VEVENT
BEGIN:VEVENT
DTSTART;TZID=Europe/London:20240527T200000
DTEND;TZID=Europe/London:20240527T210000
DTSTAMP:20260419T162640
CREATED:20240430T161258Z
LAST-MODIFIED:20240506T134934Z
UID:10000529-1716840000-1716843600@latin.social
SUMMARY:Cali Beat - Cali Mixed Level
DESCRIPTION:Progressive Cali style salsa course. \n£40 per month (or £50 if the month has 5 weeks).
URL:https://latin.social/event/cali-beat-cali-mixed-level/2024-05-27/
LOCATION:Arts Educational Schools\, Arts Educational Schools\, Cone Ripman House\, 14 Bath Rd\, Chiswick\,\, London\, W4 1LY\, United Kingdom
CATEGORIES:Class
ATTACH;FMTTYPE=image/png:https://latin.social/wp-content/uploads/2024/04/CaliBeat.png
ORGANIZER;CN="CaliBeat Dance Co":MAILTO:info@calibeatdance.com
GEO:51.4959866;-0.2530531
X-APPLE-STRUCTURED-LOCATION;VALUE=URI;X-ADDRESS=Arts Educational Schools Arts Educational Schools Cone Ripman House 14 Bath Rd Chiswick London W4 1LY United Kingdom;X-APPLE-RADIUS=500;X-TITLE=Arts Educational Schools\, Cone Ripman House\, 14 Bath Rd\, Chiswick\,:geo:-0.2530531,51.4959866
END:VEVENT
END:VCALENDAR