BEGIN:VCALENDAR
VERSION:2.0
PRODID:-//Latin Social - ECPv6.8.2//NONSGML v1.0//EN
CALSCALE:GREGORIAN
METHOD:PUBLISH
X-ORIGINAL-URL:https://latin.social
X-WR-CALDESC:Events for Latin Social
REFRESH-INTERVAL;VALUE=DURATION:PT1H
X-Robots-Tag:noindex
X-PUBLISHED-TTL:PT1H
BEGIN:VTIMEZONE
TZID:Europe/London
BEGIN:DAYLIGHT
TZOFFSETFROM:+0000
TZOFFSETTO:+0100
TZNAME:BST
DTSTART:20240331T010000
END:DAYLIGHT
BEGIN:STANDARD
TZOFFSETFROM:+0100
TZOFFSETTO:+0000
TZNAME:GMT
DTSTART:20241027T010000
END:STANDARD
END:VTIMEZONE
BEGIN:VEVENT
DTSTART;TZID=Europe/London:20240608T140000
DTEND;TZID=Europe/London:20240608T183000
DTSTAMP:20260419T230230
CREATED:20240501T144730Z
LAST-MODIFIED:20241017T145423Z
UID:10000808-1717855200-1717871400@latin.social
SUMMARY:Super Mario Social
DESCRIPTION:Daytime social in central London.  Bring a £1 coin to put your belongings in the lockers. \n3 Rooms to dance in: \n\nRoom 1: Salsa/Mambo/Cha Cha\nRoom 2: Salsa Romantica\nRoom 3: Mambo/Cha Cha
URL:https://latin.social/event/super-mario-social/2024-06-08/
LOCATION:YMCA (Tottenham Court Road)\, YMCA Club\, 112 Great Russell Street\,\, London\, WC1B 3NQ\, United Kingdom
CATEGORIES:Social
ATTACH;FMTTYPE=image/jpeg:https://latin.social/wp-content/uploads/2024/04/Super-Mario-e1714996072239.jpg
ORGANIZER;CN="Salsa4Fun":MAILTO:info@salsa4fun.co.uk
GEO:51.5174572;-0.1303356
X-APPLE-STRUCTURED-LOCATION;VALUE=URI;X-ADDRESS=YMCA (Tottenham Court Road) YMCA Club 112 Great Russell Street London WC1B 3NQ United Kingdom;X-APPLE-RADIUS=500;X-TITLE=YMCA Club\, 112 Great Russell Street\,:geo:-0.1303356,51.5174572
END:VEVENT
BEGIN:VEVENT
DTSTART;TZID=Europe/London:20240608T140000
DTEND;TZID=Europe/London:20240608T183000
DTSTAMP:20260419T230230
CREATED:20240523T141328Z
LAST-MODIFIED:20240727T120641Z
UID:10001941-1717855200-1717871400@latin.social
SUMMARY:Sizzling Summer Latin Dance Fiesta: Bachata & Salsa
DESCRIPTION: Get ready to groove in London! \n Whether you’re a Bachata enthusiast or a Salsa aficionado\, Estrella Dance invites you to move to the rhythm of Bachata and Salsa\, but only when there’s no rain and the temperature is a warm 15°C or above.Remember to check in before heading to the event. ⏰ Leisurely picnic in Hyde Park \n📚 2pm Free Dance Class \n🪇 3pm Free Social \n😴 6:30pm Close \nSee you under the open air dance!  \nCheck the Facebook link in case the event is cancelled due to bad weather.
URL:https://latin.social/event/sizzling-summer-latin-dance-fiesta-bachata-salsa/2024-06-08/
LOCATION:Hyde Park Bandstand\, Hyde Park Bandstand\, Hyde Park\, London\, W2 2UH\, United Kingdom
CATEGORIES:Social
ATTACH;FMTTYPE=image/jpeg:https://latin.social/wp-content/uploads/2024/05/Joyful-Jamboree.jpg
GEO:51.5050116;-0.1564583
X-APPLE-STRUCTURED-LOCATION;VALUE=URI;X-ADDRESS=Hyde Park Bandstand Hyde Park Bandstand Hyde Park London W2 2UH United Kingdom;X-APPLE-RADIUS=500;X-TITLE=Hyde Park Bandstand\, Hyde Park:geo:-0.1564583,51.5050116
END:VEVENT
BEGIN:VEVENT
DTSTART;TZID=Europe/London:20240608T143000
DTEND;TZID=Europe/London:20240608T153000
DTSTAMP:20260419T230230
CREATED:20240507T122311Z
LAST-MODIFIED:20240507T122311Z
UID:10001229-1717857000-1717860600@latin.social
SUMMARY:DanceBuzz - Salsa Beginners
DESCRIPTION:Our beginners salsa classes are structured in progressive courses which means that you will be covering a syllabus of steps and routines each week for the duration of the salsa course\, making your learning curve continuous. This format allows you to learn the salsa steps and rhythm faster with our structured\, yet fun and effective teaching method.
URL:https://latin.social/event/dancebuzz-salsa-beginners-4/2024-06-08/
LOCATION:The Abbey Centre\, The Abbey Centre\, 34 Great Smith St\,\, London\, SW1P 3BU\, United Kingdom
CATEGORIES:Class
ATTACH;FMTTYPE=image/png:https://latin.social/wp-content/uploads/2024/04/Dancebuzz.png
ORGANIZER;CN="DanceBuzz":MAILTO:hello@dancebuzz.co.uk
GEO:51.4975281;-0.1298045
X-APPLE-STRUCTURED-LOCATION;VALUE=URI;X-ADDRESS=The Abbey Centre The Abbey Centre 34 Great Smith St London SW1P 3BU United Kingdom;X-APPLE-RADIUS=500;X-TITLE=The Abbey Centre\, 34 Great Smith St\,:geo:-0.1298045,51.4975281
END:VEVENT
BEGIN:VEVENT
DTSTART;TZID=Europe/London:20240608T143000
DTEND;TZID=Europe/London:20240608T153000
DTSTAMP:20260419T230230
CREATED:20240507T123653Z
LAST-MODIFIED:20240507T123730Z
UID:10001273-1717857000-1717860600@latin.social
SUMMARY:DanceBuzz - Salsa Improvers
DESCRIPTION:Our Improver Salsa classes program follows straight from the Level 1 Beginners Salsa courses. It is split into a number of progressive courses running throughout the year\, allowing you to get exposed to a large number of moves and variations and improve on your leading\, following\, rhythm and balance. \nYou are expected to complete four to six Level 2 courses before progressing to Level 3 – Intermediate Salsa.
URL:https://latin.social/event/dancebuzz-salsa-improvers-4/2024-06-08/
LOCATION:The Abbey Centre\, The Abbey Centre\, 34 Great Smith St\,\, London\, SW1P 3BU\, United Kingdom
CATEGORIES:Class
ATTACH;FMTTYPE=image/png:https://latin.social/wp-content/uploads/2024/04/Dancebuzz.png
ORGANIZER;CN="DanceBuzz":MAILTO:hello@dancebuzz.co.uk
GEO:51.4975281;-0.1298045
X-APPLE-STRUCTURED-LOCATION;VALUE=URI;X-ADDRESS=The Abbey Centre The Abbey Centre 34 Great Smith St London SW1P 3BU United Kingdom;X-APPLE-RADIUS=500;X-TITLE=The Abbey Centre\, 34 Great Smith St\,:geo:-0.1298045,51.4975281
END:VEVENT
BEGIN:VEVENT
DTSTART;TZID=Europe/London:20240608T143000
DTEND;TZID=Europe/London:20240608T153000
DTSTAMP:20260419T230230
CREATED:20240507T124227Z
LAST-MODIFIED:20240507T124227Z
UID:10001292-1717857000-1717860600@latin.social
SUMMARY:DanceBuzz - Salsa Intermediate
DESCRIPTION:Our Level 3 Salsa classes are for those with a minimum of nine to twelve months of regular class attendance of our course programs or elsewhere. \nAt this stage\, leaders should be comfortable with rhythm and picking up routines and will be working on smoothening their signals for the followers as well as and adding more style and flair to their dancing. \nFor the followers\, this would be the time to work on styling\, lightness\, and elegance as well as responding to the leading accurately and without disturbing the flow of the dance.
URL:https://latin.social/event/dancebuzz-salsa-intermediate-2/2024-06-08/
LOCATION:The Abbey Centre\, The Abbey Centre\, 34 Great Smith St\,\, London\, SW1P 3BU\, United Kingdom
CATEGORIES:Class
ATTACH;FMTTYPE=image/png:https://latin.social/wp-content/uploads/2024/04/Dancebuzz.png
ORGANIZER;CN="DanceBuzz":MAILTO:hello@dancebuzz.co.uk
GEO:51.4975281;-0.1298045
X-APPLE-STRUCTURED-LOCATION;VALUE=URI;X-ADDRESS=The Abbey Centre The Abbey Centre 34 Great Smith St London SW1P 3BU United Kingdom;X-APPLE-RADIUS=500;X-TITLE=The Abbey Centre\, 34 Great Smith St\,:geo:-0.1298045,51.4975281
END:VEVENT
BEGIN:VEVENT
DTSTART;TZID=Europe/London:20240608T150000
DTEND;TZID=Europe/London:20240608T200000
DTSTAMP:20260419T230230
CREATED:20240605T151703Z
LAST-MODIFIED:20240605T151703Z
UID:10002856-1717858800-1717876800@latin.social
SUMMARY:Under The Sun Bachata Picnic
DESCRIPTION:Saturday afternoon bachata social from 3pm – 8pm\nHyde Park\, @ Cavalry Statue (https://maps.app.goo.gl/eLtt8HwCSBLm4dwZA?g_st=ic) \nClosest entrance: Hyde Park Corner station\nPlease feel free to bring picnic blankets\, food\, drinks and friends
URL:https://latin.social/event/under-the-sun-bachata-picnic/
LOCATION:Hyde Park Bandstand\, Hyde Park Bandstand\, Hyde Park\, London\, W2 2UH\, United Kingdom
CATEGORIES:Social
ATTACH;FMTTYPE=image/jpeg:https://latin.social/wp-content/uploads/2024/06/UnderTheSun.jpg
GEO:51.5050116;-0.1564583
X-APPLE-STRUCTURED-LOCATION;VALUE=URI;X-ADDRESS=Hyde Park Bandstand Hyde Park Bandstand Hyde Park London W2 2UH United Kingdom;X-APPLE-RADIUS=500;X-TITLE=Hyde Park Bandstand\, Hyde Park:geo:-0.1564583,51.5050116
END:VEVENT
BEGIN:VEVENT
DTSTART;TZID=Europe/London:20240608T170000
DTEND;TZID=Europe/London:20240608T191500
DTSTAMP:20260419T230230
CREATED:20240507T120646Z
LAST-MODIFIED:20240508T093511Z
UID:10001196-1717866000-1717874100@latin.social
SUMMARY:Cubaneando - Structured Cuban Salsa
DESCRIPTION:⏰ 4:45pm \n📚 5pm Cuban Salsa – Beginners 1\, Improvers 1 \n📚 6:15pm Cuban Salsa – Beginners 2\, Improvers 2\, Intermediates 1 \n😴 7:15pm Close \n💰 £10 for 1 hour\, £15 for 2 hours\, multi-hour bundle prices available \nSign-up is mandatory\, contact via WhatsApp (+44 795 018 4131) to confirm your place.
URL:https://latin.social/event/cubaneando-structured-cuban-salsa/2024-06-08/
LOCATION:O2 Centre\,The Venue Hall\, O2 Centre\,The Venue Hall\, 255 Finchley Road\, London\, NW3 6LU\, United Kingdom
CATEGORIES:Class
ATTACH;FMTTYPE=image/jpeg:https://latin.social/wp-content/uploads/2024/05/Cubaneando-1-e1715082514819.jpg
ORGANIZER;CN="Cubaneando":MAILTO:info@cubaneando.com
GEO:51.5478286;-0.1814281
X-APPLE-STRUCTURED-LOCATION;VALUE=URI;X-ADDRESS=O2 CentreThe Venue Hall O2 CentreThe Venue Hall 255 Finchley Road London NW3 6LU United Kingdom;X-APPLE-RADIUS=500;X-TITLE=O2 Centre\,The Venue Hall\, 255 Finchley Road:geo:-0.1814281,51.5478286
END:VEVENT
BEGIN:VEVENT
DTSTART;TZID=Europe/London:20240608T180000
DTEND;TZID=Europe/London:20240608T210000
DTSTAMP:20260419T230230
CREATED:20240501T160320Z
LAST-MODIFIED:20240508T094403Z
UID:10001011-1717869600-1717880400@latin.social
SUMMARY:Salsateca - Intensive Cuban Salsa Workshop
DESCRIPTION:⏰ 5:40pm \n📚 6pm Intensive 3 Hour Cuban Workshop \n😴 9pm Close \nEvery other week this workshop becomes Super Intensive and we add 1 hour of Cuban Son from 5pm to 6pm. \nCheck the website to see which week is extended.
URL:https://latin.social/event/salsateca-intensive-cuban-salsa-workshop/2024-06-08/
LOCATION:Christ Church Southwark\, Christ Church Southwark\, 27 Blackfriars Rd\,\, London\, SE1 8NY\, United Kingdom
CATEGORIES:Class,Workshop
ATTACH;FMTTYPE=image/jpeg:https://latin.social/wp-content/uploads/2024/04/Salsateca.jpg
ORGANIZER;CN="Salsateca":MAILTO:admin@salsateca.co.uk
GEO:51.5062543;-0.105126
X-APPLE-STRUCTURED-LOCATION;VALUE=URI;X-ADDRESS=Christ Church Southwark Christ Church Southwark 27 Blackfriars Rd London SE1 8NY United Kingdom;X-APPLE-RADIUS=500;X-TITLE=Christ Church Southwark\, 27 Blackfriars Rd\,:geo:-0.105126,51.5062543
END:VEVENT
BEGIN:VEVENT
DTSTART;TZID=Europe/London:20240608T180000
DTEND;TZID=Europe/London:20240609T020000
DTSTAMP:20260419T230230
CREATED:20240529T180757Z
LAST-MODIFIED:20240529T180757Z
UID:10002804-1717869600-1717898400@latin.social
SUMMARY:A2B Birthday Fiesta
DESCRIPTION:🔥🔥 Let’s goooooo!! 🥁🥁 Our next huge social event at A2B Bachata Academy primed and ready to go with innovative conceptual workshops and non stop energy right through til 02:00am with UK renowned DJ @alex_chino_dragon 🎧 \nGet the Fullpass ASAP as it’s super limited 🎟️ \n~ Workshop descriptions… \n• Playing with the tempo 🎼 Musical focus by Ash & Leni \nIn this 2hr intensive bachata workshop we’re going to help leaders break free from their shackles of habit\, we aim to have you able to effectively changing the speed and energy within any and all of your already existing movements appropriately with musical elements\, hereby sparking creativity. We’re going to bring a heavy focus during this class on the deeper understanding of tension between the leader and follower then using this properly to control the tempo within your dance. Finally a crucial section on body movement control “speed” which is absolutely vital to correctly apply the above. \n• ManStyle/LadyStyle workshop topped off with a battle!🔥 \nIn this super not to be missed unique 1hr class by @aryanykimberly \, @aryan.bachata and @kimberly.hoopes is a specially structured solo lesson for all dancers “both leads & follows” full focus goes on style\, energy\, the quality of movements and finally attitude. \nThis will all be topped and concluded by a super crazy fun and engaging styling battle at the end of the workshop which I urge you to participate in. \nSpecial guest dancers in attendance!! 🕺💃🎊 \nAs always we have a long line of awesome guest dancers making a show on the night ensuring the usual electric vibes and the best social dancing experience you could ask! \n• EVENT SCHEDULE 👇 \nManStyle/LadyStyle finished off with a battle\nby @aryanykimberly : 18:00 – 19:00 🕖 \nPlaying with the tempo\n& musical focus by Ash & Leni 19:00 – 21:00 🕘 \nSocial dancing all evening\nwith DJ @alex_chino_dragon 21:00 – 02:00 🕑 \n🅿️ FREE PARKING\n🍻 BAR ON SITE
URL:https://latin.social/event/a2b-birthday-fiesta/
LOCATION:McGovern Park\, McGovern Park\, South Ruislip\, Ruislip\, HA4 6QX\, United Kingdom
CATEGORIES:Class,Social
ATTACH;FMTTYPE=image/jpeg:https://latin.social/wp-content/uploads/2024/05/A2B-Bachata-Fiesta-June.jpg
ORGANIZER;CN="A2B Bachata Academy":MAILTO:A2B.bachata@gmail.com
GEO:51.5499887;-0.3995858
X-APPLE-STRUCTURED-LOCATION;VALUE=URI;X-ADDRESS=McGovern Park McGovern Park South Ruislip Ruislip HA4 6QX United Kingdom;X-APPLE-RADIUS=500;X-TITLE=McGovern Park\, South Ruislip:geo:-0.3995858,51.5499887
END:VEVENT
BEGIN:VEVENT
DTSTART;TZID=Europe/London:20240608T180000
DTEND;TZID=Europe/London:20240609T030000
DTSTAMP:20260419T230230
CREATED:20240605T154207Z
LAST-MODIFIED:20240605T154207Z
UID:10002861-1717869600-1717902000@latin.social
SUMMARY:BOS - Bachata on Saturday - Tropical Edition
DESCRIPTION:Wear something Tropical! \n⏰ 6pm Doors open \n📚 6:15pm Bonus Ladies Styling Class with Thalia Padilla \n📚 7:30pm Dominican Fusion – 3 Levels \n📚 8:30pm Bachata Moderna/Sensual – 4 Levels with guest teachers Biskit and Paola \n🪇 9:30pm Social \n🪇 11pm Showtime (Pao Pao Army) \n😴 3am Close \n💰 3 Classes plus social £19\, Social only £15\, NUS discount available with ID \nID Mandatory
URL:https://latin.social/event/bos-bachata-on-saturday-tropical-edition/
LOCATION:The Vault\, The Vault\, 300 Strand\,\, London\, WC2R 1AE\, United Kingdom
CATEGORIES:Class,Social
ATTACH;FMTTYPE=image/webp:https://latin.social/wp-content/uploads/2024/06/2024-06-08-BOS.webp
GEO:51.5126561;-0.1167114
X-APPLE-STRUCTURED-LOCATION;VALUE=URI;X-ADDRESS=The Vault The Vault 300 Strand London WC2R 1AE United Kingdom;X-APPLE-RADIUS=500;X-TITLE=The Vault\, 300 Strand\,:geo:-0.1167114,51.5126561
END:VEVENT
END:VCALENDAR