BEGIN:VCALENDAR
VERSION:2.0
PRODID:-//Latin Social - ECPv6.8.2//NONSGML v1.0//EN
CALSCALE:GREGORIAN
METHOD:PUBLISH
X-ORIGINAL-URL:https://latin.social
X-WR-CALDESC:Events for Latin Social
REFRESH-INTERVAL;VALUE=DURATION:PT1H
X-Robots-Tag:noindex
X-PUBLISHED-TTL:PT1H
BEGIN:VTIMEZONE
TZID:Europe/London
BEGIN:DAYLIGHT
TZOFFSETFROM:+0000
TZOFFSETTO:+0100
TZNAME:BST
DTSTART:20240331T010000
END:DAYLIGHT
BEGIN:STANDARD
TZOFFSETFROM:+0100
TZOFFSETTO:+0000
TZNAME:GMT
DTSTART:20241027T010000
END:STANDARD
END:VTIMEZONE
BEGIN:VEVENT
DTSTART;TZID=Europe/London:20240614T190000
DTEND;TZID=Europe/London:20240614T203000
DTSTAMP:20260419T153916
CREATED:20240430T140748Z
LAST-MODIFIED:20240506T135455Z
UID:10000262-1718391600-1718397000@latin.social
SUMMARY:AT Dancing - Salsa Ladies Styling Intermediate
DESCRIPTION:On-going Salsa Ladies Styling Intermediate class in Whetstone – Join to gain more confidence with your body movement and stylings! Learn small routines\, work on details! Sessions include isolation exercises\, armwork\, balance\, spin techniques and more. Come to get inspired! Each session is 1.5hr \nBook one off class or a 4 week course to maintain continuation in your learning. \nPlease pre-book your classes online or contact us to book your spot.
URL:https://latin.social/event/at-dancing-salsa-ladies-styling-intermediate/2024-06-14/
LOCATION:High Road\, Whetstone\, High Road\, Whetstone\, London\, N20 0PT\, United Kingdom
CATEGORIES:Class
ATTACH;FMTTYPE=image/jpeg:https://latin.social/wp-content/uploads/2024/04/ATDancing.jpg
ORGANIZER;CN="AT Dancing":MAILTO:atdancing.uk@gmail.com
GEO:51.6256214;-0.1759873
X-APPLE-STRUCTURED-LOCATION;VALUE=URI;X-ADDRESS=High Road Whetstone High Road Whetstone London N20 0PT United Kingdom;X-APPLE-RADIUS=500;X-TITLE=High Road\, Whetstone:geo:-0.1759873,51.6256214
END:VEVENT
BEGIN:VEVENT
DTSTART;TZID=Europe/London:20240614T190000
DTEND;TZID=Europe/London:20240614T210000
DTSTAMP:20260419T153916
CREATED:20240501T155111Z
LAST-MODIFIED:20240508T094559Z
UID:10000960-1718391600-1718398800@latin.social
SUMMARY:Salsateca - Salsa and Bachata
DESCRIPTION:⏰ 6:40pm \n📚 7pm Cross-body salsa – Beginners\, Improvers\, Intermediate \n📚 8pm Bachata – Beginners\, Improvers\, Intermediate \n🪇 9pm Free Social \n😴 11pm Close
URL:https://latin.social/event/salsateca-salsa-and-bachata-3/2024-06-14/
LOCATION:St Mary Moorfields\, St Mary Moorfields\, 4-5 Eldon St\,\, London\, EC2M 7LS\, United Kingdom
CATEGORIES:Class
ATTACH;FMTTYPE=image/jpeg:https://latin.social/wp-content/uploads/2024/04/Salsateca.jpg
ORGANIZER;CN="Salsateca":MAILTO:admin@salsateca.co.uk
GEO:51.5187492;-0.08568
X-APPLE-STRUCTURED-LOCATION;VALUE=URI;X-ADDRESS=St Mary Moorfields St Mary Moorfields 4-5 Eldon St London EC2M 7LS United Kingdom;X-APPLE-RADIUS=500;X-TITLE=St Mary Moorfields\, 4-5 Eldon St\,:geo:-0.08568,51.5187492
END:VEVENT
BEGIN:VEVENT
DTSTART;TZID=Europe/London:20240614T190000
DTEND;TZID=Europe/London:20240614T210000
DTSTAMP:20260419T153916
CREATED:20240501T155320Z
LAST-MODIFIED:20240508T094537Z
UID:10000986-1718391600-1718398800@latin.social
SUMMARY:Salsateca - Salsa and Bachata
DESCRIPTION:⏰ 6:40pm \n📚 7pm Cross-body salsa – Beginners\, Improvers\, Intermediate \n📚 8pm Bachata – Beginners\, Improvers\, Intermediate \n🪇 9pm Free Social \n😴 10:30pm Close \nNote: On the 2nd Friday of Every Month this event becomes a party called LATIN PARADISE until 12am. With guest DJs\, Instructors and shows.
URL:https://latin.social/event/salsateca-salsa-and-bachata-4/2024-06-14/
LOCATION:Crofton Halls\, Crofton Halls\, York Rise\,\, Orpington\, BR6 8PR\, United Kingdom
CATEGORIES:Class
ATTACH;FMTTYPE=image/jpeg:https://latin.social/wp-content/uploads/2024/04/Salsateca.jpg
ORGANIZER;CN="Salsateca":MAILTO:admin@salsateca.co.uk
GEO:51.3735151;0.087235
X-APPLE-STRUCTURED-LOCATION;VALUE=URI;X-ADDRESS=Crofton Halls Crofton Halls York Rise Orpington BR6 8PR United Kingdom;X-APPLE-RADIUS=500;X-TITLE=Crofton Halls\, York Rise\,:geo:0.087235,51.3735151
END:VEVENT
BEGIN:VEVENT
DTSTART;TZID=Europe/London:20240614T190000
DTEND;TZID=Europe/London:20240614T213000
DTSTAMP:20260419T153916
CREATED:20240430T153249Z
LAST-MODIFIED:20240508T094511Z
UID:10000478-1718391600-1718400600@latin.social
SUMMARY:Cali Swing - Monthly Beg/Imp/Int/Adv
DESCRIPTION:Room 2 \n⏰ 6:50pm Doors open \n📚 7pm Beginner footwork \n📚 8pm Beginner partnerwork \n😴 9pm Close \n  \nRoom 1 \n⏰ 6:20pm Doors open \n📚 6:30pm Improvers partnerwork \n📚 7:30pm Intermediate partnerwork \n📚 8:30pm Advanced partnerwork \n😴 9:30pm Close \nThis is a monthly progressive course. Drop-ins are not available.
URL:https://latin.social/event/cali-swing-monthly-beg-imp-int-adv/2024-06-14/
LOCATION:Mulberry Sports Centre\, Mulberry Sports Centre\, Richard Street\, London\, E1 2JR\, United Kingdom
CATEGORIES:Class
ATTACH;FMTTYPE=image/png:https://latin.social/wp-content/uploads/2024/04/CaliSwing.png
ORGANIZER;CN="Cali Swing Dance School":MAILTO:info@caliswinguk.com
GEO:51.5139955;-0.0595965
X-APPLE-STRUCTURED-LOCATION;VALUE=URI;X-ADDRESS=Mulberry Sports Centre Mulberry Sports Centre Richard Street London E1 2JR United Kingdom;X-APPLE-RADIUS=500;X-TITLE=Mulberry Sports Centre\, Richard Street:geo:-0.0595965,51.5139955
END:VEVENT
BEGIN:VEVENT
DTSTART;TZID=Europe/London:20240614T190000
DTEND;TZID=Europe/London:20240614T213000
DTSTAMP:20260419T153916
CREATED:20240507T115827Z
LAST-MODIFIED:20240508T091739Z
UID:10001172-1718391600-1718400600@latin.social
SUMMARY:Cubaneando - Cuban Salsa
DESCRIPTION:📚 7pm Cuban Salsa – Beginners 1\, Improvers 1\, Intermediates \n📚 8:15pm Cuban Salsa – Beginners 2\, Improvers 2\, Advanced \n🪇 9:30pm Social \n😴 3:30am Close \n£13 1 class + social\, £16 2 classes + social\, £10 social only
URL:https://latin.social/event/cubaneando-cuban-salsa-2/2024-06-14/
LOCATION:La Pollera Colora\, La Pollera Colora\, 4-6 London Bridge St\,\, London\, SE1 9SG\, United Kingdom
CATEGORIES:Class,Social
ATTACH;FMTTYPE=image/jpeg:https://latin.social/wp-content/uploads/2024/05/Cubaneando-1-e1715082514819.jpg
ORGANIZER;CN="Cubaneando":MAILTO:info@cubaneando.com
GEO:51.5054504;-0.0885496
X-APPLE-STRUCTURED-LOCATION;VALUE=URI;X-ADDRESS=La Pollera Colora La Pollera Colora 4-6 London Bridge St London SE1 9SG United Kingdom;X-APPLE-RADIUS=500;X-TITLE=La Pollera Colora\, 4-6 London Bridge St\,:geo:-0.0885496,51.5054504
END:VEVENT
BEGIN:VEVENT
DTSTART;TZID=Europe/London:20240614T190000
DTEND;TZID=Europe/London:20240614T220000
DTSTAMP:20260419T153916
CREATED:20240508T113130Z
LAST-MODIFIED:20240508T113130Z
UID:10001712-1718391600-1718402400@latin.social
SUMMARY:Fiesta Fuego Monthly Parties
DESCRIPTION:📚 7pm Bachata Class – General Level \n🪇 7:45pm Salsa and Bachata Social \n😴 10pm Close
URL:https://latin.social/event/fiesta-fuego-monthly-parties/2024-06-14/
LOCATION:Saw Swee Hock Centre\, Saw Swee Hock Centre\, 1 Sheffield Street\, London\, WC2A 2AP\, United Kingdom
CATEGORIES:Social
ATTACH;FMTTYPE=image/jpeg:https://latin.social/wp-content/uploads/2024/04/SalsaTropical.jpg
ORGANIZER;CN="Salsa Tropical":MAILTO:salsa@salsa-tropical.com
GEO:51.5147023;-0.1175738
X-APPLE-STRUCTURED-LOCATION;VALUE=URI;X-ADDRESS=Saw Swee Hock Centre Saw Swee Hock Centre 1 Sheffield Street London WC2A 2AP United Kingdom;X-APPLE-RADIUS=500;X-TITLE=Saw Swee Hock Centre\, 1 Sheffield Street:geo:-0.1175738,51.5147023
END:VEVENT
BEGIN:VEVENT
DTSTART;TZID=Europe/London:20240614T194500
DTEND;TZID=Europe/London:20240614T234500
DTSTAMP:20260419T153916
CREATED:20240524T134331Z
LAST-MODIFIED:20240524T134331Z
UID:10002429-1718394300-1718408700@latin.social
SUMMARY:The Latin Collective - Bailando Cambridge Fridays
DESCRIPTION:⏰ 7:40pm \n📚 7:45pm Free Salsa Intro Class (Beginners). Free Shines Salsa Class (Improvers+) \n📚 8pm Crossbody Salsa (4 Levels) \n📚 8:50pm Crossbody Salsa (4 Levels)\, Urban Kiz \n🪇 9:40pm Social \n😴 11:45pm Close \n💰 £10 for classes and social\, £5 social only
URL:https://latin.social/event/the-latin-collective-bailando-cambridge-fridays/2024-06-14/
LOCATION:St Andrews Street Baptist Church\, St Andrews Street Baptist Church\, 40-43 St Andrew's Street\, Cambridge\, CB2 3AR\, United Kingdom
CATEGORIES:Class,Social
ATTACH;FMTTYPE=image/png:https://latin.social/wp-content/uploads/2024/05/Bailando-Fridays_Cambridge.png
ORGANIZER;CN="Latin Collective":MAILTO:info@latincollectiveuk.com
GEO:52.202697;0.1240327
X-APPLE-STRUCTURED-LOCATION;VALUE=URI;X-ADDRESS=St Andrews Street Baptist Church St Andrews Street Baptist Church 40-43 St Andrew's Street Cambridge CB2 3AR United Kingdom;X-APPLE-RADIUS=500;X-TITLE=St Andrews Street Baptist Church\, 40-43 St Andrew's Street:geo:0.1240327,52.202697
END:VEVENT
BEGIN:VEVENT
DTSTART;TZID=Europe/London:20240614T200000
DTEND;TZID=Europe/London:20240615T010000
DTSTAMP:20260419T153916
CREATED:20240605T154651Z
LAST-MODIFIED:20240605T154651Z
UID:10002862-1718395200-1718413200@latin.social
SUMMARY:LLBOS with Sol Hissirou
DESCRIPTION:Special Guest Teacher SOL HISSIROU! Bachata class at 3 levels alongside Sol with your favourites from the LLB and BOS teams! Venue – The Study Society W14 9DA – 1 min from Barons Court Stn TOP music from the LLB and BOS DJs \nIt is highly recommended to book in ADVANCE to secure your place at a cheaper price than on the door. \n⏰ 6pm Doors open \n📚 8pm Bachata class – Beginner\, Improver\, Intermediate \n🪇 9pm Social \n😴 1am Close \n💰 Classes plus social £18\, Social only £15\, NUS discount available with ID\, Discounts online if you book in advance
URL:https://latin.social/event/llbos-with-sol-hissirou/
LOCATION:The Study Society\, The Study Society\, 151 Talgarth Road\, London\, W14 9DA\, United Kingdom
CATEGORIES:Class,Social
ATTACH;FMTTYPE=image/webp:https://latin.social/wp-content/uploads/2024/06/LLBOS-Friday.webp
GEO:51.4906085;-0.214382
X-APPLE-STRUCTURED-LOCATION;VALUE=URI;X-ADDRESS=The Study Society The Study Society 151 Talgarth Road London W14 9DA United Kingdom;X-APPLE-RADIUS=500;X-TITLE=The Study Society\, 151 Talgarth Road:geo:-0.214382,51.4906085
END:VEVENT
BEGIN:VEVENT
DTSTART;TZID=Europe/London:20240614T203000
DTEND;TZID=Europe/London:20240615T030000
DTSTAMP:20260419T153916
CREATED:20240523T163955Z
LAST-MODIFIED:20240523T164039Z
UID:10002323-1718397000-1718420400@latin.social
SUMMARY:RV Dance - I ❤️ Kizomba Fridays!
DESCRIPTION:⏰ 8pm \n📚 8:30pm Kizomba Classes – 3 Levels \n🪇 9:30pm Social \n😴 3am Close \n💰 £12 Classes and party\, £8 Party only (before 10pm)
URL:https://latin.social/event/rv-dance-i-love-kizomba-fridays/2024-06-14/
LOCATION:Bar Salsa! – Temple\, Bar Salsa!\, Temple Place\, London\, WC2R 2PH\, United Kingdom
CATEGORIES:Class,Social
ATTACH;FMTTYPE=image/jpeg:https://latin.social/wp-content/uploads/2024/05/I-Heart-Kizomba-Fridays.jpeg
ORGANIZER;CN="RV Dance":MAILTO:contact@rvdance.co.uk
GEO:51.511005;-0.114235
X-APPLE-STRUCTURED-LOCATION;VALUE=URI;X-ADDRESS=Bar Salsa! – Temple Bar Salsa! Temple Place London WC2R 2PH United Kingdom;X-APPLE-RADIUS=500;X-TITLE=Bar Salsa!\, Temple Place:geo:-0.114235,51.511005
END:VEVENT
BEGIN:VEVENT
DTSTART;TZID=Europe/London:20240614T213000
DTEND;TZID=Europe/London:20240615T030000
DTSTAMP:20260419T153916
CREATED:20240508T175752Z
LAST-MODIFIED:20240508T175909Z
UID:10001822-1718400600-1718420400@latin.social
SUMMARY:Diversão Nights Monthly Kizomba Party
DESCRIPTION:⏰ 9pm \n📚 9:30pm Kizomba Class – Open Level \n🪇 10:30pm Social \n😴 3am Close \n💰 £15 on the door\, £12 if booked in advance by contacting Manon on +44 7375 290969
URL:https://latin.social/event/diversao-nights-monthly-kizomba-party/2024-06-14/
LOCATION:Adulis\, Adulis\, 44-46 Brixton Rd\,\, London\, SW9 6BT\, United Kingdom
CATEGORIES:Class,Social
ATTACH;FMTTYPE=image/jpeg:https://latin.social/wp-content/uploads/2024/05/Diversao-Nights.jpg
ORGANIZER;CN="Divers%C3%A3o Nights":MAILTO:lonkizschool@gmail.com
GEO:51.4794831;-0.1118872
X-APPLE-STRUCTURED-LOCATION;VALUE=URI;X-ADDRESS=Adulis Adulis 44-46 Brixton Rd London SW9 6BT United Kingdom;X-APPLE-RADIUS=500;X-TITLE=Adulis\, 44-46 Brixton Rd\,:geo:-0.1118872,51.4794831
END:VEVENT
END:VCALENDAR