BEGIN:VCALENDAR
VERSION:2.0
PRODID:-//Latin Social - ECPv6.8.2//NONSGML v1.0//EN
CALSCALE:GREGORIAN
METHOD:PUBLISH
X-ORIGINAL-URL:https://latin.social
X-WR-CALDESC:Events for Latin Social
REFRESH-INTERVAL;VALUE=DURATION:PT1H
X-Robots-Tag:noindex
X-PUBLISHED-TTL:PT1H
BEGIN:VTIMEZONE
TZID:Europe/London
BEGIN:DAYLIGHT
TZOFFSETFROM:+0000
TZOFFSETTO:+0100
TZNAME:BST
DTSTART:20240331T010000
END:DAYLIGHT
BEGIN:STANDARD
TZOFFSETFROM:+0100
TZOFFSETTO:+0000
TZNAME:GMT
DTSTART:20241027T010000
END:STANDARD
END:VTIMEZONE
BEGIN:VEVENT
DTSTART;TZID=Europe/London:20240615T120000
DTEND;TZID=Europe/London:20240615T133000
DTSTAMP:20260419T173206
CREATED:20240527T101047Z
LAST-MODIFIED:20240604T102020Z
UID:10002724-1718452800-1718458200@latin.social
SUMMARY:Esencia Libre - Salsa On2 Ladies Jam Workshop
DESCRIPTION:A high energy\, fun filled workshop covering loads of technique\, movement and different ways in which to style your dancing. Learn how to use your hips\, torso\, shoulders\, head and arms to improve aesthetic and femininity. This will leave you sweaty\, and on a high from dance happy endorphins. \nTaught On2 timing\, we move at a steady pace building from the bottom up. Open level to anyone who wants to give it a go and challenge themselves. Not suitable for beginners. \nLadies styling teaches you not just how to use the different elements that make us more feminine\, elegant and aesthetically pleasing\, but really instills something deeper that that; building your confidence so that you can appear effortless and in control of your body at all times\, whether it’s whilst doing shines or dancing with your partner.
URL:https://latin.social/event/esencia-libre-salsa-on2-ladies-jam-workshop/
LOCATION:Cleanbreak – Kentish Town\, Cleanbreak - Kentish Town\, 2 Patshull Road\, London\, NW5 2LB\, United Kingdom
CATEGORIES:Workshop
ATTACH;FMTTYPE=image/jpeg:https://latin.social/wp-content/uploads/2024/04/EsenciaLibre.jpg
ORGANIZER;CN="Esencia Libre":MAILTO:support@esencialibre.co.uk
GEO:51.5471516;-0.14101
X-APPLE-STRUCTURED-LOCATION;VALUE=URI;X-ADDRESS=Cleanbreak – Kentish Town Cleanbreak - Kentish Town 2 Patshull Road London NW5 2LB United Kingdom;X-APPLE-RADIUS=500;X-TITLE=Cleanbreak - Kentish Town\, 2 Patshull Road:geo:-0.14101,51.5471516
END:VEVENT
BEGIN:VEVENT
DTSTART;TZID=Europe/London:20240615T140000
DTEND;TZID=Europe/London:20240615T180000
DTSTAMP:20260419T173206
CREATED:20240507T163811Z
LAST-MODIFIED:20240911T170008Z
UID:10001549-1718460000-1718474400@latin.social
SUMMARY:Pexava - Saturday Matinee Social
DESCRIPTION:Our Saturday afternoon Pexava salsa social\, in the heart of bustling Upper Street Angel\, central London!\nAmazing venue: A bright\, atmospheric and airy hall with wooden floor. Social dancing with great music and the chance to catch up and connect with salsa friends over snacks.\n2pm to 6pm Salsa Social\, including 4pm to 6pm Pizza room open.\nBring your own drinks (no alcohol) \n£10 Cash or card on the door
URL:https://latin.social/event/pexava-saturday-matinee-social/2024-06-15/
LOCATION:New Unity\, New Unity\, 277A Upper Street\, London\, N1 2TZ\, United Kingdom
CATEGORIES:Social
ATTACH;FMTTYPE=image/png:https://latin.social/wp-content/uploads/2024/04/Pexava.png
ORGANIZER;CN="Pexava":MAILTO:info@pexava.com
GEO:51.5403606;-0.1023339
X-APPLE-STRUCTURED-LOCATION;VALUE=URI;X-ADDRESS=New Unity New Unity 277A Upper Street London N1 2TZ United Kingdom;X-APPLE-RADIUS=500;X-TITLE=New Unity\, 277A Upper Street:geo:-0.1023339,51.5403606
END:VEVENT
BEGIN:VEVENT
DTSTART;TZID=Europe/London:20240615T140000
DTEND;TZID=Europe/London:20240615T183000
DTSTAMP:20260419T173206
CREATED:20240523T141328Z
LAST-MODIFIED:20240727T120641Z
UID:10001942-1718460000-1718476200@latin.social
SUMMARY:Sizzling Summer Latin Dance Fiesta: Bachata & Salsa
DESCRIPTION: Get ready to groove in London! \n Whether you’re a Bachata enthusiast or a Salsa aficionado\, Estrella Dance invites you to move to the rhythm of Bachata and Salsa\, but only when there’s no rain and the temperature is a warm 15°C or above.Remember to check in before heading to the event. ⏰ Leisurely picnic in Hyde Park \n📚 2pm Free Dance Class \n🪇 3pm Free Social \n😴 6:30pm Close \nSee you under the open air dance!  \nCheck the Facebook link in case the event is cancelled due to bad weather.
URL:https://latin.social/event/sizzling-summer-latin-dance-fiesta-bachata-salsa/2024-06-15/
LOCATION:Hyde Park Bandstand\, Hyde Park Bandstand\, Hyde Park\, London\, W2 2UH\, United Kingdom
CATEGORIES:Social
ATTACH;FMTTYPE=image/jpeg:https://latin.social/wp-content/uploads/2024/05/Joyful-Jamboree.jpg
GEO:51.5050116;-0.1564583
X-APPLE-STRUCTURED-LOCATION;VALUE=URI;X-ADDRESS=Hyde Park Bandstand Hyde Park Bandstand Hyde Park London W2 2UH United Kingdom;X-APPLE-RADIUS=500;X-TITLE=Hyde Park Bandstand\, Hyde Park:geo:-0.1564583,51.5050116
END:VEVENT
BEGIN:VEVENT
DTSTART;TZID=Europe/London:20240615T143000
DTEND;TZID=Europe/London:20240615T153000
DTSTAMP:20260419T173206
CREATED:20240507T122311Z
LAST-MODIFIED:20240507T122311Z
UID:10001230-1718461800-1718465400@latin.social
SUMMARY:DanceBuzz - Salsa Beginners
DESCRIPTION:Our beginners salsa classes are structured in progressive courses which means that you will be covering a syllabus of steps and routines each week for the duration of the salsa course\, making your learning curve continuous. This format allows you to learn the salsa steps and rhythm faster with our structured\, yet fun and effective teaching method.
URL:https://latin.social/event/dancebuzz-salsa-beginners-4/2024-06-15/
LOCATION:The Abbey Centre\, The Abbey Centre\, 34 Great Smith St\,\, London\, SW1P 3BU\, United Kingdom
CATEGORIES:Class
ATTACH;FMTTYPE=image/png:https://latin.social/wp-content/uploads/2024/04/Dancebuzz.png
ORGANIZER;CN="DanceBuzz":MAILTO:hello@dancebuzz.co.uk
GEO:51.4975281;-0.1298045
X-APPLE-STRUCTURED-LOCATION;VALUE=URI;X-ADDRESS=The Abbey Centre The Abbey Centre 34 Great Smith St London SW1P 3BU United Kingdom;X-APPLE-RADIUS=500;X-TITLE=The Abbey Centre\, 34 Great Smith St\,:geo:-0.1298045,51.4975281
END:VEVENT
BEGIN:VEVENT
DTSTART;TZID=Europe/London:20240615T143000
DTEND;TZID=Europe/London:20240615T153000
DTSTAMP:20260419T173206
CREATED:20240507T123653Z
LAST-MODIFIED:20240507T123730Z
UID:10001274-1718461800-1718465400@latin.social
SUMMARY:DanceBuzz - Salsa Improvers
DESCRIPTION:Our Improver Salsa classes program follows straight from the Level 1 Beginners Salsa courses. It is split into a number of progressive courses running throughout the year\, allowing you to get exposed to a large number of moves and variations and improve on your leading\, following\, rhythm and balance. \nYou are expected to complete four to six Level 2 courses before progressing to Level 3 – Intermediate Salsa.
URL:https://latin.social/event/dancebuzz-salsa-improvers-4/2024-06-15/
LOCATION:The Abbey Centre\, The Abbey Centre\, 34 Great Smith St\,\, London\, SW1P 3BU\, United Kingdom
CATEGORIES:Class
ATTACH;FMTTYPE=image/png:https://latin.social/wp-content/uploads/2024/04/Dancebuzz.png
ORGANIZER;CN="DanceBuzz":MAILTO:hello@dancebuzz.co.uk
GEO:51.4975281;-0.1298045
X-APPLE-STRUCTURED-LOCATION;VALUE=URI;X-ADDRESS=The Abbey Centre The Abbey Centre 34 Great Smith St London SW1P 3BU United Kingdom;X-APPLE-RADIUS=500;X-TITLE=The Abbey Centre\, 34 Great Smith St\,:geo:-0.1298045,51.4975281
END:VEVENT
BEGIN:VEVENT
DTSTART;TZID=Europe/London:20240615T143000
DTEND;TZID=Europe/London:20240615T153000
DTSTAMP:20260419T173206
CREATED:20240507T124227Z
LAST-MODIFIED:20240507T124227Z
UID:10001293-1718461800-1718465400@latin.social
SUMMARY:DanceBuzz - Salsa Intermediate
DESCRIPTION:Our Level 3 Salsa classes are for those with a minimum of nine to twelve months of regular class attendance of our course programs or elsewhere. \nAt this stage\, leaders should be comfortable with rhythm and picking up routines and will be working on smoothening their signals for the followers as well as and adding more style and flair to their dancing. \nFor the followers\, this would be the time to work on styling\, lightness\, and elegance as well as responding to the leading accurately and without disturbing the flow of the dance.
URL:https://latin.social/event/dancebuzz-salsa-intermediate-2/2024-06-15/
LOCATION:The Abbey Centre\, The Abbey Centre\, 34 Great Smith St\,\, London\, SW1P 3BU\, United Kingdom
CATEGORIES:Class
ATTACH;FMTTYPE=image/png:https://latin.social/wp-content/uploads/2024/04/Dancebuzz.png
ORGANIZER;CN="DanceBuzz":MAILTO:hello@dancebuzz.co.uk
GEO:51.4975281;-0.1298045
X-APPLE-STRUCTURED-LOCATION;VALUE=URI;X-ADDRESS=The Abbey Centre The Abbey Centre 34 Great Smith St London SW1P 3BU United Kingdom;X-APPLE-RADIUS=500;X-TITLE=The Abbey Centre\, 34 Great Smith St\,:geo:-0.1298045,51.4975281
END:VEVENT
BEGIN:VEVENT
DTSTART;TZID=Europe/London:20240615T143000
DTEND;TZID=Europe/London:20240615T160000
DTSTAMP:20260419T173206
CREATED:20240612T103908Z
LAST-MODIFIED:20240612T103908Z
UID:10002874-1718461800-1718467200@latin.social
SUMMARY:MS Dance - Cha Cha Footwork and Partnerwork
DESCRIPTION:Cha Cha is fun so let’s have fun Join our footwork class \, where you will learn some cool moves\, funky footwork to help you to enjoy Cha cha on the dancefloor and ….. have fun with the Cha cha! and then let’s do partnerwork so you can have even more fun with Cha cha \n\nYou need to know basic steps to attend the class.If you are a beginner please message me on Instagram for the beginners classes.
URL:https://latin.social/event/ms-dance-cha-cha-footwork-and-partnerwork/
LOCATION:Nuffield Health – Bloomsbury\, Nuffield Health Bloomsbury\, Mecklenburgh Place\, London\, WC1N 2AY\, United Kingdom
CATEGORIES:Workshop
ATTACH;FMTTYPE=image/jpeg:https://latin.social/wp-content/uploads/2024/04/MSDance-logo.jpg
ORGANIZER;CN="MS Dance":MAILTO:info@msdance.co.uk
GEO:51.5240128;-0.1182221
X-APPLE-STRUCTURED-LOCATION;VALUE=URI;X-ADDRESS=Nuffield Health – Bloomsbury Nuffield Health Bloomsbury Mecklenburgh Place London WC1N 2AY United Kingdom;X-APPLE-RADIUS=500;X-TITLE=Nuffield Health Bloomsbury\, Mecklenburgh Place:geo:-0.1182221,51.5240128
END:VEVENT
BEGIN:VEVENT
DTSTART;TZID=Europe/London:20240615T170000
DTEND;TZID=Europe/London:20240615T191500
DTSTAMP:20260419T173206
CREATED:20240507T120646Z
LAST-MODIFIED:20240508T093511Z
UID:10001197-1718470800-1718478900@latin.social
SUMMARY:Cubaneando - Structured Cuban Salsa
DESCRIPTION:⏰ 4:45pm \n📚 5pm Cuban Salsa – Beginners 1\, Improvers 1 \n📚 6:15pm Cuban Salsa – Beginners 2\, Improvers 2\, Intermediates 1 \n😴 7:15pm Close \n💰 £10 for 1 hour\, £15 for 2 hours\, multi-hour bundle prices available \nSign-up is mandatory\, contact via WhatsApp (+44 795 018 4131) to confirm your place.
URL:https://latin.social/event/cubaneando-structured-cuban-salsa/2024-06-15/
LOCATION:O2 Centre\,The Venue Hall\, O2 Centre\,The Venue Hall\, 255 Finchley Road\, London\, NW3 6LU\, United Kingdom
CATEGORIES:Class
ATTACH;FMTTYPE=image/jpeg:https://latin.social/wp-content/uploads/2024/05/Cubaneando-1-e1715082514819.jpg
ORGANIZER;CN="Cubaneando":MAILTO:info@cubaneando.com
GEO:51.5478286;-0.1814281
X-APPLE-STRUCTURED-LOCATION;VALUE=URI;X-ADDRESS=O2 CentreThe Venue Hall O2 CentreThe Venue Hall 255 Finchley Road London NW3 6LU United Kingdom;X-APPLE-RADIUS=500;X-TITLE=O2 Centre\,The Venue Hall\, 255 Finchley Road:geo:-0.1814281,51.5478286
END:VEVENT
BEGIN:VEVENT
DTSTART;TZID=Europe/London:20240615T170000
DTEND;TZID=Europe/London:20240615T200000
DTSTAMP:20260419T173206
CREATED:20240515T161813Z
LAST-MODIFIED:20240515T161813Z
UID:10001929-1718470800-1718481600@latin.social
SUMMARY:Sanura Dance - Queer Salsa & Bachata PRIDE Social 2024
DESCRIPTION:🏳️‍🌈 Celebrate Pride Month with us! \n🎉 Learn the basics of Salsa and Bachata in a welcoming environment. \n🕺💃 Beginner-friendly session with experienced instructors. \n🎶 Social dancing with fun animations like line ups.
URL:https://latin.social/event/sanura-dance-queer-salsa-bachata-pride-social-2024/
LOCATION:Studio 68\, Studio 68\, 68 Ewer Street\, London\, SE1 0NR\, United Kingdom
CATEGORIES:Social
ATTACH;FMTTYPE=image/jpeg:https://latin.social/wp-content/uploads/2024/05/Pride-Flag.jpg
ORGANIZER;CN="Sanura Dance":MAILTO:info@sanuradance.com
GEO:51.5039557;-0.100886
X-APPLE-STRUCTURED-LOCATION;VALUE=URI;X-ADDRESS=Studio 68 Studio 68 68 Ewer Street London SE1 0NR United Kingdom;X-APPLE-RADIUS=500;X-TITLE=Studio 68\, 68 Ewer Street:geo:-0.100886,51.5039557
END:VEVENT
BEGIN:VEVENT
DTSTART;TZID=Europe/London:20240615T180000
DTEND;TZID=Europe/London:20240615T210000
DTSTAMP:20260419T173206
CREATED:20240501T160320Z
LAST-MODIFIED:20240508T094403Z
UID:10001012-1718474400-1718485200@latin.social
SUMMARY:Salsateca - Intensive Cuban Salsa Workshop
DESCRIPTION:⏰ 5:40pm \n📚 6pm Intensive 3 Hour Cuban Workshop \n😴 9pm Close \nEvery other week this workshop becomes Super Intensive and we add 1 hour of Cuban Son from 5pm to 6pm. \nCheck the website to see which week is extended.
URL:https://latin.social/event/salsateca-intensive-cuban-salsa-workshop/2024-06-15/
LOCATION:Christ Church Southwark\, Christ Church Southwark\, 27 Blackfriars Rd\,\, London\, SE1 8NY\, United Kingdom
CATEGORIES:Class,Workshop
ATTACH;FMTTYPE=image/jpeg:https://latin.social/wp-content/uploads/2024/04/Salsateca.jpg
ORGANIZER;CN="Salsateca":MAILTO:admin@salsateca.co.uk
GEO:51.5062543;-0.105126
X-APPLE-STRUCTURED-LOCATION;VALUE=URI;X-ADDRESS=Christ Church Southwark Christ Church Southwark 27 Blackfriars Rd London SE1 8NY United Kingdom;X-APPLE-RADIUS=500;X-TITLE=Christ Church Southwark\, 27 Blackfriars Rd\,:geo:-0.105126,51.5062543
END:VEVENT
BEGIN:VEVENT
DTSTART;TZID=Europe/London:20240615T190000
DTEND;TZID=Europe/London:20240616T020000
DTSTAMP:20260419T173206
CREATED:20240430T151747Z
LAST-MODIFIED:20240605T155302Z
UID:10002863-1718478000-1718503200@latin.social
SUMMARY:BOS 50/50
DESCRIPTION:⏰ 6:30pm Doors open \n📚 7pm Bonus Rueda Class \n📚 8pm Cross Body Salsa \n📚 9pm Bachata \n🪇 10pm Social \n🪇 11pm Showtime \n😴 2am Close
URL:https://latin.social/event/bos-50-50/2024-06-15/
LOCATION:The Vault\, The Vault\, 300 Strand\,\, London\, WC2R 1AE\, United Kingdom
CATEGORIES:Class,Social
ATTACH;FMTTYPE=image/webp:https://latin.social/wp-content/uploads/2024/04/BOS-5050.webp
GEO:51.5126561;-0.1167114
X-APPLE-STRUCTURED-LOCATION;VALUE=URI;X-ADDRESS=The Vault The Vault 300 Strand London WC2R 1AE United Kingdom;X-APPLE-RADIUS=500;X-TITLE=The Vault\, 300 Strand\,:geo:-0.1167114,51.5126561
END:VEVENT
BEGIN:VEVENT
DTSTART;TZID=Europe/London:20240615T190000
DTEND;TZID=Europe/London:20240616T030000
DTSTAMP:20260419T173206
CREATED:20240430T145456Z
LAST-MODIFIED:20241009T114105Z
UID:10000439-1718478000-1718506800@latin.social
SUMMARY:Bachata Kiss
DESCRIPTION:⏰ Doors open\, food and drink available \n📚 7pm Bachata class 1 (Foundation\, Improver\, and Intermediate/Advanced) \n📚 8pm Bachata class 2 (Foundation\, Improver\, and Intermediate/Advanced) \n🪇 9pm Social \n🪇 11pm Show \n😴 3am Close \n💰 2 or less Class + Party: £16 \n💰 Party only: £13 \n💰 Student/NUS: £5 OFF for classes\, £2 off for party only (Must have Valid ID)
URL:https://latin.social/event/bachata-kiss/2024-06-15/
LOCATION:Generator London\, Generator London\, 37 Tavistock Place\, London\, WC1H 9SE\, United Kingdom
CATEGORIES:Class,Social
ATTACH;FMTTYPE=image/jpeg:https://latin.social/wp-content/uploads/2024/04/Bachata-Kiss.jpg
GEO:51.5262045;-0.124825
X-APPLE-STRUCTURED-LOCATION;VALUE=URI;X-ADDRESS=Generator London Generator London 37 Tavistock Place London WC1H 9SE United Kingdom;X-APPLE-RADIUS=500;X-TITLE=Generator London\, 37 Tavistock Place:geo:-0.124825,51.5262045
END:VEVENT
END:VCALENDAR