BEGIN:VCALENDAR
VERSION:2.0
PRODID:-//Latin Social - ECPv6.8.2//NONSGML v1.0//EN
CALSCALE:GREGORIAN
METHOD:PUBLISH
X-WR-CALNAME:Latin Social
X-ORIGINAL-URL:https://latin.social
X-WR-CALDESC:Events for Latin Social
REFRESH-INTERVAL;VALUE=DURATION:PT1H
X-Robots-Tag:noindex
X-PUBLISHED-TTL:PT1H
BEGIN:VTIMEZONE
TZID:Europe/London
BEGIN:DAYLIGHT
TZOFFSETFROM:+0000
TZOFFSETTO:+0100
TZNAME:BST
DTSTART:20240331T010000
END:DAYLIGHT
BEGIN:STANDARD
TZOFFSETFROM:+0100
TZOFFSETTO:+0000
TZNAME:GMT
DTSTART:20241027T010000
END:STANDARD
END:VTIMEZONE
BEGIN:VEVENT
DTSTART;TZID=Europe/London:20240617T183000
DTEND;TZID=Europe/London:20240617T193000
DTSTAMP:20260419T173048
CREATED:20240507T122458Z
LAST-MODIFIED:20240507T122458Z
UID:10001236-1718649000-1718652600@latin.social
SUMMARY:DanceBuzz - Salsa Beginners
DESCRIPTION:Our beginners salsa classes are structured in progressive courses which means that you will be covering a syllabus of steps and routines each week for the duration of the salsa course\, making your learning curve continuous. This format allows you to learn the salsa steps and rhythm faster with our structured\, yet fun and effective teaching method.
URL:https://latin.social/event/dancebuzz-salsa-beginners-5/2024-06-17/
LOCATION:The Abbey Centre\, The Abbey Centre\, 34 Great Smith St\,\, London\, SW1P 3BU\, United Kingdom
CATEGORIES:Class
ATTACH;FMTTYPE=image/png:https://latin.social/wp-content/uploads/2024/04/Dancebuzz.png
ORGANIZER;CN="DanceBuzz":MAILTO:hello@dancebuzz.co.uk
GEO:51.4975281;-0.1298045
X-APPLE-STRUCTURED-LOCATION;VALUE=URI;X-ADDRESS=The Abbey Centre The Abbey Centre 34 Great Smith St London SW1P 3BU United Kingdom;X-APPLE-RADIUS=500;X-TITLE=The Abbey Centre\, 34 Great Smith St\,:geo:-0.1298045,51.4975281
END:VEVENT
BEGIN:VEVENT
DTSTART;TZID=Europe/London:20240617T183000
DTEND;TZID=Europe/London:20240617T193000
DTSTAMP:20260419T173048
CREATED:20240507T123846Z
LAST-MODIFIED:20240507T123846Z
UID:10001280-1718649000-1718652600@latin.social
SUMMARY:DanceBuzz - Salsa Improvers
DESCRIPTION:Our Improver Salsa classes program follows straight from the Level 1 Beginners Salsa courses. It is split into a number of progressive courses running throughout the year\, allowing you to get exposed to a large number of moves and variations and improve on your leading\, following\, rhythm and balance. \nYou are expected to complete four to six Level 2 courses before progressing to Level 3 – Intermediate Salsa.
URL:https://latin.social/event/dancebuzz-salsa-improvers-5/2024-06-17/
LOCATION:The Abbey Centre\, The Abbey Centre\, 34 Great Smith St\,\, London\, SW1P 3BU\, United Kingdom
CATEGORIES:Class
ATTACH;FMTTYPE=image/png:https://latin.social/wp-content/uploads/2024/04/Dancebuzz.png
ORGANIZER;CN="DanceBuzz":MAILTO:hello@dancebuzz.co.uk
GEO:51.4975281;-0.1298045
X-APPLE-STRUCTURED-LOCATION;VALUE=URI;X-ADDRESS=The Abbey Centre The Abbey Centre 34 Great Smith St London SW1P 3BU United Kingdom;X-APPLE-RADIUS=500;X-TITLE=The Abbey Centre\, 34 Great Smith St\,:geo:-0.1298045,51.4975281
END:VEVENT
BEGIN:VEVENT
DTSTART;TZID=Europe/London:20240617T183000
DTEND;TZID=Europe/London:20240617T210000
DTSTAMP:20260419T173048
CREATED:20240508T110538Z
LAST-MODIFIED:20240508T110538Z
UID:10001617-1718649000-1718658000@latin.social
SUMMARY:Salsa Tropical - Salsa Classes
DESCRIPTION:📚 6:30pm Salsa Taster Class \n📚 7pm Salsa Class – Beginners 1\, Improvers 1\, Intermediate \n📚 8pm Salsa Class – Beginners 2\, Improvers 2\, Advanced \n🪇 9pm Social \n😴 10pm Close \n💰 £15 for 1 hour\, £25 for 2 hours\, Multi-hour packages available
URL:https://latin.social/event/salsa-tropical-salsa-classes/2024-06-17/
LOCATION:Saw Swee Hock Centre\, Saw Swee Hock Centre\, 1 Sheffield Street\, London\, WC2A 2AP\, United Kingdom
CATEGORIES:Class
ATTACH;FMTTYPE=image/jpeg:https://latin.social/wp-content/uploads/2024/04/SalsaTropical.jpg
ORGANIZER;CN="Salsa Tropical":MAILTO:salsa@salsa-tropical.com
GEO:51.5147023;-0.1175738
X-APPLE-STRUCTURED-LOCATION;VALUE=URI;X-ADDRESS=Saw Swee Hock Centre Saw Swee Hock Centre 1 Sheffield Street London WC2A 2AP United Kingdom;X-APPLE-RADIUS=500;X-TITLE=Saw Swee Hock Centre\, 1 Sheffield Street:geo:-0.1175738,51.5147023
END:VEVENT
BEGIN:VEVENT
DTSTART;TZID=Europe/London:20240617T190000
DTEND;TZID=Europe/London:20240617T200000
DTSTAMP:20260419T173048
CREATED:20240430T161125Z
LAST-MODIFIED:20240506T135007Z
UID:10000506-1718650800-1718654400@latin.social
SUMMARY:Cali Beat - Cross-body Level 2
DESCRIPTION:Progressive cross-body salsa course. \n£40 per month (or £50 if the month has 5 weeks).
URL:https://latin.social/event/cali-beat-cross-body-level-2/2024-06-17/
LOCATION:Arts Educational Schools\, Arts Educational Schools\, Cone Ripman House\, 14 Bath Rd\, Chiswick\,\, London\, W4 1LY\, United Kingdom
CATEGORIES:Class
ATTACH;FMTTYPE=image/png:https://latin.social/wp-content/uploads/2024/04/CaliBeat.png
ORGANIZER;CN="CaliBeat Dance Co":MAILTO:info@calibeatdance.com
GEO:51.4959866;-0.2530531
X-APPLE-STRUCTURED-LOCATION;VALUE=URI;X-ADDRESS=Arts Educational Schools Arts Educational Schools Cone Ripman House 14 Bath Rd Chiswick London W4 1LY United Kingdom;X-APPLE-RADIUS=500;X-TITLE=Arts Educational Schools\, Cone Ripman House\, 14 Bath Rd\, Chiswick\,:geo:-0.2530531,51.4959866
END:VEVENT
BEGIN:VEVENT
DTSTART;TZID=Europe/London:20240617T190000
DTEND;TZID=Europe/London:20240617T210000
DTSTAMP:20260419T173048
CREATED:20240501T153704Z
LAST-MODIFIED:20240508T094112Z
UID:10000829-1718650800-1718658000@latin.social
SUMMARY:Salsateca - Salsa and Bachata
DESCRIPTION:⏰ 6:40pm \n📚 7pm Cross-body salsa – Beginners\, Improvers\, Intermediate \n📚 8pm Bachata – Beginners\, Improvers\, Intermediate \n🪇 9pm Free Social \n😴 10pm Close
URL:https://latin.social/event/salsateca-salsa-and-bachata/2024-06-17/
LOCATION:Haberdasher’s Borough Academy Sports Centre\, Haberdasher's Borough Academy Sports Centre\, King's Ct\,\, London\, SE1 0BU\, United Kingdom
CATEGORIES:Class
ATTACH;FMTTYPE=image/jpeg:https://latin.social/wp-content/uploads/2024/04/Salsateca.jpg
ORGANIZER;CN="Salsateca":MAILTO:admin@salsateca.co.uk
GEO:51.5015593;-0.0995307
X-APPLE-STRUCTURED-LOCATION;VALUE=URI;X-ADDRESS=Haberdasher’s Borough Academy Sports Centre Haberdasher's Borough Academy Sports Centre King's Ct London SE1 0BU United Kingdom;X-APPLE-RADIUS=500;X-TITLE=Haberdasher's Borough Academy Sports Centre\, King's Ct\,:geo:-0.0995307,51.5015593
END:VEVENT
BEGIN:VEVENT
DTSTART;TZID=Europe/London:20240617T190000
DTEND;TZID=Europe/London:20240617T210000
DTSTAMP:20260419T173048
CREATED:20240508T172531Z
LAST-MODIFIED:20240508T172531Z
UID:10001722-1718650800-1718658000@latin.social
SUMMARY:Super Mario - Monday Drop-In Salsa
DESCRIPTION:📚 6:30pm Assessment for students joining Weds/Thurs progressive courses \n📚 7pm Cross-body salsa – Beginners 1\, Improvers 1\, Advanced \n📚 8pm Cross-body salsa – Beginners 2\, Improvers 2\, Intermediate \n🪇 9pm Social \n😴 2am Close \n💰 £6 for 1 class\, £10 for 2 classes
URL:https://latin.social/event/super-mario-monday-drop-in-salsa/2024-06-17/
LOCATION:Bar Salsa! – Soho\, Bar Salsa! - Soho\, 96 Charing Cross Road\, London\, WC2H 0JG\, United Kingdom
CATEGORIES:Class,Social
ATTACH;FMTTYPE=image/jpeg:https://latin.social/wp-content/uploads/2024/05/Salsa4Fun-Mondays.jpeg
ORGANIZER;CN="Salsa4Fun":MAILTO:info@salsa4fun.co.uk
GEO:51.5139929;-0.129356
X-APPLE-STRUCTURED-LOCATION;VALUE=URI;X-ADDRESS=Bar Salsa! – Soho Bar Salsa! - Soho 96 Charing Cross Road London WC2H 0JG United Kingdom;X-APPLE-RADIUS=500;X-TITLE=Bar Salsa! - Soho\, 96 Charing Cross Road:geo:-0.129356,51.5139929
END:VEVENT
BEGIN:VEVENT
DTSTART;TZID=Europe/London:20240617T191500
DTEND;TZID=Europe/London:20240617T201500
DTSTAMP:20260419T173048
CREATED:20240527T094509Z
LAST-MODIFIED:20240604T101810Z
UID:10002534-1718651700-1718655300@latin.social
SUMMARY:Esencia Libre - Salsa On1 Beginners
DESCRIPTION:This class will focus on base techniques needed to get started dancing with a partner and individually. Class taught On1 timing. No partner needed as we rotate in class. Suitable for anyone at the beginning of their dance journey\, anyone dancing for 0 – 12+ weeks. \nSocial practice from 9:15pm \n4 Week progressive course\, with start dates on: \n\n10th June\n8th July\n5th August\n2nd September\n30th September\n28th October\n\n 
URL:https://latin.social/event/esencia-libre-salsa-on1-beginners/2024-06-17/
LOCATION:157 Copenhagen Street\, 157 Copenhagen Street\, London\, N1 0SR\, United Kingdom
CATEGORIES:Class
ATTACH;FMTTYPE=image/png:https://latin.social/wp-content/uploads/2024/05/Esencia-Libre-Mondays.png
ORGANIZER;CN="Esencia Libre":MAILTO:support@esencialibre.co.uk
GEO:51.5368055;-0.1173078
X-APPLE-STRUCTURED-LOCATION;VALUE=URI;X-ADDRESS=157 Copenhagen Street 157 Copenhagen Street London N1 0SR United Kingdom;X-APPLE-RADIUS=500;X-TITLE=157 Copenhagen Street:geo:-0.1173078,51.5368055
END:VEVENT
BEGIN:VEVENT
DTSTART;TZID=Europe/London:20240617T191500
DTEND;TZID=Europe/London:20240617T201500
DTSTAMP:20260419T173048
CREATED:20240527T094707Z
LAST-MODIFIED:20240604T101800Z
UID:10002558-1718651700-1718655300@latin.social
SUMMARY:Esencia Libre - Salsa On1 Improvers
DESCRIPTION:Now that you’ve got the basics under your belt\, we can start to add to your repertoire for social dancing. Suitable for anyone dancing for 12+ weeks. Class is split into 2 sections\, 25mins footwork and then 30mins partnerwork. Class taught On1 timing. No partner needed as we rotate in class. \nSocial practice from 9:15pm \n4 Week progressive course\, with start dates on: \n\n10th June\n8th July\n5th August\n2nd September\n30th September\n28th October
URL:https://latin.social/event/esencia-libre-salsa-on1-improvers/2024-06-17/
LOCATION:157 Copenhagen Street\, 157 Copenhagen Street\, London\, N1 0SR\, United Kingdom
CATEGORIES:Class
ATTACH;FMTTYPE=image/png:https://latin.social/wp-content/uploads/2024/05/Esencia-Libre-Mondays.png
ORGANIZER;CN="Esencia Libre":MAILTO:support@esencialibre.co.uk
GEO:51.5368055;-0.1173078
X-APPLE-STRUCTURED-LOCATION;VALUE=URI;X-ADDRESS=157 Copenhagen Street 157 Copenhagen Street London N1 0SR United Kingdom;X-APPLE-RADIUS=500;X-TITLE=157 Copenhagen Street:geo:-0.1173078,51.5368055
END:VEVENT
BEGIN:VEVENT
DTSTART;TZID=Europe/London:20240617T191500
DTEND;TZID=Europe/London:20240617T201500
DTSTAMP:20260419T173048
CREATED:20240527T094848Z
LAST-MODIFIED:20240604T101752Z
UID:10002582-1718651700-1718655300@latin.social
SUMMARY:Esencia Libre - Salsa On1 Intermediate
DESCRIPTION:Take it to the next level\, increasing repertoire and difficulty within footwork and partnerwork patterns for social dancing. Class is split into 2 sections\, 25mins footwork and then 30mins partnerwork. Class taught On1 timing. No partner needed as we rotate in class. Suitable for anyone dancing for 1.5+ years. \nSocial practice from 9:15pm \n4 Week progressive course\, with start dates on: \n\n10th June\n8th July\n5th August\n2nd September\n30th September\n28th October
URL:https://latin.social/event/esencia-libre-salsa-on1-intermediate/2024-06-17/
LOCATION:157 Copenhagen Street\, 157 Copenhagen Street\, London\, N1 0SR\, United Kingdom
CATEGORIES:Class
ATTACH;FMTTYPE=image/png:https://latin.social/wp-content/uploads/2024/05/Esencia-Libre-Mondays.png
ORGANIZER;CN="Esencia Libre":MAILTO:support@esencialibre.co.uk
GEO:51.5368055;-0.1173078
X-APPLE-STRUCTURED-LOCATION;VALUE=URI;X-ADDRESS=157 Copenhagen Street 157 Copenhagen Street London N1 0SR United Kingdom;X-APPLE-RADIUS=500;X-TITLE=157 Copenhagen Street:geo:-0.1173078,51.5368055
END:VEVENT
BEGIN:VEVENT
DTSTART;TZID=Europe/London:20240617T191500
DTEND;TZID=Europe/London:20240617T210000
DTSTAMP:20260419T173048
CREATED:20240507T143506Z
LAST-MODIFIED:20240718T144708Z
UID:10001430-1718651700-1718658000@latin.social
SUMMARY:Pura Nights - Salsa and Bachata Classes & Social
DESCRIPTION:⏰ 7:15pm \n📚 7:30pm Cross-body salsa – 2-3 Levels \n📚 8:15pm Bachata – 2-3 Levels \n🪇 9pm Social \n😴 11pm Close \n💰 £10 for one class & party \n💰 £15 for two classes & party \n💰 £5 for party only \nPLEASE NOTE: cash payments are accepted at the door only! \nSTUDENT SPECIAL: You receive £5 off any class pass! Bring your valid NUS! Only £5 for one class & party | Only £10 for 2 classes & party
URL:https://latin.social/event/pura-nights-salsa-and-bachata-classes-social/2024-06-17/
LOCATION:The George VI\, The George VI\, 185 Chiswick High Road\, London\, W4 2DR\, United Kingdom
CATEGORIES:Class,Social
ATTACH;FMTTYPE=image/jpeg:https://latin.social/wp-content/uploads/2024/05/Pura-Nights-Mondays-e1716306148221.jpg
ORGANIZER;CN="Melitta Siomos":MAILTO:siomosmelitta@gmail.com
GEO:51.4922866;-0.2569831
X-APPLE-STRUCTURED-LOCATION;VALUE=URI;X-ADDRESS=The George VI The George VI 185 Chiswick High Road London W4 2DR United Kingdom;X-APPLE-RADIUS=500;X-TITLE=The George VI\, 185 Chiswick High Road:geo:-0.2569831,51.4922866
END:VEVENT
BEGIN:VEVENT
DTSTART;TZID=Europe/London:20240617T193000
DTEND;TZID=Europe/London:20240617T213000
DTSTAMP:20260419T173048
CREATED:20240507T140337Z
LAST-MODIFIED:20240507T140337Z
UID:10001409-1718652600-1718659800@latin.social
SUMMARY:Mambo City - On2/Contra-Tiempo Classes
DESCRIPTION:This is not your normal Salsa Class. \nSalsa music is rich and complex. It is more than just counts\, it has it’s own heartbeat known as the clave. \nBut do we really understand the clave? Or  Tumbao? \n  \nGo beyond just learning turn patterns. Salsa has a natural swing rooted by the foundations of afro latin rhythms. By connecting to the music you can gain a deeper understanding of movement and flow.\nDispel the belief that you cannot find the ‘salsa’ rhythm without counting\, one of the most effective ways to learn to dance On2 is by Internalise pulse and rhythm\, incorporating the clave and Tumbao helping you find your own swing\, using the count as a tool and not as the rhythm. \nIn these weekly classes both beginner and advanced dancers can gain deeper perspective of salsa rhythm and dance \n\n\n\n\nBeginner/Improvers Classes will be held in one and half hour sessions. \nThese are not for absolute beginners\, classes are suitable for On1 dancers wanting to learn On2 / Contra-tiempo \n  \nIntermediates Classes will be held in 2 hour progressive format. \nboth classes will be covering: \n\nClave Rhythm\nTumbao\nBody Movement\nBody Isolation with Afro Movement\nMusicality
URL:https://latin.social/event/mambo-city-on2-contra-tiempo-classes/2024-06-17/
LOCATION:Sylvia Young Theatre School\, Sylvia Young Theatre School\, 1 Nutford Place\, London\, W1H 5YZ\, United Kingdom
CATEGORIES:Class
ATTACH;FMTTYPE=image/jpeg:https://latin.social/wp-content/uploads/2024/04/MamboCity.jpg
GEO:51.5172031;-0.162456
X-APPLE-STRUCTURED-LOCATION;VALUE=URI;X-ADDRESS=Sylvia Young Theatre School Sylvia Young Theatre School 1 Nutford Place London W1H 5YZ United Kingdom;X-APPLE-RADIUS=500;X-TITLE=Sylvia Young Theatre School\, 1 Nutford Place:geo:-0.162456,51.5172031
END:VEVENT
BEGIN:VEVENT
DTSTART;TZID=Europe/London:20240617T193000
DTEND;TZID=Europe/London:20240617T213000
DTSTAMP:20260419T173048
CREATED:20240508T104201Z
LAST-MODIFIED:20240508T104201Z
UID:10001561-1718652600-1718659800@latin.social
SUMMARY:La Escuela de Bachata - Bachata Classes and Social
DESCRIPTION:⏰ 7pm \n📚 7:30pm Bachata Sensual – Beginners\, Improvers\, Intermediate\, Advanced \n📚 8:30pm Bachata Moderna – Beginners\, Improvers\, Intermediate\, Advanced \n🪇 9:30pm Social \n😴 11pm Close \n💰 1 class £9 (students/ NHS £7) \n💰 2 classes £12 (students/ NHS £10) \n💰 Social £3
URL:https://latin.social/event/la-escuela-de-bachata-bachata-classes-and-social/2024-06-17/
LOCATION:Brighthelm Centre\, Brighthelm Centre\, North Road\, Brighton\, BN1 1YD\, United Kingdom
CATEGORIES:Class,Social
ATTACH;FMTTYPE=image/png:https://latin.social/wp-content/uploads/2024/04/EscuelaDeBachata.png
ORGANIZER;CN="La Escuela de Bachata":MAILTO:laescueladebachata@gmail.com
GEO:50.8258864;-0.1419405
X-APPLE-STRUCTURED-LOCATION;VALUE=URI;X-ADDRESS=Brighthelm Centre Brighthelm Centre North Road Brighton BN1 1YD United Kingdom;X-APPLE-RADIUS=500;X-TITLE=Brighthelm Centre\, North Road:geo:-0.1419405,50.8258864
END:VEVENT
BEGIN:VEVENT
DTSTART;TZID=Europe/London:20240617T193000
DTEND;TZID=Europe/London:20240617T213000
DTSTAMP:20260419T173048
CREATED:20240523T154301Z
LAST-MODIFIED:20240523T154342Z
UID:10002160-1718652600-1718659800@latin.social
SUMMARY:FK Dance - Cuban Influence Classes
DESCRIPTION:📚 7:30pm Cuban salsa – Beginners\, Intermediate \n📚 8:30pm Cuban Salsa – Improvers\, Advanced \n😴 9:30pm Close \n💰 £10 for 1 class\, £15 for 2 classes
URL:https://latin.social/event/fk-dance-cuban-influence-classes/2024-06-17/
LOCATION:Haverstock School\, Haverstock School\, 24 Haverstock Hill\, London\, NW3 2BQ\, United Kingdom
CATEGORIES:Class
ATTACH;FMTTYPE=image/png:https://latin.social/wp-content/uploads/2024/04/FKDance.png
ORGANIZER;CN="Fadi K Dance Academy":MAILTO:info@fkdance.com
GEO:51.5451542;-0.1539639
X-APPLE-STRUCTURED-LOCATION;VALUE=URI;X-ADDRESS=Haverstock School Haverstock School 24 Haverstock Hill London NW3 2BQ United Kingdom;X-APPLE-RADIUS=500;X-TITLE=Haverstock School\, 24 Haverstock Hill:geo:-0.1539639,51.5451542
END:VEVENT
BEGIN:VEVENT
DTSTART;TZID=Europe/London:20240617T193000
DTEND;TZID=Europe/London:20240617T230000
DTSTAMP:20260419T173048
CREATED:20240507T131513Z
LAST-MODIFIED:20240805T170014Z
UID:10001309-1718652600-1718665200@latin.social
SUMMARY:Incognito - Bachata and Salsa
DESCRIPTION:⏰ 7:00pm \n📚 7:30pm Bachata Classes – All Levels \n📚 8:45pm Salsa Classes – All Levels \n🪇 9:45pm Social \n😴 11pm Close \n💰 £14 for Both Classes + Club Entry \n💰 £5 Club Only Entry
URL:https://latin.social/event/incognito-bachata-and-salsa-2/2024-06-17/
LOCATION:Wimbledon Salsa and Bachata Club\, Wimbledon Salsa & Bachata Club\, 44 St George's Rd\,\, London\, SW19 4ED\, United Kingdom
CATEGORIES:Class,Social
ATTACH;FMTTYPE=image/jpeg:https://latin.social/wp-content/uploads/2024/04/Incognito.jpg
ORGANIZER;CN="Incognito Dance":MAILTO:info@incognitodance.com
GEO:51.4197387;-0.2103977
X-APPLE-STRUCTURED-LOCATION;VALUE=URI;X-ADDRESS=Wimbledon Salsa and Bachata Club Wimbledon Salsa & Bachata Club 44 St George's Rd London SW19 4ED United Kingdom;X-APPLE-RADIUS=500;X-TITLE=Wimbledon Salsa & Bachata Club\, 44 St George's Rd\,:geo:-0.2103977,51.4197387
END:VEVENT
BEGIN:VEVENT
DTSTART;TZID=Europe/London:20240617T193000
DTEND;TZID=Europe/London:20240618T010000
DTSTAMP:20260419T173048
CREATED:20240524T131805Z
LAST-MODIFIED:20240625T174914Z
UID:10002351-1718652600-1718672400@latin.social
SUMMARY:The Latin Collective - Fuego Mondays
DESCRIPTION:📚 7pm Free Salsa Intro Class \nRoom 1: \n📚 7:30pm Crossbody Salsa (3 Levels)\, Bachata Fusion (3 Levels) \n📚 8:30pm Salsa On2 (2 Levels)\, Bachata Sensual (3 Levels) \n🪇 9:30pm Social \n😴 1am Close \nRoom 2: \n📚 7:30pm Brazilian Zouk (3 Levels) \n📚 8:30pm Brazilian Zouk (3 Levels) \n🪇 9:30pm Social \n😴 1am Close \n  \n💰 £8 for 1 Class (£6 NUS)\, £12 for 2 Classes (£8 NUS)
URL:https://latin.social/event/the-latin-collective-fuego-mondays/2024-06-17/
LOCATION:Bar Salsa! – Temple\, Bar Salsa!\, Temple Place\, London\, WC2R 2PH\, United Kingdom
CATEGORIES:Class,Social
ATTACH;FMTTYPE=image/jpeg:https://latin.social/wp-content/uploads/2024/05/Fuego-Mondays-scaled.jpg
ORGANIZER;CN="Latin Collective":MAILTO:info@latincollectiveuk.com
GEO:51.511005;-0.114235
X-APPLE-STRUCTURED-LOCATION;VALUE=URI;X-ADDRESS=Bar Salsa! – Temple Bar Salsa! Temple Place London WC2R 2PH United Kingdom;X-APPLE-RADIUS=500;X-TITLE=Bar Salsa!\, Temple Place:geo:-0.114235,51.511005
END:VEVENT
BEGIN:VEVENT
DTSTART;TZID=Europe/London:20240617T200000
DTEND;TZID=Europe/London:20240617T210000
DTSTAMP:20260419T173048
CREATED:20240430T161258Z
LAST-MODIFIED:20240506T134934Z
UID:10000532-1718654400-1718658000@latin.social
SUMMARY:Cali Beat - Cali Mixed Level
DESCRIPTION:Progressive Cali style salsa course. \n£40 per month (or £50 if the month has 5 weeks).
URL:https://latin.social/event/cali-beat-cali-mixed-level/2024-06-17/
LOCATION:Arts Educational Schools\, Arts Educational Schools\, Cone Ripman House\, 14 Bath Rd\, Chiswick\,\, London\, W4 1LY\, United Kingdom
CATEGORIES:Class
ATTACH;FMTTYPE=image/png:https://latin.social/wp-content/uploads/2024/04/CaliBeat.png
ORGANIZER;CN="CaliBeat Dance Co":MAILTO:info@calibeatdance.com
GEO:51.4959866;-0.2530531
X-APPLE-STRUCTURED-LOCATION;VALUE=URI;X-ADDRESS=Arts Educational Schools Arts Educational Schools Cone Ripman House 14 Bath Rd Chiswick London W4 1LY United Kingdom;X-APPLE-RADIUS=500;X-TITLE=Arts Educational Schools\, Cone Ripman House\, 14 Bath Rd\, Chiswick\,:geo:-0.2530531,51.4959866
END:VEVENT
BEGIN:VEVENT
DTSTART;TZID=Europe/London:20240617T201500
DTEND;TZID=Europe/London:20240617T211500
DTSTAMP:20260419T173048
CREATED:20240527T095101Z
LAST-MODIFIED:20241119T232943Z
UID:10002606-1718655300-1718658900@latin.social
SUMMARY:Esencia Libre - Transition to On2 Salsa
DESCRIPTION:Although a beginner level class covering very basic shines & partnerwork On2 timing\, this class would generally not be recommended to absolute beginners/ beginners as it could cause some confusion with regards to timing when starting your learning process. This class is open level and recommend for those who are of a Improver level On1+. Suitable for anyone who is competent and comfortable On1 timing looking to transition to or understand how to dance On2. Class is split into 2 sections\, 25mins footwork and then 30mins partnerwork. Class taught On2 timing. No partner needed as we rotate in class. \nSocial practice from 9:15pm \n4 Week progressive course\, with start dates on: \n\n10th June\n8th July\n5th August\n2nd September\n30th September\n28th October
URL:https://latin.social/event/esencia-libre-transition-to-on2-salsa/2024-06-17/
LOCATION:157 Copenhagen Street\, 157 Copenhagen Street\, London\, N1 0SR\, United Kingdom
CATEGORIES:Class
ATTACH;FMTTYPE=image/png:https://latin.social/wp-content/uploads/2024/05/Esencia-Libre-Mondays.png
ORGANIZER;CN="Esencia Libre":MAILTO:support@esencialibre.co.uk
GEO:51.5368055;-0.1173078
X-APPLE-STRUCTURED-LOCATION;VALUE=URI;X-ADDRESS=157 Copenhagen Street 157 Copenhagen Street London N1 0SR United Kingdom;X-APPLE-RADIUS=500;X-TITLE=157 Copenhagen Street:geo:-0.1173078,51.5368055
END:VEVENT
BEGIN:VEVENT
DTSTART;TZID=Europe/London:20240617T201500
DTEND;TZID=Europe/London:20240617T211500
DTSTAMP:20260419T173048
CREATED:20240527T095324Z
LAST-MODIFIED:20241119T232923Z
UID:10002630-1718655300-1718658900@latin.social
SUMMARY:Esencia Libre - Salsa On2 Improvers
DESCRIPTION:We recommend you have Mambo On2 basic knowledge prior to joining this course or at least be a competent On1 dancer. This level will develop your understanding of how to find the On2 rhythm\, and increase your repertoire & fluidity for social dancing. Class is split into 2 sections\, 25mins footwork and then 30mins partnerwork. Class taught On2 timing. No partner needed as we rotate in class. \nSocial practice from 9:15pm \n4 Week progressive course\, with start dates on: \n\n10th June\n8th July\n5th August\n2nd September\n30th September\n28th October
URL:https://latin.social/event/esencia-libre-salsa-on2-improvers/2024-06-17/
LOCATION:157 Copenhagen Street\, 157 Copenhagen Street\, London\, N1 0SR\, United Kingdom
CATEGORIES:Class
ATTACH;FMTTYPE=image/png:https://latin.social/wp-content/uploads/2024/05/Esencia-Libre-Mondays.png
ORGANIZER;CN="Esencia Libre":MAILTO:support@esencialibre.co.uk
GEO:51.5368055;-0.1173078
X-APPLE-STRUCTURED-LOCATION;VALUE=URI;X-ADDRESS=157 Copenhagen Street 157 Copenhagen Street London N1 0SR United Kingdom;X-APPLE-RADIUS=500;X-TITLE=157 Copenhagen Street:geo:-0.1173078,51.5368055
END:VEVENT
BEGIN:VEVENT
DTSTART;TZID=Europe/London:20240617T201500
DTEND;TZID=Europe/London:20240617T211500
DTSTAMP:20260419T173048
CREATED:20240527T095505Z
LAST-MODIFIED:20240604T101717Z
UID:10002654-1718655300-1718658900@latin.social
SUMMARY:Esencia Libre - Salsa On2 Intermediate
DESCRIPTION:Take it to the next level\, increasing repertoire and difficulty for footwork and partnerwork patterns for social dancing. Class is split into 2 sections\, 25mins footwork and then 30mins partnerwork. Class taught On2 timing. No partner needed as we rotate in class. Suitable for anyone dancing for 2+ years. \nSocial practice from 9:15pm \n4 Week progressive course\, with start dates on: \n\n10th June\n8th July\n5th August\n2nd September\n30th September\n28th October
URL:https://latin.social/event/esencia-libre-salsa-on2-intermediate/2024-06-17/
LOCATION:157 Copenhagen Street\, 157 Copenhagen Street\, London\, N1 0SR\, United Kingdom
CATEGORIES:Class
ATTACH;FMTTYPE=image/png:https://latin.social/wp-content/uploads/2024/05/Esencia-Libre-Mondays.png
ORGANIZER;CN="Esencia Libre":MAILTO:support@esencialibre.co.uk
GEO:51.5368055;-0.1173078
X-APPLE-STRUCTURED-LOCATION;VALUE=URI;X-ADDRESS=157 Copenhagen Street 157 Copenhagen Street London N1 0SR United Kingdom;X-APPLE-RADIUS=500;X-TITLE=157 Copenhagen Street:geo:-0.1173078,51.5368055
END:VEVENT
END:VCALENDAR