BEGIN:VCALENDAR
VERSION:2.0
PRODID:-//Latin Social - ECPv6.8.2//NONSGML v1.0//EN
CALSCALE:GREGORIAN
METHOD:PUBLISH
X-ORIGINAL-URL:https://latin.social
X-WR-CALDESC:Events for Latin Social
REFRESH-INTERVAL;VALUE=DURATION:PT1H
X-Robots-Tag:noindex
X-PUBLISHED-TTL:PT1H
BEGIN:VTIMEZONE
TZID:Europe/London
BEGIN:DAYLIGHT
TZOFFSETFROM:+0000
TZOFFSETTO:+0100
TZNAME:BST
DTSTART:20240331T010000
END:DAYLIGHT
BEGIN:STANDARD
TZOFFSETFROM:+0100
TZOFFSETTO:+0000
TZNAME:GMT
DTSTART:20241027T010000
END:STANDARD
END:VTIMEZONE
BEGIN:VEVENT
DTSTART;TZID=Europe/London:20240629T120000
DTEND;TZID=Europe/London:20240629T143000
DTSTAMP:20260419T230230
CREATED:20240625T161945Z
LAST-MODIFIED:20241019T113810Z
UID:10002948-1719662400-1719671400@latin.social
SUMMARY:Bachata Brunch
DESCRIPTION:We have a team dynamic and dedicated dance instructors with whom our students will be able to learn a fusion of Sensual & Dominican Bachata. \nWith years of experience and a passion for teaching\, these instructors are dedicated to helping students improve their skills and confidence on the dance floor. Whether you’re a beginner looking to learn the basics or an experienced dancer wanting to refine your technique this class will be for you. \nIn our classes we will work in concepts like: \n\nBody posture and body isolations\nFrame and connection\nStyling\nFootwork\nTiming and musicality\n\nInstructors and guests: \n\nMelitta Siomos\nDaniel Chong\nIván Galvez\nEdi Alba\nPeynao er Bachatero\nGabriel Ghappyfeet\n\nTIMETABLE \n11:45am \n📚 12pm Bachata Sensual – 3 Levels \n📚 1pm Dominican Bachata – 3 Levels \n🪇 2pm Free Social \n😴 2:30pm Close \nLAUNCH OFFER! £80 for 7 weeks \nBook it here: https://py.pl/C6KJ3 \n£16 2 Classes + Social \nBook it here: https://py.pl/1pSAVS \n£13 1 Class + Social \nBook it here: https://py.pl/1dtzFS \nDress Code: Wear confortable clothing for dancing. \nShoes: We recommend to use light and flexible shoes that hold to the ground but still allow you to slide\, turn or spin.
URL:https://latin.social/event/bachata-brunch/2024-06-29/
LOCATION:Overseas House\, Overseas House\, 19-23 Ironmonger Row\, London\, EC1V 3QN\, United Kingdom
CATEGORIES:Class
ATTACH;FMTTYPE=image/jpeg:https://latin.social/wp-content/uploads/2024/06/Bachata-Brunch.jpg
ORGANIZER;CN="G Happy Feet":MAILTO:gabrielhappyfeet@gmail.com
GEO:51.5269705;-0.0946871
X-APPLE-STRUCTURED-LOCATION;VALUE=URI;X-ADDRESS=Overseas House Overseas House 19-23 Ironmonger Row London EC1V 3QN United Kingdom;X-APPLE-RADIUS=500;X-TITLE=Overseas House\, 19-23 Ironmonger Row:geo:-0.0946871,51.5269705
END:VEVENT
BEGIN:VEVENT
DTSTART;TZID=Europe/London:20240629T120000
DTEND;TZID=Europe/London:20240629T170000
DTSTAMP:20260419T230230
CREATED:20240510T154913Z
LAST-MODIFIED:20240510T154913Z
UID:10001837-1719662400-1719680400@latin.social
SUMMARY:Caramelo - 1 Day Intensive Salsa Beginners
DESCRIPTION:As a Salsa beginner you also have a powerful option to fast track the foundational steps and basic turn patterns by taking one of our 1-Day Intensive courses which are held on select Saturdays. \nThese are intensive 5-hour courses where you will master the content of the Beginner level that we typically teach over 4 weeks in our regular 4-week course format and will be able to jump straight into the Improver level of our 4-week courses for Salsa or Bachata respectively. \nWhether you are just starting out or want to try out what it’s all about\, this is a great option to learn the basics in just one day! \nNo prior dance experience required and no partner needed to attend. We rotate partners through the class so you will be able to dance with everyone. \n  \n⏰ 11:45am \n📚 12pm Course starts \n⏰ 2pm Break – bring some water and a snack\ \n📚 2:30pm Course continues \n🪇 4:30pm Social dancing and practice \n😴 5pm Close
URL:https://latin.social/event/caramelo-1-day-intensive-salsa-beginners/2024-06-29/
LOCATION:Paddington Academy\, Paddington Academy\, 50 Marylands Road\, London\, W9 2DR\, United Kingdom
CATEGORIES:Class
ATTACH;FMTTYPE=image/jpeg:https://latin.social/wp-content/uploads/2024/04/Caramelo.jpg
ORGANIZER;CN="Caramelo Latin Dance":MAILTO:info@caramelolatindance.co.uk
GEO:51.5252497;-0.1937846
X-APPLE-STRUCTURED-LOCATION;VALUE=URI;X-ADDRESS=Paddington Academy Paddington Academy 50 Marylands Road London W9 2DR United Kingdom;X-APPLE-RADIUS=500;X-TITLE=Paddington Academy\, 50 Marylands Road:geo:-0.1937846,51.5252497
END:VEVENT
BEGIN:VEVENT
DTSTART;TZID=Europe/London:20240629T120000
DTEND;TZID=Europe/London:20240629T170000
DTSTAMP:20260419T230230
CREATED:20240510T155112Z
LAST-MODIFIED:20240510T155112Z
UID:10001840-1719662400-1719680400@latin.social
SUMMARY:Caramelo - 1 Day Intensive Bachata Beginners
DESCRIPTION:As a Bachata beginner you also have a powerful option to fast track the foundational steps and basic turn patterns by taking one of our 1-Day Intensive courses which are held on select Saturdays. \nThese are intensive 5-hour courses where you will master the content of the Beginner level that we typically teach over 4 weeks in our regular 4-week course format and will be able to jump straight into the Improver level of our 4-week courses for Salsa or Bachata respectively. \nWhether you are just starting out or want to try out what it’s all about\, this is a great option to learn the basics in just one day! \nNo prior dance experience required and no partner needed to attend. We rotate partners through the class so you will be able to dance with everyone. \n  \n⏰ 11:45am \n📚 12pm Course starts \n⏰ 2pm Break – bring some water and a snack\ \n📚 2:30pm Course continues \n🪇 4:30pm Social dancing and practice \n😴 5pm Close
URL:https://latin.social/event/caramelo-1-day-intensive-bachata-beginners/2024-06-29/
LOCATION:Paddington Academy\, Paddington Academy\, 50 Marylands Road\, London\, W9 2DR\, United Kingdom
CATEGORIES:Class
ATTACH;FMTTYPE=image/jpeg:https://latin.social/wp-content/uploads/2024/04/Caramelo.jpg
ORGANIZER;CN="Caramelo Latin Dance":MAILTO:info@caramelolatindance.co.uk
GEO:51.5252497;-0.1937846
X-APPLE-STRUCTURED-LOCATION;VALUE=URI;X-ADDRESS=Paddington Academy Paddington Academy 50 Marylands Road London W9 2DR United Kingdom;X-APPLE-RADIUS=500;X-TITLE=Paddington Academy\, 50 Marylands Road:geo:-0.1937846,51.5252497
END:VEVENT
BEGIN:VEVENT
DTSTART;TZID=Europe/London:20240629T130000
DTEND;TZID=Europe/London:20240629T190000
DTSTAMP:20260419T230230
CREATED:20240627T130352Z
LAST-MODIFIED:20240627T130352Z
UID:10003106-1719666000-1719687600@latin.social
SUMMARY:Salsa in the Park
DESCRIPTION:Salsa in the Park 2024 edition this Sunday 2nd June 2024 at Hyde Park bandstand 1pm-6pm.\n\n📚 1pm Free Open Level Salsa Class\n\n📚 2pm Rueda de Casino \n🪇 3pm Free Social \n😴 7pm Close \nNo partner required. Playing the best in Salsa & Bachata. Nearest tube Hyde Park Corner. See you all in the park. \nDonations are welcome.
URL:https://latin.social/event/salsa-in-the-park-3/
LOCATION:Hyde Park Bandstand\, Hyde Park Bandstand\, Hyde Park\, London\, W2 2UH\, United Kingdom
CATEGORIES:Social
ATTACH;FMTTYPE=image/jpeg:https://latin.social/wp-content/uploads/2024/05/Salsa-In-The-Park.jpg
GEO:51.5050116;-0.1564583
X-APPLE-STRUCTURED-LOCATION;VALUE=URI;X-ADDRESS=Hyde Park Bandstand Hyde Park Bandstand Hyde Park London W2 2UH United Kingdom;X-APPLE-RADIUS=500;X-TITLE=Hyde Park Bandstand\, Hyde Park:geo:-0.1564583,51.5050116
END:VEVENT
BEGIN:VEVENT
DTSTART;TZID=Europe/London:20240629T140000
DTEND;TZID=Europe/London:20240629T183000
DTSTAMP:20260419T230230
CREATED:20240523T141328Z
LAST-MODIFIED:20240727T120641Z
UID:10001944-1719669600-1719685800@latin.social
SUMMARY:Sizzling Summer Latin Dance Fiesta: Bachata & Salsa
DESCRIPTION: Get ready to groove in London! \n Whether you’re a Bachata enthusiast or a Salsa aficionado\, Estrella Dance invites you to move to the rhythm of Bachata and Salsa\, but only when there’s no rain and the temperature is a warm 15°C or above.Remember to check in before heading to the event. ⏰ Leisurely picnic in Hyde Park \n📚 2pm Free Dance Class \n🪇 3pm Free Social \n😴 6:30pm Close \nSee you under the open air dance!  \nCheck the Facebook link in case the event is cancelled due to bad weather.
URL:https://latin.social/event/sizzling-summer-latin-dance-fiesta-bachata-salsa/2024-06-29/
LOCATION:Hyde Park Bandstand\, Hyde Park Bandstand\, Hyde Park\, London\, W2 2UH\, United Kingdom
CATEGORIES:Social
ATTACH;FMTTYPE=image/jpeg:https://latin.social/wp-content/uploads/2024/05/Joyful-Jamboree.jpg
GEO:51.5050116;-0.1564583
X-APPLE-STRUCTURED-LOCATION;VALUE=URI;X-ADDRESS=Hyde Park Bandstand Hyde Park Bandstand Hyde Park London W2 2UH United Kingdom;X-APPLE-RADIUS=500;X-TITLE=Hyde Park Bandstand\, Hyde Park:geo:-0.1564583,51.5050116
END:VEVENT
BEGIN:VEVENT
DTSTART;TZID=Europe/London:20240629T160000
DTEND;TZID=Europe/London:20240629T210000
DTSTAMP:20260419T230230
CREATED:20240628T133939Z
LAST-MODIFIED:20240628T134137Z
UID:10003108-1719676800-1719694800@latin.social
SUMMARY:Hydechata
DESCRIPTION:Bring snacks\, drinks\, and blankets for some free bachata dancing every Saturday in Hyde Park by the Cavalry Statue (near the Bandstand).
URL:https://latin.social/event/hydechata/2024-06-29/
LOCATION:Hyde Park Bandstand\, Hyde Park Bandstand\, Hyde Park\, London\, W2 2UH\, United Kingdom
CATEGORIES:Social
ATTACH;FMTTYPE=image/jpeg:https://latin.social/wp-content/uploads/2024/06/Cavalry-Statue.jpg
GEO:51.5050116;-0.1564583
X-APPLE-STRUCTURED-LOCATION;VALUE=URI;X-ADDRESS=Hyde Park Bandstand Hyde Park Bandstand Hyde Park London W2 2UH United Kingdom;X-APPLE-RADIUS=500;X-TITLE=Hyde Park Bandstand\, Hyde Park:geo:-0.1564583,51.5050116
END:VEVENT
BEGIN:VEVENT
DTSTART;TZID=Europe/London:20240629T163000
DTEND;TZID=Europe/London:20240630T030000
DTSTAMP:20260419T230230
CREATED:20240625T152022Z
LAST-MODIFIED:20240625T152022Z
UID:10002946-1719678600-1719716400@latin.social
SUMMARY:LLBOS International Summer Weekender
DESCRIPTION:London Loves Bachata and Bachata On Saturday in collaboration are proud to present our International SUMMER Weekender! \nBachata Classes | SHOWS | PARTY \nPlease Note \nFriday Location – The Study Society\, 151 Talgarth Rd\, London W14 9DA \nSaturday Location – THE VAULT\, 300 Strand\, London WC2R 1AE \n  \n**Workshops with the Internationals High Improver and above only \n**All pass options are available at the door – but it is cheaper to book in advance and secure your place. \nOver 18s – bring your PHYSICAL ID! (Passport\, Driving Licence) – no ID no entry No food\, liquid\, glass\, or reusable water bottles are permitted (venue and security rules) \n  \n★The LLBBOS Friday Schedule★ – The Study Society\, 151 Talgarth Rd\, London W14 9DA \n  \n8pm – 9pm Bachata Sensual \n1 – Daniel \n2 – Nick & Christel \n3 – VICTOR & ALBA \n  \n9pm – 10pm Bachata Passion \n1 – Daniel \n2 – Biskit & Paola \n3 – GENO & DEMI \n  \nSHOWTIME 11pm with GENESIS Bachata Ladies by Alba \n  \n★The LLBBOS Saturday Schedule★ –  THE VAULT\, 300 Strand\, London WC2R 1AE **Subject to Change** \n  \nDoors Open 430pm \n5:00pm – 6:00pm – VICTOR & ALBA MASTERCLASS 6:00pm – 7:00pm – GENO & DEMI MASTERCLASS \n7pm Doors Open for evening classes \n7:30- 8:30pm – Dominican Fusion \nLevel 1 – Andrea \nLevel 2 – Pebbles \nLevel 3 – GENO & DEMI \n  \n8:30 – 9:30pm – Bachata Sensual \nLevel 1 – Pebbles \nLevel 2 – Nick & Christel \nLevel 3 – VICTOR & ALBA \n  \n9:30pm – 3am – PARTY \n★The LLBOS DJs★ \nDJ Oreo Sensual (aka Biskit) DJ Ramiro DJ Chong \n  \n★The LLBOS PASSES★ \nFULL WEEKEND PASS \n£60 ADV (£70 OTD) \nIncludes EVERYTHING! \n  \nSATURDAY FULL PASS \n£40 ADV (£50 OTD \nAccess to everything on SATURDAY Only \n  \nFRIDAY (INT) Classes & Party \n2 WS with the Internationals 8pm – 10pm + Party \n£20 ADV / £25 OTD \n  \nFRIDAY (NORM) Class & Party \n£17 ADV / £20 OTD \n  \nFRIDAY Party Only \n£13 early bird/ £15 on the door \n  \nSATURDAY (INT) Classes & Party \n2 WS with the internationals 730 – 930pm + Party \n£20 ADV / £25 OTD \n  \nSATURDAY (NORM) Classes & Party \n£17 ADV / £20 OTD \n  \nSATURDAY Party Only \n£13 early bird/ £15 on the door \n  \nSAT LAST ENTRY 12:30am re-entry is allowed so long as you pick up a wristband before 12:30am and are wearing it – must remain in the outside area \nIt is highly recommended to book in ADVANCE to secure your place at a cheaper price than on the door. \n  \nAdvanced payment link https://www.bosdance.co.uk/event-info/llbos-international-summer-weekender
URL:https://latin.social/event/llbos-international-summer-weekender/2024-06-29/
LOCATION:The Study Society\, The Study Society\, 151 Talgarth Road\, London\, W14 9DA\, United Kingdom
CATEGORIES:Class,Social
ATTACH;FMTTYPE=image/webp:https://latin.social/wp-content/uploads/2024/06/LLBOS-June-Weekender.webp
GEO:51.4906085;-0.214382
X-APPLE-STRUCTURED-LOCATION;VALUE=URI;X-ADDRESS=The Study Society The Study Society 151 Talgarth Road London W14 9DA United Kingdom;X-APPLE-RADIUS=500;X-TITLE=The Study Society\, 151 Talgarth Road:geo:-0.214382,51.4906085
END:VEVENT
BEGIN:VEVENT
DTSTART;TZID=Europe/London:20240629T170000
DTEND;TZID=Europe/London:20240629T191500
DTSTAMP:20260419T230230
CREATED:20240507T120646Z
LAST-MODIFIED:20240508T093511Z
UID:10001199-1719680400-1719688500@latin.social
SUMMARY:Cubaneando - Structured Cuban Salsa
DESCRIPTION:⏰ 4:45pm \n📚 5pm Cuban Salsa – Beginners 1\, Improvers 1 \n📚 6:15pm Cuban Salsa – Beginners 2\, Improvers 2\, Intermediates 1 \n😴 7:15pm Close \n💰 £10 for 1 hour\, £15 for 2 hours\, multi-hour bundle prices available \nSign-up is mandatory\, contact via WhatsApp (+44 795 018 4131) to confirm your place.
URL:https://latin.social/event/cubaneando-structured-cuban-salsa/2024-06-29/
LOCATION:O2 Centre\,The Venue Hall\, O2 Centre\,The Venue Hall\, 255 Finchley Road\, London\, NW3 6LU\, United Kingdom
CATEGORIES:Class
ATTACH;FMTTYPE=image/jpeg:https://latin.social/wp-content/uploads/2024/05/Cubaneando-1-e1715082514819.jpg
ORGANIZER;CN="Cubaneando":MAILTO:info@cubaneando.com
GEO:51.5478286;-0.1814281
X-APPLE-STRUCTURED-LOCATION;VALUE=URI;X-ADDRESS=O2 CentreThe Venue Hall O2 CentreThe Venue Hall 255 Finchley Road London NW3 6LU United Kingdom;X-APPLE-RADIUS=500;X-TITLE=O2 Centre\,The Venue Hall\, 255 Finchley Road:geo:-0.1814281,51.5478286
END:VEVENT
BEGIN:VEVENT
DTSTART;TZID=Europe/London:20240629T180000
DTEND;TZID=Europe/London:20240629T210000
DTSTAMP:20260419T230230
CREATED:20240501T160320Z
LAST-MODIFIED:20240508T094403Z
UID:10001014-1719684000-1719694800@latin.social
SUMMARY:Salsateca - Intensive Cuban Salsa Workshop
DESCRIPTION:⏰ 5:40pm \n📚 6pm Intensive 3 Hour Cuban Workshop \n😴 9pm Close \nEvery other week this workshop becomes Super Intensive and we add 1 hour of Cuban Son from 5pm to 6pm. \nCheck the website to see which week is extended.
URL:https://latin.social/event/salsateca-intensive-cuban-salsa-workshop/2024-06-29/
LOCATION:Christ Church Southwark\, Christ Church Southwark\, 27 Blackfriars Rd\,\, London\, SE1 8NY\, United Kingdom
CATEGORIES:Class,Workshop
ATTACH;FMTTYPE=image/jpeg:https://latin.social/wp-content/uploads/2024/04/Salsateca.jpg
ORGANIZER;CN="Salsateca":MAILTO:admin@salsateca.co.uk
GEO:51.5062543;-0.105126
X-APPLE-STRUCTURED-LOCATION;VALUE=URI;X-ADDRESS=Christ Church Southwark Christ Church Southwark 27 Blackfriars Rd London SE1 8NY United Kingdom;X-APPLE-RADIUS=500;X-TITLE=Christ Church Southwark\, 27 Blackfriars Rd\,:geo:-0.105126,51.5062543
END:VEVENT
BEGIN:VEVENT
DTSTART;TZID=Europe/London:20240629T183000
DTEND;TZID=Europe/London:20240629T230000
DTSTAMP:20260419T230230
CREATED:20240515T165707Z
LAST-MODIFIED:20240928T124815Z
UID:10001931-1719685800-1719702000@latin.social
SUMMARY:Salseame
DESCRIPTION:We are excited to invite you to the monthly SALSEAME.\nJoin us for a night of Salsa sophistication\, elegance\, good music and great dancing.\nCome to dance in one of the most beautiful venues in central London. Near perfect wooden dance floor\, 10 metres high glass ceiling\, reasonable priced drinks.\nDJ: Resident and guest DJs on rotation\nTickets: £12 Advance  £15 on the day\nDress code: Dress to Impress!\nParking – available on roads with single yellow line around the venue\nCloakroom – we will ask you to put your bags/ coats/jackets in the cloakroom: £1 an item (£2 maximum fee)
URL:https://latin.social/event/salseame/2024-06-29/
LOCATION:London Scottish House\, London Scottish House\, 95 Horseferry Road\, London\, SW1P 2QS\, United Kingdom
CATEGORIES:Social
ATTACH;FMTTYPE=image/jpeg:https://latin.social/wp-content/uploads/2024/04/salseame-logo.jpg
GEO:51.4953014;-0.1330838
X-APPLE-STRUCTURED-LOCATION;VALUE=URI;X-ADDRESS=London Scottish House London Scottish House 95 Horseferry Road London SW1P 2QS United Kingdom;X-APPLE-RADIUS=500;X-TITLE=London Scottish House\, 95 Horseferry Road:geo:-0.1330838,51.4953014
END:VEVENT
BEGIN:VEVENT
DTSTART;TZID=Europe/London:20240629T190000
DTEND;TZID=Europe/London:20240629T200000
DTSTAMP:20260419T230230
CREATED:20240626T112236Z
LAST-MODIFIED:20240626T112544Z
UID:10003009-1719687600-1719691200@latin.social
SUMMARY:Zouk Glow - Free Brazilian Zouk Taster
DESCRIPTION:💜 LEARN BRAZILIAN ZOUK AT ZOUKGLOW 💜 \nIt’s been a while since we had beginners\, but this summer is your opportunity to learn all your fundamentals with Jade in our fast paced and fun ESSENTIALS COURSE starting 23rd July for 6 weeks. \nAfter you’re ready to join our iconic Zoukglow Thursdays in our last term of the year starting in September 💃🏽🔥. \nUNSURE 🤔\nYou can try us FREE in our taster session on Sat 29th June. Make sure your reserve your spot now! \nBook online www.zoukglow.com/booking
URL:https://latin.social/event/zouk-glow-free-brazilian-zouk-taster/
LOCATION:Pure Dance Studio\, 13 Artillery Lane\, London\, E1 7LP\, United Kingdom
CATEGORIES:Class
ATTACH;FMTTYPE=image/jpeg:https://latin.social/wp-content/uploads/2024/06/Zouk-Glow-for-Beginners.jpeg
GEO:51.518534;-0.0787739
X-APPLE-STRUCTURED-LOCATION;VALUE=URI;X-ADDRESS=Pure Dance Studio 13 Artillery Lane London E1 7LP United Kingdom;X-APPLE-RADIUS=500;X-TITLE=13 Artillery Lane:geo:-0.0787739,51.518534
END:VEVENT
BEGIN:VEVENT
DTSTART;TZID=Europe/London:20240629T200000
DTEND;TZID=Europe/London:20240630T000000
DTSTAMP:20260419T230230
CREATED:20240507T162546Z
LAST-MODIFIED:20240508T092151Z
UID:10001519-1719691200-1719705600@latin.social
SUMMARY:Sweetlead - Saturday Evening Social
DESCRIPTION:⏰ 7:45pm \n📚 8pm Improver/Intermediate Salsa Class \n🪇 9pm Social Dancing Only \n😴 Midnight Close \n💰 £10 in advance (book online at link below) £12 on the door (cash or card)
URL:https://latin.social/event/sweetlead-saturday-evening-social/2024-06-29/
LOCATION:Christ’s College (The Dining Hall)\, Christ's College (The Dining Hall)\, East End Road\, London\, N2 0SE\, United Kingdom
CATEGORIES:Class,Social
ATTACH;FMTTYPE=image/jpeg:https://latin.social/wp-content/uploads/2024/04/Sweetlead.jpg
ORGANIZER;CN="Sweetlead Salsa":MAILTO:info@sweetlead-salsa.co.uk
GEO:51.591774;-0.1877677
X-APPLE-STRUCTURED-LOCATION;VALUE=URI;X-ADDRESS=Christ’s College (The Dining Hall) Christ's College (The Dining Hall) East End Road London N2 0SE United Kingdom;X-APPLE-RADIUS=500;X-TITLE=Christ's College (The Dining Hall)\, East End Road:geo:-0.1877677,51.591774
END:VEVENT
END:VCALENDAR