BEGIN:VCALENDAR
VERSION:2.0
PRODID:-//Latin Social - ECPv6.8.2//NONSGML v1.0//EN
CALSCALE:GREGORIAN
METHOD:PUBLISH
X-ORIGINAL-URL:https://latin.social
X-WR-CALDESC:Events for Latin Social
REFRESH-INTERVAL;VALUE=DURATION:PT1H
X-Robots-Tag:noindex
X-PUBLISHED-TTL:PT1H
BEGIN:VTIMEZONE
TZID:Europe/London
BEGIN:DAYLIGHT
TZOFFSETFROM:+0000
TZOFFSETTO:+0100
TZNAME:BST
DTSTART:20240331T010000
END:DAYLIGHT
BEGIN:STANDARD
TZOFFSETFROM:+0100
TZOFFSETTO:+0000
TZNAME:GMT
DTSTART:20241027T010000
END:STANDARD
END:VTIMEZONE
BEGIN:VEVENT
DTSTART;TZID=Europe/London:20240630T133000
DTEND;TZID=Europe/London:20240630T233000
DTSTAMP:20260419T230246
CREATED:20240625T173741Z
LAST-MODIFIED:20240625T173741Z
UID:10003003-1719754200-1719790200@latin.social
SUMMARY:Kiz'Bash UK - Sirius
DESCRIPTION:Kiz’bash UK is excited to bring you SIRIUS which is the brightest Star in the night sky.\nOne of our Urbankiz Explosion series with international guest artists.\n*KIZ’BASH UK* is an ensemble of good vibes\, music and parties that promotes socializing\, togetherness\, great atmosphere in its diversity.\n URBANKIZ | TARRAXHA| GHETTO ZOUK | DOUCEUR |KIZOMBA |SEMBA AFRO NDOMBOLO ETC…..\nWorkshop and social are run from 13:30\nthe venue will always have the capacity of 150 to 200 people it is located in one of the vibrant and friendly area of London.\nThe venue will always be modern\, urban\, with a great ambiance\, well lit and spacious for our dancers to express themselves.\n\n OUR INTERNATIONAL ARTISTS\n DJ NICE LIFE IRON MAMS TBC DJ VISSER  MANY MORE \n\n THE PROGRAM\n13h30 – 17h Workshops & BREAK\n<<Party is free if you attend classes >>\nDoors open at 13.00\n13:30 – 14:20 Partner workshop\n  IRON MAMS \n14:30 – 15:20 Partner workshop  IRON MAMS \n15:30 – 16.20 Partner workshop  El CEPRINO  INTRODUCTION TO KOMPA\n BREAK 40mins \n PARTY ( BE ON TIME )\n17.00PM – 11.30PM OR LATER 》Over 6.5h of party MINIMUM\n\nDRESS CODE: ANCIENT EGYPT\n\nPrice will go up gradually and on the day of the event. Book now\n££ PRICE EXCLUDES BOOKING FEES ££\nEarly birds passes to go up\n\n35.55£ Full pass55.50£ Couple pass\nTICKETS: https://buytickets.at/kizbashuk/1265081\nFRAME: https://twb.nz/siriuskizbashevent\n\n☆ Full pass £45.00 [ 3h classes & Free Party ]\n☆ Couple Full pass £75.00 [Classes & Free party]\n\nFOR A CHOICE OF WORKSHOP:£15.00 PER WORKSHOP PER HRTO PAY ON THE DAY ON THE DOOR.THIS DOESN’T INCLUDES PARTY\n☆ Party pass £18.50 EARLY BIRD THEN £20☆ Couple Party Pass £35.50\n\nON THE DOOR PRICES:\nFull Pass £55 [ 3h classes & Free Party ]\nCouple Full pass. £85 [ 3h classes & Free Party ]\n\nFOR A CHOICE OF WORKSHOP: £15.00 PER WORKSHOP PER HR (NO PARTY)\n\nFollower Party Pass only £25.00Lead Party Pass only £25.00Couple Party Pass £40.00\n\nBRING IDCLOAK ROOM IS COMPULSORY
URL:https://latin.social/event/kizbash-uk-sirius/
LOCATION:The Archway Tavern\, Navigator Square\, London\, N19 3TD\, United Kingdom
CATEGORIES:Class,Social
ATTACH;FMTTYPE=image/jpeg:https://latin.social/wp-content/uploads/2024/06/Kiz-Bash.jpg
ORGANIZER;CN="Kiz Bash":MAILTO:kizbashuk@gmail.com
GEO:51.5659627;-0.1349262
X-APPLE-STRUCTURED-LOCATION;VALUE=URI;X-ADDRESS=The Archway Tavern Navigator Square London N19 3TD United Kingdom;X-APPLE-RADIUS=500;X-TITLE=Navigator Square:geo:-0.1349262,51.5659627
END:VEVENT
BEGIN:VEVENT
DTSTART;TZID=Europe/London:20240630T140000
DTEND;TZID=Europe/London:20240630T180000
DTSTAMP:20260419T230246
CREATED:20240508T102835Z
LAST-MODIFIED:20240604T102048Z
UID:10001555-1719756000-1719770400@latin.social
SUMMARY:Viva Esencia Salsa Social
DESCRIPTION:VIVA ESENCIA LONDON welcome you to the FOURTH EDITION of our Salsa Social a collab by Eddie Torres and Keoni Azra.\nEveryone knows the DJ is what makes the party – cause the tunes are everything – we have locked down the amazing World Known DJ Erick “The Saint” for our fourth event.\nThe venue… especially for dancers in mind – it’s got a beautiful sprung floor and lovely high ceilings for ventilation. Located in Somerstown Community Sports Centre just 6 minutes walk from Euston train station and 8 mins walk from Kings Cross\, this venue is perfectly centrally located for easy access.\nGoing straight in for the social\, we’ll start the music from 14:00 with no classes or shows and go all the way through to the end. We want you to walk away dance happy and filled with joy!\nWe have no bar facilities on site\, so please do bring your own refreshments.\n\nTickets are available online and on the door.Early bird online: £6.50 (=-First 20 people-=)Pre-register online: £8On the door: £10 CASH ONLY!!!\nBring your own drinks
URL:https://latin.social/event/viva-esencia-salsa-social/
LOCATION:Somers Town Community Sports Centre\, Somers Town Community Sports Centre\, 134 Chalton Street\, London\, NW1 1RX\, United Kingdom
CATEGORIES:Social
ATTACH;FMTTYPE=image/png:https://latin.social/wp-content/uploads/2024/05/Viva-Esencia-e1717006748459.png
ORGANIZER;CN="Esencia Libre":MAILTO:support@esencialibre.co.uk
GEO:51.5328712;-0.1330869
X-APPLE-STRUCTURED-LOCATION;VALUE=URI;X-ADDRESS=Somers Town Community Sports Centre Somers Town Community Sports Centre 134 Chalton Street London NW1 1RX United Kingdom;X-APPLE-RADIUS=500;X-TITLE=Somers Town Community Sports Centre\, 134 Chalton Street:geo:-0.1330869,51.5328712
END:VEVENT
BEGIN:VEVENT
DTSTART;TZID=Europe/London:20240630T170000
DTEND;TZID=Europe/London:20240630T230000
DTSTAMP:20260419T230246
CREATED:20240514T201112Z
LAST-MODIFIED:20240625T180026Z
UID:10003005-1719766800-1719788400@latin.social
SUMMARY:Cuban Sundays at Juju's Bar and Stage
DESCRIPTION:Sambroso Sambroso is bringing you London’s most famous Cuban get together\, Every week at Juju’s Bar & Stage! Join us for an exclusive six hours of the best Cuban music with the amazing DJ Javier La Maquina De Cuba\, delicious cocktails and dancing! But before the party you need to learn the moves innit? \nThe talented Maikel Mota will be providing dance classes every week! \n📚 5pm Cuban Salsa Class by Maikel Mota \n🪇 6pm Social \n😴 11pm Close \n💰 Class and social £12\, Social only £10 (including a drink) \nTable bookings are available on the Juju’s Bar & Stage website. \nWe accept large and VERY large bookings \nThis is an 18+ event \nYou can book online or pay on the door.
URL:https://latin.social/event/cuban-sundays-at-jujus-bar-and-stage/2024-06-30/
LOCATION:Juju’s Bar and Stage\, Juju's Bar and Stage\, Ely's Yard\, 15 Hanbury Street\, London\, E1 6QR\, United Kingdom
CATEGORIES:Class,Social
ATTACH;FMTTYPE=image/png:https://latin.social/wp-content/uploads/2024/04/SambrosoSambroso.png
ORGANIZER;CN="Sambroso Sambroso":MAILTO:info@sambroso-sambroso.com
GEO:51.5205128;-0.0736106
X-APPLE-STRUCTURED-LOCATION;VALUE=URI;X-ADDRESS=Juju’s Bar and Stage Juju's Bar and Stage Ely's Yard 15 Hanbury Street London E1 6QR United Kingdom;X-APPLE-RADIUS=500;X-TITLE=Juju's Bar and Stage\, Ely's Yard\, 15 Hanbury Street:geo:-0.0736106,51.5205128
END:VEVENT
BEGIN:VEVENT
DTSTART;TZID=Europe/London:20240630T170000
DTEND;TZID=Europe/London:20240630T230000
DTSTAMP:20260419T230246
CREATED:20240625T175941Z
LAST-MODIFIED:20240625T175941Z
UID:10003004-1719766800-1719788400@latin.social
SUMMARY:Cuban Sundays at Juju's Bar and Stage at The Forge!
DESCRIPTION:VENUE CHANGED TO THE FORGE \nSambroso Sambroso is bringing you London’s most famous Cuban get together\, Every week at Juju’s Bar & Stage! Join us for an exclusive six hours of the best Cuban music with the amazing DJ Javier La Maquina De Cuba\, delicious cocktails and dancing! But before the party you need to learn the moves innit? \nThe talented Maikel Mota will be providing dance classes every week! \n📚 5pm Cuban Salsa Class by Maikel Mota \n🪇 6pm Social \n😴 11pm Close \n💰 Class and social £12\, Social only £10 (including a drink) \nTable bookings are available on the Juju’s Bar & Stage website. \nWe accept large and VERY large bookings \nThis is an 18+ event \nYou can book online or pay on the door.
URL:https://latin.social/event/cuban-sundays-at-jujus-bar-and-stage-at-the-forge-2/
LOCATION:The Forge\, The Forge\, 3-7 Delancey Street\, London\, NW1 7NL\, United Kingdom
CATEGORIES:Class,Social
ATTACH;FMTTYPE=image/png:https://latin.social/wp-content/uploads/2024/04/SambrosoSambroso.png
ORGANIZER;CN="Sambroso Sambroso":MAILTO:info@sambroso-sambroso.com
GEO:51.5369444;-0.1416667
X-APPLE-STRUCTURED-LOCATION;VALUE=URI;X-ADDRESS=The Forge The Forge 3-7 Delancey Street London NW1 7NL United Kingdom;X-APPLE-RADIUS=500;X-TITLE=The Forge\, 3-7 Delancey Street:geo:-0.1416667,51.5369444
END:VEVENT
BEGIN:VEVENT
DTSTART;TZID=Europe/London:20240630T180000
DTEND;TZID=Europe/London:20240630T200000
DTSTAMP:20260419T230246
CREATED:20240501T160513Z
LAST-MODIFIED:20240508T094137Z
UID:10001040-1719770400-1719777600@latin.social
SUMMARY:Salsateca - Salsa and Bachata
DESCRIPTION:⏰ 5:40pm \n📚 6pm Cross-body salsa – Beginners\, Improvers\, Intermediate \n📚 7pm Bachata – Beginners\, Improvers\, Intermediate \n🪇 8pm Free Social \n😴 9pm Close
URL:https://latin.social/event/salsateca-salsa-and-bachata-5/2024-06-30/
LOCATION:Siobhan Davies Studios\, Siobhan Davies Studios\, 85 St George's Rd\,\, London\, SE1 6ER\, United Kingdom
CATEGORIES:Class
ATTACH;FMTTYPE=image/jpeg:https://latin.social/wp-content/uploads/2024/04/Salsateca.jpg
ORGANIZER;CN="Salsateca":MAILTO:admin@salsateca.co.uk
GEO:51.4960929;-0.1052934
X-APPLE-STRUCTURED-LOCATION;VALUE=URI;X-ADDRESS=Siobhan Davies Studios Siobhan Davies Studios 85 St George's Rd London SE1 6ER United Kingdom;X-APPLE-RADIUS=500;X-TITLE=Siobhan Davies Studios\, 85 St George's Rd\,:geo:-0.1052934,51.4960929
END:VEVENT
BEGIN:VEVENT
DTSTART;TZID=Europe/London:20240630T190000
DTEND;TZID=Europe/London:20240630T230000
DTSTAMP:20260419T230246
CREATED:20240501T143645Z
LAST-MODIFIED:20241123T140524Z
UID:10000788-1719774000-1719788400@latin.social
SUMMARY:SOS - Salsa on Sunday
DESCRIPTION:Classes from 7:00pm-8:00pm\, all levels. \nSocial from 8:00pm-11:00pm. \n£10 on the door or in advance\n£8 – Door Only! (Students with NUS\, NHS\, Police\, Fire\, Ambulance – Must show ID at the door) \n 
URL:https://latin.social/event/sos-salsa-on-sunday/2024-06-30/
LOCATION:Cecil Sharp House\, Cecil Sharp House\, 2 Regent's Park Rd\,\, London\, NW1 7AY\, United Kingdom
CATEGORIES:Class,Social
ATTACH;FMTTYPE=image/jpeg:https://latin.social/wp-content/uploads/2024/04/SOS.jpg
GEO:51.5381546;-0.1493065
X-APPLE-STRUCTURED-LOCATION;VALUE=URI;X-ADDRESS=Cecil Sharp House Cecil Sharp House 2 Regent's Park Rd London NW1 7AY United Kingdom;X-APPLE-RADIUS=500;X-TITLE=Cecil Sharp House\, 2 Regent's Park Rd\,:geo:-0.1493065,51.5381546
END:VEVENT
END:VCALENDAR