BEGIN:VCALENDAR
VERSION:2.0
PRODID:-//Latin Social - ECPv6.8.2//NONSGML v1.0//EN
CALSCALE:GREGORIAN
METHOD:PUBLISH
X-WR-CALNAME:Latin Social
X-ORIGINAL-URL:https://latin.social
X-WR-CALDESC:Events for Latin Social
REFRESH-INTERVAL;VALUE=DURATION:PT1H
X-Robots-Tag:noindex
X-PUBLISHED-TTL:PT1H
BEGIN:VTIMEZONE
TZID:Europe/London
BEGIN:DAYLIGHT
TZOFFSETFROM:+0000
TZOFFSETTO:+0100
TZNAME:BST
DTSTART:20240331T010000
END:DAYLIGHT
BEGIN:STANDARD
TZOFFSETFROM:+0100
TZOFFSETTO:+0000
TZNAME:GMT
DTSTART:20241027T010000
END:STANDARD
END:VTIMEZONE
BEGIN:VEVENT
DTSTART;TZID=Europe/London:20240430T191500
DTEND;TZID=Europe/London:20240430T201500
DTSTAMP:20260420T083740
CREATED:20240418T161732Z
LAST-MODIFIED:20240507T121753Z
UID:10000033-1714504500-1714508100@latin.social
SUMMARY:DanceBuzz - Salsa Beginners
DESCRIPTION:Our beginners salsa classes are structured in progressive courses which means that you will be covering a syllabus of steps and routines each week for the duration of the salsa course\, making your learning curve continuous. This format allows you to learn the salsa steps and rhythm faster with our structured\, yet fun and effective teaching method.
URL:https://latin.social/event/dancebuzz-salsa-beginners/2024-04-30/
LOCATION:St Aloysius R.C. Church\, St Aloysius R.C. Church\, 20 Phoenix Rd\,\, London\, NW1 1TA\, United Kingdom
CATEGORIES:Class
ATTACH;FMTTYPE=image/png:https://latin.social/wp-content/uploads/2024/04/Dancebuzz.png
ORGANIZER;CN="DanceBuzz":MAILTO:hello@dancebuzz.co.uk
GEO:51.5300869;-0.1334929
X-APPLE-STRUCTURED-LOCATION;VALUE=URI;X-ADDRESS=St Aloysius R.C. Church St Aloysius R.C. Church 20 Phoenix Rd London NW1 1TA United Kingdom;X-APPLE-RADIUS=500;X-TITLE=St Aloysius R.C. Church\, 20 Phoenix Rd\,:geo:-0.1334929,51.5300869
END:VEVENT
BEGIN:VEVENT
DTSTART;TZID=Europe/London:20240430T190000
DTEND;TZID=Europe/London:20240430T203000
DTSTAMP:20260420T083740
CREATED:20240430T140606Z
LAST-MODIFIED:20240506T135737Z
UID:10000230-1714503600-1714509000@latin.social
SUMMARY:AT Dancing - Salsa Intermediate
DESCRIPTION:For Intermediate dancers. Book courses to expand your Partnerwork skills\, learn new combinations\, leading/following techniques\, footworks and more! \nSolo or with a partner – come to practice your dance skills with others! Focus on quality of your dancing! Book one off class or a 4 week course to maintain continuation in your learning. \nPlease Note with course you get access to a closed whatsapp group with all ongoing videos from your class. \nPlease pre-book your classes online or contact us to book your spot.
URL:https://latin.social/event/at-dancing-salsa-intermediate/2024-04-30/
LOCATION:The Pavilion\, The Pavilion\, Brickfield Lane\,\, London\, EN5 3LD\, United Kingdom
CATEGORIES:Class
ATTACH;FMTTYPE=image/jpeg:https://latin.social/wp-content/uploads/2024/04/ATDancing.jpg
ORGANIZER;CN="AT Dancing":MAILTO:atdancing.uk@gmail.com
GEO:51.642436;-0.242858
X-APPLE-STRUCTURED-LOCATION;VALUE=URI;X-ADDRESS=The Pavilion The Pavilion Brickfield Lane London EN5 3LD United Kingdom;X-APPLE-RADIUS=500;X-TITLE=The Pavilion\, Brickfield Lane\,:geo:-0.242858,51.642436
END:VEVENT
BEGIN:VEVENT
DTSTART;TZID=Europe/London:20240430T190000
DTEND;TZID=Europe/London:20240430T200000
DTSTAMP:20260420T083740
CREATED:20240430T140344Z
LAST-MODIFIED:20240506T135808Z
UID:10000204-1714503600-1714507200@latin.social
SUMMARY:AT Dancing - Salsa Beginners
DESCRIPTION:Come to learn how to dance with a partner! No experience required! \nJoin a beginner group and learn how to dance with a partner from basics\, gain new dance skills with others\, it is a great practice time as well as best way to meet more dancers on your level! \nBook one off class or a 4 week course to maintain continuation in your learning. \nPlease pre-book your classes online or contact us to book your spot.
URL:https://latin.social/event/at-dancing-salsa-beginners/2024-04-30/
LOCATION:The Pavilion\, The Pavilion\, Brickfield Lane\,\, London\, EN5 3LD\, United Kingdom
CATEGORIES:Class
ATTACH;FMTTYPE=image/jpeg:https://latin.social/wp-content/uploads/2024/04/ATDancing.jpg
ORGANIZER;CN="AT Dancing":MAILTO:atdancing.uk@gmail.com
GEO:51.642436;-0.242858
X-APPLE-STRUCTURED-LOCATION;VALUE=URI;X-ADDRESS=The Pavilion The Pavilion Brickfield Lane London EN5 3LD United Kingdom;X-APPLE-RADIUS=500;X-TITLE=The Pavilion\, Brickfield Lane\,:geo:-0.242858,51.642436
END:VEVENT
BEGIN:VEVENT
DTSTART;TZID=Europe/London:20240430T184500
DTEND;TZID=Europe/London:20240430T213000
DTSTAMP:20260420T083740
CREATED:20240430T143522Z
LAST-MODIFIED:20240815T154548Z
UID:10000334-1714502700-1714512600@latin.social
SUMMARY:Bachata Essence
DESCRIPTION:📚 6:45pm Ladies and Mens Styling \n📚 7:40pm Beginners\, Yellow\, and Orange tracks \n📚 8:35pm Beginners\, Yellow\, and Orange tracks \n🪇 9:30pm Social \n😴 11pm Close \n💰 Three Classes & Social £15 \n💰 Two Classes & Social £12 \n💰 One Class & Social £10 \n💰 Social Only £5
URL:https://latin.social/event/bachata-essence/2024-04-30/
LOCATION:Uthink Art Gallery\, Uthink Art Gallery\, Unit 1\, 13 High Holborn\,\, London\, WC1V 6DR\, United Kingdom
CATEGORIES:Class,Social
ATTACH;FMTTYPE=image/jpeg:https://latin.social/wp-content/uploads/2024/04/BachataEssence.jpg
GEO:51.5183736;-0.1119497
X-APPLE-STRUCTURED-LOCATION;VALUE=URI;X-ADDRESS=Uthink Art Gallery Uthink Art Gallery Unit 1 13 High Holborn London WC1V 6DR United Kingdom;X-APPLE-RADIUS=500;X-TITLE=Uthink Art Gallery\, Unit 1\, 13 High Holborn\,:geo:-0.1119497,51.5183736
END:VEVENT
BEGIN:VEVENT
DTSTART;TZID=Europe/London:20240430T181000
DTEND;TZID=Europe/London:20240430T191000
DTSTAMP:20260420T083740
CREATED:20240418T161733Z
LAST-MODIFIED:20240507T123226Z
UID:10001257-1714500600-1714504200@latin.social
SUMMARY:DanceBuzz - Salsa Improvers
DESCRIPTION:Our Improver Salsa classes program follows straight from the Level 1 Beginners Salsa courses. It is split into a number of progressive courses running throughout the year\, allowing you to get exposed to a large number of moves and variations and improve on your leading\, following\, rhythm and balance. \nYou are expected to complete four to six Level 2 courses before progressing to Level 3 – Intermediate Salsa.
URL:https://latin.social/event/dancebuzz-salsa-improvers/2024-04-30/
LOCATION:St Aloysius R.C. Church\, St Aloysius R.C. Church\, 20 Phoenix Rd\,\, London\, NW1 1TA\, United Kingdom
CATEGORIES:Class
ATTACH;FMTTYPE=image/png:https://latin.social/wp-content/uploads/2024/04/Dancebuzz.png
ORGANIZER;CN="DanceBuzz":MAILTO:hello@dancebuzz.co.uk
GEO:51.5300869;-0.1334929
X-APPLE-STRUCTURED-LOCATION;VALUE=URI;X-ADDRESS=St Aloysius R.C. Church St Aloysius R.C. Church 20 Phoenix Rd London NW1 1TA United Kingdom;X-APPLE-RADIUS=500;X-TITLE=St Aloysius R.C. Church\, 20 Phoenix Rd\,:geo:-0.1334929,51.5300869
END:VEVENT
BEGIN:VEVENT
DTSTART;TZID=Europe/London:20240427T193000
DTEND;TZID=Europe/London:20240428T000000
DTSTAMP:20260420T083740
CREATED:20240418T161734Z
LAST-MODIFIED:20240508T094929Z
UID:10000009-1714246200-1714262400@latin.social
SUMMARY:Incognito - Monthly Salsa and Bachata Party
DESCRIPTION:⏰ 7pm \n📚 7:30pm Bachata Classes (All levels) \n📚 8:30pm Salsa Classes (All levels) \n🪇 9:30pm Party \n😴 Midnight Close
URL:https://latin.social/event/incognito-monthly-salsa-and-bachata-party/2024-04-27/
LOCATION:The Dance Lab\, The Dance Lab\, 63 Upper Richmond Rd\,\, London\, SW15 2RD\, United Kingdom
CATEGORIES:Class,Social
ATTACH;FMTTYPE=image/jpeg:https://latin.social/wp-content/uploads/2024/04/Incognito.jpg
ORGANIZER;CN="Incognito Dance":MAILTO:info@incognitodance.com
GEO:51.4581144;-0.2083948
X-APPLE-STRUCTURED-LOCATION;VALUE=URI;X-ADDRESS=The Dance Lab The Dance Lab 63 Upper Richmond Rd London SW15 2RD United Kingdom;X-APPLE-RADIUS=500;X-TITLE=The Dance Lab\, 63 Upper Richmond Rd\,:geo:-0.2083948,51.4581144
END:VEVENT
BEGIN:VEVENT
DTSTART;TZID=Europe/London:20240427T190000
DTEND;TZID=Europe/London:20240428T030000
DTSTAMP:20260420T083740
CREATED:20240418T161734Z
LAST-MODIFIED:20240506T135856Z
UID:10000007-1714244400-1714273200@latin.social
SUMMARY:El Bembé
DESCRIPTION:7:00pmDoors Open (Arrive at least 5 to 10 min before the lesson starts to avoid queues) \n7:15pm\nBachata Lessons (All Levels) \n8:15pm\nSalsa Lessons (All Levels) \n9:00pm to 3:00am\nPARTY \n£15 per person plus £5 for Both Lessons (Salsa & Bachata) ALL ENTRY PRICES INCLUDE A DRINK OF CHOICE* *Pint of Lager / House Spirit + Mixer / Glass of Wine / Soft Drink / Small Bottle of Water\n\nhttps://salsateca.co.uk/event/el-bembe-salsa-bachata-party
URL:https://latin.social/event/el-bembe/
LOCATION:The Editor’s Tap\, The Editor's Tap\, 5-11 Fetter Ln\,\, London\, EC4A 1BR\, United Kingdom
CATEGORIES:Social
ATTACH;FMTTYPE=image/webp:https://latin.social/wp-content/uploads/2024/04/El-Bembe.webp
ORGANIZER;CN="Salsateca":MAILTO:admin@salsateca.co.uk
GEO:51.5147546;-0.1093949
X-APPLE-STRUCTURED-LOCATION;VALUE=URI;X-ADDRESS=The Editor’s Tap The Editor's Tap 5-11 Fetter Ln London EC4A 1BR United Kingdom;X-APPLE-RADIUS=500;X-TITLE=The Editor's Tap\, 5-11 Fetter Ln\,:geo:-0.1093949,51.5147546
END:VEVENT
BEGIN:VEVENT
DTSTART;TZID=Europe/London:20240426T183000
DTEND;TZID=Europe/London:20240426T194500
DTSTAMP:20260420T083740
CREATED:20240514T194634Z
LAST-MODIFIED:20240515T153819Z
UID:10001852-1714156200-1714160700@latin.social
SUMMARY:MS Dance  - Beginners Salsa (8 Weeks)
DESCRIPTION:Have you ever wanted to learn Salsa? …You came to the right place. \nIn our Salsa beginners course you will learn the basic steps and moves as well as the rhythm of the dance. \nThis is a progressive course and your knowledge and progression will be built from week to week. \nThere will be plenty of drilling to make you comfortable and confident with the steps and moves you are to learn. \nAnd on top of that you may even have some fun…after all dancing is about fun 🙂 \nThis course is suitable for both men and women\, no partner necessary.
URL:https://latin.social/event/ms-dance-beginners-salsa-8-weeks/2024-04-26/
LOCATION:YMCA (Ealing)\, YMCA\, 25 St Mary's Road\, London\, W5 5RE\, United Kingdom
CATEGORIES:Class
ATTACH;FMTTYPE=image/jpeg:https://latin.social/wp-content/uploads/2024/04/MSDance-logo.jpg
ORGANIZER;CN="MS Dance":MAILTO:info@msdance.co.uk
GEO:51.5070375;-0.3040958
X-APPLE-STRUCTURED-LOCATION;VALUE=URI;X-ADDRESS=YMCA (Ealing) YMCA 25 St Mary's Road London W5 5RE United Kingdom;X-APPLE-RADIUS=500;X-TITLE=YMCA\, 25 St Mary's Road:geo:-0.3040958,51.5070375
END:VEVENT
BEGIN:VEVENT
DTSTART;TZID=Europe/London:20240425T194500
DTEND;TZID=Europe/London:20240425T230000
DTSTAMP:20260420T083740
CREATED:20240418T161734Z
LAST-MODIFIED:20240805T170038Z
UID:10000045-1714074300-1714086000@latin.social
SUMMARY:Incognito - Bachata and Salsa
DESCRIPTION:⏰ 7:30pm \n📚 7:45pm Bachata Classes – All Levels \n📚 8:40pm Salsa Classes – All Levels \n🪇 9:30pm Social \n😴 11pm Close \n💰 £14 for Both Classes + Club Entry \n💰 £10 Club Only Entry
URL:https://latin.social/event/incognito-bachata-and-salsa/2024-04-25/
LOCATION:St Phillip’s Church\, St Phillip's Church\, Earl's Court Road\, London\, W8 6QH\, United Kingdom
CATEGORIES:Class,Social
ATTACH;FMTTYPE=image/jpeg:https://latin.social/wp-content/uploads/2024/04/Incognito.jpg
ORGANIZER;CN="Incognito Dance":MAILTO:info@incognitodance.com
GEO:51.4955198;-0.1962807
X-APPLE-STRUCTURED-LOCATION;VALUE=URI;X-ADDRESS=St Phillip’s Church St Phillip's Church Earl's Court Road London W8 6QH United Kingdom;X-APPLE-RADIUS=500;X-TITLE=St Phillip's Church\, Earl's Court Road:geo:-0.1962807,51.4955198
END:VEVENT
BEGIN:VEVENT
DTSTART;TZID=Europe/London:20240425T191500
DTEND;TZID=Europe/London:20240425T201500
DTSTAMP:20260420T083740
CREATED:20240418T161733Z
LAST-MODIFIED:20240507T123317Z
UID:10000004-1714072500-1714076100@latin.social
SUMMARY:DanceBuzz - Salsa Improvers
DESCRIPTION:Our Improver Salsa classes program follows straight from the Level 1 Beginners Salsa courses. It is split into a number of progressive courses running throughout the year\, allowing you to get exposed to a large number of moves and variations and improve on your leading\, following\, rhythm and balance. \nYou are expected to complete four to six Level 2 courses before progressing to Level 3 – Intermediate Salsa.
URL:https://latin.social/event/dancebuzz-salsa-improvers-2/2024-04-25/
LOCATION:St Aloysius R.C. Church\, St Aloysius R.C. Church\, 20 Phoenix Rd\,\, London\, NW1 1TA\, United Kingdom
CATEGORIES:Class
ATTACH;FMTTYPE=image/png:https://latin.social/wp-content/uploads/2024/04/Dancebuzz.png
ORGANIZER;CN="DanceBuzz":MAILTO:hello@dancebuzz.co.uk
GEO:51.5300869;-0.1334929
X-APPLE-STRUCTURED-LOCATION;VALUE=URI;X-ADDRESS=St Aloysius R.C. Church St Aloysius R.C. Church 20 Phoenix Rd London NW1 1TA United Kingdom;X-APPLE-RADIUS=500;X-TITLE=St Aloysius R.C. Church\, 20 Phoenix Rd\,:geo:-0.1334929,51.5300869
END:VEVENT
BEGIN:VEVENT
DTSTART;TZID=Europe/London:20240425T190000
DTEND;TZID=Europe/London:20240425T210000
DTSTAMP:20260420T083740
CREATED:20240418T161733Z
LAST-MODIFIED:20240506T140058Z
UID:10000096-1714071600-1714078800@latin.social
SUMMARY:Salsateca - Cuban Salsa
DESCRIPTION:6:40pmDoors Open (Arrive at least 5 to 10 min before the lesson starts to avoid queues) \n7:00pm to 8:00pm\nCuban Salsa: Absolute Beginners – Improvers – Intermediate (Levels 1\, 3\, 5) \n8:00pm to 9:00pm\nCuban Salsa: Beginners – High Improvers – Advanced (Levels 2\, 4\, 6) \n9:00pm to 11:00pm\nFree Social Dancing (Free time to practice and enjoy) \n1 class: £13 per person. OFFER: 2 classes for £16 (Taken by the same person on the same day). \nhttps://salsateca.co.uk/series/every-thursday-cuban-salsa-in-moorgate-liverpool-st/ \n 
URL:https://latin.social/event/salsateca-cuban-salsa/2024-04-25/
LOCATION:St Mary Moorfields\, St Mary Moorfields\, 4-5 Eldon St\,\, London\, EC2M 7LS\, United Kingdom
CATEGORIES:Class
ATTACH;FMTTYPE=image/webp:https://latin.social/wp-content/uploads/2024/04/Salsateca.webp
ORGANIZER;CN="Salsateca":MAILTO:admin@salsateca.co.uk
GEO:51.5187492;-0.08568
X-APPLE-STRUCTURED-LOCATION;VALUE=URI;X-ADDRESS=St Mary Moorfields St Mary Moorfields 4-5 Eldon St London EC2M 7LS United Kingdom;X-APPLE-RADIUS=500;X-TITLE=St Mary Moorfields\, 4-5 Eldon St\,:geo:-0.08568,51.5187492
END:VEVENT
BEGIN:VEVENT
DTSTART;TZID=Europe/London:20240425T181500
DTEND;TZID=Europe/London:20240425T191500
DTSTAMP:20260420T083740
CREATED:20240418T161732Z
LAST-MODIFIED:20240507T121855Z
UID:10000002-1714068900-1714072500@latin.social
SUMMARY:DanceBuzz - Salsa Beginners
DESCRIPTION:Our beginners salsa classes are structured in progressive courses which means that you will be covering a syllabus of steps and routines each week for the duration of the salsa course\, making your learning curve continuous. This format allows you to learn the salsa steps and rhythm faster with our structured\, yet fun and effective teaching method.
URL:https://latin.social/event/dancebuzz-salsa-beginners-2/2024-04-25/
LOCATION:St Aloysius R.C. Church\, St Aloysius R.C. Church\, 20 Phoenix Rd\,\, London\, NW1 1TA\, United Kingdom
CATEGORIES:Class
ATTACH;FMTTYPE=image/png:https://latin.social/wp-content/uploads/2024/04/Dancebuzz.png
ORGANIZER;CN="DanceBuzz":MAILTO:hello@dancebuzz.co.uk
GEO:51.5300869;-0.1334929
X-APPLE-STRUCTURED-LOCATION;VALUE=URI;X-ADDRESS=St Aloysius R.C. Church St Aloysius R.C. Church 20 Phoenix Rd London NW1 1TA United Kingdom;X-APPLE-RADIUS=500;X-TITLE=St Aloysius R.C. Church\, 20 Phoenix Rd\,:geo:-0.1334929,51.5300869
END:VEVENT
BEGIN:VEVENT
DTSTART;TZID=Europe/London:20240423T191500
DTEND;TZID=Europe/London:20240423T201500
DTSTAMP:20260420T083740
CREATED:20240418T161732Z
LAST-MODIFIED:20240507T121753Z
UID:10000001-1713899700-1713903300@latin.social
SUMMARY:DanceBuzz - Salsa Beginners
DESCRIPTION:Our beginners salsa classes are structured in progressive courses which means that you will be covering a syllabus of steps and routines each week for the duration of the salsa course\, making your learning curve continuous. This format allows you to learn the salsa steps and rhythm faster with our structured\, yet fun and effective teaching method.
URL:https://latin.social/event/dancebuzz-salsa-beginners/2024-04-23/
LOCATION:St Aloysius R.C. Church\, St Aloysius R.C. Church\, 20 Phoenix Rd\,\, London\, NW1 1TA\, United Kingdom
CATEGORIES:Class
ATTACH;FMTTYPE=image/png:https://latin.social/wp-content/uploads/2024/04/Dancebuzz.png
ORGANIZER;CN="DanceBuzz":MAILTO:hello@dancebuzz.co.uk
GEO:51.5300869;-0.1334929
X-APPLE-STRUCTURED-LOCATION;VALUE=URI;X-ADDRESS=St Aloysius R.C. Church St Aloysius R.C. Church 20 Phoenix Rd London NW1 1TA United Kingdom;X-APPLE-RADIUS=500;X-TITLE=St Aloysius R.C. Church\, 20 Phoenix Rd\,:geo:-0.1334929,51.5300869
END:VEVENT
BEGIN:VEVENT
DTSTART;TZID=Europe/London:20240423T181000
DTEND;TZID=Europe/London:20240423T191000
DTSTAMP:20260420T083740
CREATED:20240418T161733Z
LAST-MODIFIED:20240507T123226Z
UID:10001256-1713895800-1713899400@latin.social
SUMMARY:DanceBuzz - Salsa Improvers
DESCRIPTION:Our Improver Salsa classes program follows straight from the Level 1 Beginners Salsa courses. It is split into a number of progressive courses running throughout the year\, allowing you to get exposed to a large number of moves and variations and improve on your leading\, following\, rhythm and balance. \nYou are expected to complete four to six Level 2 courses before progressing to Level 3 – Intermediate Salsa.
URL:https://latin.social/event/dancebuzz-salsa-improvers/2024-04-23/
LOCATION:St Aloysius R.C. Church\, St Aloysius R.C. Church\, 20 Phoenix Rd\,\, London\, NW1 1TA\, United Kingdom
CATEGORIES:Class
ATTACH;FMTTYPE=image/png:https://latin.social/wp-content/uploads/2024/04/Dancebuzz.png
ORGANIZER;CN="DanceBuzz":MAILTO:hello@dancebuzz.co.uk
GEO:51.5300869;-0.1334929
X-APPLE-STRUCTURED-LOCATION;VALUE=URI;X-ADDRESS=St Aloysius R.C. Church St Aloysius R.C. Church 20 Phoenix Rd London NW1 1TA United Kingdom;X-APPLE-RADIUS=500;X-TITLE=St Aloysius R.C. Church\, 20 Phoenix Rd\,:geo:-0.1334929,51.5300869
END:VEVENT
BEGIN:VEVENT
DTSTART;TZID=Europe/London:20240419T183000
DTEND;TZID=Europe/London:20240419T213000
DTSTAMP:20260420T083740
CREATED:20240418T161734Z
LAST-MODIFIED:20240508T094957Z
UID:10000006-1713551400-1713562200@latin.social
SUMMARY:Rhythmical Salsa Dance Workshop With Live Percussion
DESCRIPTION:6:00pm Doors Open (Arrive at least 5 to 10 min before the lesson starts to avoid queues) \n6:30pm to 9:30pm\nSalsa Workshop (All Levels) \n£30 in advance | £35 on the day \nhttps://salsateca.co.uk/event/rhythmical-salsa-dance-workshop-with-live-percussion-3/
URL:https://latin.social/event/rhythmical-salsa-dance-workshop-with-live-percussion/
LOCATION:Christ Church Southwark\, Christ Church Southwark\, 27 Blackfriars Rd\,\, London\, SE1 8NY\, United Kingdom
CATEGORIES:Workshop
ATTACH;FMTTYPE=image/jpeg:https://latin.social/wp-content/uploads/2024/04/Musicality.jpg
ORGANIZER;CN="Salsateca":MAILTO:admin@salsateca.co.uk
GEO:51.5062543;-0.105126
X-APPLE-STRUCTURED-LOCATION;VALUE=URI;X-ADDRESS=Christ Church Southwark Christ Church Southwark 27 Blackfriars Rd London SE1 8NY United Kingdom;X-APPLE-RADIUS=500;X-TITLE=Christ Church Southwark\, 27 Blackfriars Rd\,:geo:-0.105126,51.5062543
END:VEVENT
BEGIN:VEVENT
DTSTART;TZID=Europe/London:20240419T183000
DTEND;TZID=Europe/London:20240419T194500
DTSTAMP:20260420T083740
CREATED:20240514T194634Z
LAST-MODIFIED:20240515T153819Z
UID:10001851-1713551400-1713555900@latin.social
SUMMARY:MS Dance  - Beginners Salsa (8 Weeks)
DESCRIPTION:Have you ever wanted to learn Salsa? …You came to the right place. \nIn our Salsa beginners course you will learn the basic steps and moves as well as the rhythm of the dance. \nThis is a progressive course and your knowledge and progression will be built from week to week. \nThere will be plenty of drilling to make you comfortable and confident with the steps and moves you are to learn. \nAnd on top of that you may even have some fun…after all dancing is about fun 🙂 \nThis course is suitable for both men and women\, no partner necessary.
URL:https://latin.social/event/ms-dance-beginners-salsa-8-weeks/2024-04-19/
LOCATION:YMCA (Ealing)\, YMCA\, 25 St Mary's Road\, London\, W5 5RE\, United Kingdom
CATEGORIES:Class
ATTACH;FMTTYPE=image/jpeg:https://latin.social/wp-content/uploads/2024/04/MSDance-logo.jpg
ORGANIZER;CN="MS Dance":MAILTO:info@msdance.co.uk
GEO:51.5070375;-0.3040958
X-APPLE-STRUCTURED-LOCATION;VALUE=URI;X-ADDRESS=YMCA (Ealing) YMCA 25 St Mary's Road London W5 5RE United Kingdom;X-APPLE-RADIUS=500;X-TITLE=YMCA\, 25 St Mary's Road:geo:-0.3040958,51.5070375
END:VEVENT
BEGIN:VEVENT
DTSTART;TZID=Europe/London:20240418T194500
DTEND;TZID=Europe/London:20240418T230000
DTSTAMP:20260420T083740
CREATED:20240418T161734Z
LAST-MODIFIED:20240805T170038Z
UID:10000008-1713469500-1713481200@latin.social
SUMMARY:Incognito - Bachata and Salsa
DESCRIPTION:⏰ 7:30pm \n📚 7:45pm Bachata Classes – All Levels \n📚 8:40pm Salsa Classes – All Levels \n🪇 9:30pm Social \n😴 11pm Close \n💰 £14 for Both Classes + Club Entry \n💰 £10 Club Only Entry
URL:https://latin.social/event/incognito-bachata-and-salsa/2024-04-18/
LOCATION:St Phillip’s Church\, St Phillip's Church\, Earl's Court Road\, London\, W8 6QH\, United Kingdom
CATEGORIES:Class,Social
ATTACH;FMTTYPE=image/jpeg:https://latin.social/wp-content/uploads/2024/04/Incognito.jpg
ORGANIZER;CN="Incognito Dance":MAILTO:info@incognitodance.com
GEO:51.4955198;-0.1962807
X-APPLE-STRUCTURED-LOCATION;VALUE=URI;X-ADDRESS=St Phillip’s Church St Phillip's Church Earl's Court Road London W8 6QH United Kingdom;X-APPLE-RADIUS=500;X-TITLE=St Phillip's Church\, Earl's Court Road:geo:-0.1962807,51.4955198
END:VEVENT
BEGIN:VEVENT
DTSTART;TZID=Europe/London:20240418T190000
DTEND;TZID=Europe/London:20240418T210000
DTSTAMP:20260420T083740
CREATED:20240418T161733Z
LAST-MODIFIED:20240506T140058Z
UID:10000005-1713466800-1713474000@latin.social
SUMMARY:Salsateca - Cuban Salsa
DESCRIPTION:6:40pmDoors Open (Arrive at least 5 to 10 min before the lesson starts to avoid queues) \n7:00pm to 8:00pm\nCuban Salsa: Absolute Beginners – Improvers – Intermediate (Levels 1\, 3\, 5) \n8:00pm to 9:00pm\nCuban Salsa: Beginners – High Improvers – Advanced (Levels 2\, 4\, 6) \n9:00pm to 11:00pm\nFree Social Dancing (Free time to practice and enjoy) \n1 class: £13 per person. OFFER: 2 classes for £16 (Taken by the same person on the same day). \nhttps://salsateca.co.uk/series/every-thursday-cuban-salsa-in-moorgate-liverpool-st/ \n 
URL:https://latin.social/event/salsateca-cuban-salsa/2024-04-18/
LOCATION:St Mary Moorfields\, St Mary Moorfields\, 4-5 Eldon St\,\, London\, EC2M 7LS\, United Kingdom
CATEGORIES:Class
ATTACH;FMTTYPE=image/webp:https://latin.social/wp-content/uploads/2024/04/Salsateca.webp
ORGANIZER;CN="Salsateca":MAILTO:admin@salsateca.co.uk
GEO:51.5187492;-0.08568
X-APPLE-STRUCTURED-LOCATION;VALUE=URI;X-ADDRESS=St Mary Moorfields St Mary Moorfields 4-5 Eldon St London EC2M 7LS United Kingdom;X-APPLE-RADIUS=500;X-TITLE=St Mary Moorfields\, 4-5 Eldon St\,:geo:-0.08568,51.5187492
END:VEVENT
BEGIN:VEVENT
DTSTART;TZID=Europe/London:20240412T183000
DTEND;TZID=Europe/London:20240412T194500
DTSTAMP:20260420T083740
CREATED:20240514T194634Z
LAST-MODIFIED:20240515T153819Z
UID:10001850-1712946600-1712951100@latin.social
SUMMARY:MS Dance  - Beginners Salsa (8 Weeks)
DESCRIPTION:Have you ever wanted to learn Salsa? …You came to the right place. \nIn our Salsa beginners course you will learn the basic steps and moves as well as the rhythm of the dance. \nThis is a progressive course and your knowledge and progression will be built from week to week. \nThere will be plenty of drilling to make you comfortable and confident with the steps and moves you are to learn. \nAnd on top of that you may even have some fun…after all dancing is about fun 🙂 \nThis course is suitable for both men and women\, no partner necessary.
URL:https://latin.social/event/ms-dance-beginners-salsa-8-weeks/2024-04-12/
LOCATION:YMCA (Ealing)\, YMCA\, 25 St Mary's Road\, London\, W5 5RE\, United Kingdom
CATEGORIES:Class
ATTACH;FMTTYPE=image/jpeg:https://latin.social/wp-content/uploads/2024/04/MSDance-logo.jpg
ORGANIZER;CN="MS Dance":MAILTO:info@msdance.co.uk
GEO:51.5070375;-0.3040958
X-APPLE-STRUCTURED-LOCATION;VALUE=URI;X-ADDRESS=YMCA (Ealing) YMCA 25 St Mary's Road London W5 5RE United Kingdom;X-APPLE-RADIUS=500;X-TITLE=YMCA\, 25 St Mary's Road:geo:-0.3040958,51.5070375
END:VEVENT
END:VCALENDAR