BEGIN:VCALENDAR
VERSION:2.0
PRODID:-//Latin Social - ECPv6.8.2//NONSGML v1.0//EN
CALSCALE:GREGORIAN
METHOD:PUBLISH
X-WR-CALNAME:Latin Social
X-ORIGINAL-URL:https://latin.social
X-WR-CALDESC:Events for Latin Social
REFRESH-INTERVAL;VALUE=DURATION:PT1H
X-Robots-Tag:noindex
X-PUBLISHED-TTL:PT1H
BEGIN:VTIMEZONE
TZID:Europe/London
BEGIN:DAYLIGHT
TZOFFSETFROM:+0000
TZOFFSETTO:+0100
TZNAME:BST
DTSTART:20240331T010000
END:DAYLIGHT
BEGIN:STANDARD
TZOFFSETFROM:+0100
TZOFFSETTO:+0000
TZNAME:GMT
DTSTART:20241027T010000
END:STANDARD
END:VTIMEZONE
BEGIN:VEVENT
DTSTART;TZID=Europe/London:20240517T190000
DTEND;TZID=Europe/London:20240517T210000
DTSTAMP:20260420T205740
CREATED:20240501T155320Z
LAST-MODIFIED:20240508T094537Z
UID:10000982-1715972400-1715979600@latin.social
SUMMARY:Salsateca - Salsa and Bachata
DESCRIPTION:⏰ 6:40pm \n📚 7pm Cross-body salsa – Beginners\, Improvers\, Intermediate \n📚 8pm Bachata – Beginners\, Improvers\, Intermediate \n🪇 9pm Free Social \n😴 10:30pm Close \nNote: On the 2nd Friday of Every Month this event becomes a party called LATIN PARADISE until 12am. With guest DJs\, Instructors and shows.
URL:https://latin.social/event/salsateca-salsa-and-bachata-4/2024-05-17/
LOCATION:Crofton Halls\, Crofton Halls\, York Rise\,\, Orpington\, BR6 8PR\, United Kingdom
CATEGORIES:Class
ATTACH;FMTTYPE=image/jpeg:https://latin.social/wp-content/uploads/2024/04/Salsateca.jpg
ORGANIZER;CN="Salsateca":MAILTO:admin@salsateca.co.uk
GEO:51.3735151;0.087235
X-APPLE-STRUCTURED-LOCATION;VALUE=URI;X-ADDRESS=Crofton Halls Crofton Halls York Rise Orpington BR6 8PR United Kingdom;X-APPLE-RADIUS=500;X-TITLE=Crofton Halls\, York Rise\,:geo:0.087235,51.3735151
END:VEVENT
BEGIN:VEVENT
DTSTART;TZID=Europe/London:20240517T190000
DTEND;TZID=Europe/London:20240517T210000
DTSTAMP:20260420T205740
CREATED:20240501T155111Z
LAST-MODIFIED:20240508T094559Z
UID:10000956-1715972400-1715979600@latin.social
SUMMARY:Salsateca - Salsa and Bachata
DESCRIPTION:⏰ 6:40pm \n📚 7pm Cross-body salsa – Beginners\, Improvers\, Intermediate \n📚 8pm Bachata – Beginners\, Improvers\, Intermediate \n🪇 9pm Free Social \n😴 11pm Close
URL:https://latin.social/event/salsateca-salsa-and-bachata-3/2024-05-17/
LOCATION:St Mary Moorfields\, St Mary Moorfields\, 4-5 Eldon St\,\, London\, EC2M 7LS\, United Kingdom
CATEGORIES:Class
ATTACH;FMTTYPE=image/jpeg:https://latin.social/wp-content/uploads/2024/04/Salsateca.jpg
ORGANIZER;CN="Salsateca":MAILTO:admin@salsateca.co.uk
GEO:51.5187492;-0.08568
X-APPLE-STRUCTURED-LOCATION;VALUE=URI;X-ADDRESS=St Mary Moorfields St Mary Moorfields 4-5 Eldon St London EC2M 7LS United Kingdom;X-APPLE-RADIUS=500;X-TITLE=St Mary Moorfields\, 4-5 Eldon St\,:geo:-0.08568,51.5187492
END:VEVENT
BEGIN:VEVENT
DTSTART;TZID=Europe/London:20240517T190000
DTEND;TZID=Europe/London:20240517T213000
DTSTAMP:20260420T205740
CREATED:20240507T115827Z
LAST-MODIFIED:20240508T091739Z
UID:10001168-1715972400-1715981400@latin.social
SUMMARY:Cubaneando - Cuban Salsa
DESCRIPTION:📚 7pm Cuban Salsa – Beginners 1\, Improvers 1\, Intermediates \n📚 8:15pm Cuban Salsa – Beginners 2\, Improvers 2\, Advanced \n🪇 9:30pm Social \n😴 3:30am Close \n£13 1 class + social\, £16 2 classes + social\, £10 social only
URL:https://latin.social/event/cubaneando-cuban-salsa-2/2024-05-17/
LOCATION:La Pollera Colora\, La Pollera Colora\, 4-6 London Bridge St\,\, London\, SE1 9SG\, United Kingdom
CATEGORIES:Class,Social
ATTACH;FMTTYPE=image/jpeg:https://latin.social/wp-content/uploads/2024/05/Cubaneando-1-e1715082514819.jpg
ORGANIZER;CN="Cubaneando":MAILTO:info@cubaneando.com
GEO:51.5054504;-0.0885496
X-APPLE-STRUCTURED-LOCATION;VALUE=URI;X-ADDRESS=La Pollera Colora La Pollera Colora 4-6 London Bridge St London SE1 9SG United Kingdom;X-APPLE-RADIUS=500;X-TITLE=La Pollera Colora\, 4-6 London Bridge St\,:geo:-0.0885496,51.5054504
END:VEVENT
BEGIN:VEVENT
DTSTART;TZID=Europe/London:20240517T190000
DTEND;TZID=Europe/London:20240517T213000
DTSTAMP:20260420T205740
CREATED:20240430T153249Z
LAST-MODIFIED:20240508T094511Z
UID:10000474-1715972400-1715981400@latin.social
SUMMARY:Cali Swing - Monthly Beg/Imp/Int/Adv
DESCRIPTION:Room 2 \n⏰ 6:50pm Doors open \n📚 7pm Beginner footwork \n📚 8pm Beginner partnerwork \n😴 9pm Close \n  \nRoom 1 \n⏰ 6:20pm Doors open \n📚 6:30pm Improvers partnerwork \n📚 7:30pm Intermediate partnerwork \n📚 8:30pm Advanced partnerwork \n😴 9:30pm Close \nThis is a monthly progressive course. Drop-ins are not available.
URL:https://latin.social/event/cali-swing-monthly-beg-imp-int-adv/2024-05-17/
LOCATION:Mulberry Sports Centre\, Mulberry Sports Centre\, Richard Street\, London\, E1 2JR\, United Kingdom
CATEGORIES:Class
ATTACH;FMTTYPE=image/png:https://latin.social/wp-content/uploads/2024/04/CaliSwing.png
ORGANIZER;CN="Cali Swing Dance School":MAILTO:info@caliswinguk.com
GEO:51.5139955;-0.0595965
X-APPLE-STRUCTURED-LOCATION;VALUE=URI;X-ADDRESS=Mulberry Sports Centre Mulberry Sports Centre Richard Street London E1 2JR United Kingdom;X-APPLE-RADIUS=500;X-TITLE=Mulberry Sports Centre\, Richard Street:geo:-0.0595965,51.5139955
END:VEVENT
BEGIN:VEVENT
DTSTART;TZID=Europe/London:20240517T193000
DTEND;TZID=Europe/London:20240518T000000
DTSTAMP:20260420T205740
CREATED:20240515T174706Z
LAST-MODIFIED:20240606T102102Z
UID:10001946-1715974200-1715990400@latin.social
SUMMARY:DansTime Friday
DESCRIPTION:📚 7:30pm Bachata class – Beginners\, Improvers/Intermediate \n🪇 8:30pm Social \n😴 Midnight Close \n💰 £14 Class & Social\, £10 Social only
URL:https://latin.social/event/danstime-friday-2/2024-05-17/
LOCATION:Omnibus Theatre\, Omnibus Theatre\, 1 Clapham Common North Side\, London\, SW4 0LH\, United Kingdom
CATEGORIES:Class,Social
ATTACH;FMTTYPE=image/jpeg:https://latin.social/wp-content/uploads/2024/05/Danstime.jpg
ORGANIZER;CN="Dans Time":MAILTO:Markdanstime@gmail.com
GEO:51.4636578;-0.1423604
X-APPLE-STRUCTURED-LOCATION;VALUE=URI;X-ADDRESS=Omnibus Theatre Omnibus Theatre 1 Clapham Common North Side London SW4 0LH United Kingdom;X-APPLE-RADIUS=500;X-TITLE=Omnibus Theatre\, 1 Clapham Common North Side:geo:-0.1423604,51.4636578
END:VEVENT
BEGIN:VEVENT
DTSTART;TZID=Europe/London:20240517T200000
DTEND;TZID=Europe/London:20240518T010000
DTSTAMP:20260420T205740
CREATED:20240517T150155Z
LAST-MODIFIED:20240517T160754Z
UID:10001988-1715976000-1715994000@latin.social
SUMMARY:LLB - Sensual Fridays
DESCRIPTION:📚 8pm Bachata class \n📚 8:45pm Bachata class \n🪇 9:30pm Social \n😴 1am Close \n💰 £16 2 Classes and social\, £12 Social only
URL:https://latin.social/event/llb-sensual-fridays/
LOCATION:The Study Society\, The Study Society\, 151 Talgarth Road\, London\, W14 9DA\, United Kingdom
CATEGORIES:Class,Social
ATTACH;FMTTYPE=image/jpeg:https://latin.social/wp-content/uploads/2024/05/Sensual-Fridays.jpeg
ORGANIZER;CN="London Bachata Academy":MAILTO:biskichata1@gmail.com
GEO:51.4906085;-0.214382
X-APPLE-STRUCTURED-LOCATION;VALUE=URI;X-ADDRESS=The Study Society The Study Society 151 Talgarth Road London W14 9DA United Kingdom;X-APPLE-RADIUS=500;X-TITLE=The Study Society\, 151 Talgarth Road:geo:-0.214382,51.4906085
END:VEVENT
BEGIN:VEVENT
DTSTART;TZID=Europe/London:20240517T203000
DTEND;TZID=Europe/London:20240518T050000
DTSTAMP:20260420T205740
CREATED:20240514T192951Z
LAST-MODIFIED:20240514T192951Z
UID:10001842-1715977800-1716008400@latin.social
SUMMARY:El Grande
DESCRIPTION:London’s legendary and most iconic Afro-Latin dance event since 2004\, Returns for a MAY SPECIAL EVENT on FRIDAY 17th MAY\, once again bringing its unique trademark of Latin and Afro-Latin music and dance fun and happiness to the masses in London\, the UK and further afield. Prepare yourselves for another full on\, unforgettable night of Latin fireworks lasting into the early hours of the morning! \nWhat’s on offer:\n★ 2 Hours of Dance Classes in Salsa Cross Body\, Cuban Salsa\, bachata and Kizomba in various levels (choose from 12 different classes)\n★ Dance Showcases galore\n★ 4 Dance Arenas: Salsa Room / Bachata Room / Cuban Room / Kizomba Room\n★ Chill Out Areas ★ Party Time till 5 am with 8 DJs\n★ 1\,200 capacity top London venue\, 3 minutes walking distance from King’s Cross Tube and the Eurostar. \nThe event features\, Artists confirmed so far:\n>> Dance Instructors and DJs:\nGil & Shelley / Lazaro Lopez / Gabriel Bravo / Dani K / Hugo & Maia / Rasa Pauzaite / Don Kar / Elliot Johnston / Jessica Melaza / Riquita Alta / DJ Johnny Gee / DJ Glberto Zapata / DJ Chino / DJ Gabriel ‘Happy Feet’ / DJ Richard Fallon / DJ Lazaro / DJ Mr Bilongo / DJ Marito \n>> Dance Showcases from;\nPexava Dance Team / ‘Bailar en Clave’ Dance Group / Hugo & Maia / City Academy Students Dance Team \n★★ PLEASE NOTE:\nID REQUIRED AT THE DOOR\n★  Doors Open at 8.30 pm / Dance Classes at 9 pm / Party Time till 5 am / Dance Shows at 1 am \nENTRY PRICES:\n★  PLEASE NOTE: TICKETS PURCHASED ONLY AT THE DOOR ON THE NIGHT OF THE EVENT (No Advance Tickets Sold at All)\n★ Party Only £15 (Tickets purchased only At the Door from 10.15 pm)\n★ Full Pass: Party + 2 Hours of Classes £20 (Tickets purchased only at the Door on the night of the event)\n★ Students with ID – Payments at the Door only: £13 Party Only / Party + 2 Hours of Classes £17
URL:https://latin.social/event/el-grande/
LOCATION:Scala\, Scala\, 275 Pentonville Road\, London\, N1 9NL\, United Kingdom
CATEGORIES:Social
ATTACH;FMTTYPE=image/webp:https://latin.social/wp-content/uploads/2024/05/El-Grande.webp
ORGANIZER;CN="Ola Latina":MAILTO:info@olalatina.co.uk
GEO:51.5307521;-0.1207215
X-APPLE-STRUCTURED-LOCATION;VALUE=URI;X-ADDRESS=Scala Scala 275 Pentonville Road London N1 9NL United Kingdom;X-APPLE-RADIUS=500;X-TITLE=Scala\, 275 Pentonville Road:geo:-0.1207215,51.5307521
END:VEVENT
BEGIN:VEVENT
DTSTART;TZID=Europe/London:20240518T130000
DTEND;TZID=Europe/London:20240518T153000
DTSTAMP:20260420T205740
CREATED:20240517T224859Z
LAST-MODIFIED:20240517T225234Z
UID:10001989-1716037200-1716046200@latin.social
SUMMARY:Rueda Libre - Flash Mob!
DESCRIPTION:It is Flash mob time! \nIt will be the first flash mob for Rueda Libre and we want you to be a part of it. It is complete free to participate. Here is the schedule \n1:00pm Meet at Coal Drops Yard\, Kings Cross.\n1:05pm Rehearse\n3:00pm Perform\n3:30pm Free Social \n🎥 Please note this will be filmed. \nAll levels welcome 🤗 \nSee you there 😎
URL:https://latin.social/event/rueda-libre-flash-mob/
LOCATION:Coal Drops Yard\, Coal Drops Yard\, King's Cross\, London\, N1C 4DQ\, United Kingdom
CATEGORIES:Social
ATTACH;FMTTYPE=image/jpeg:https://latin.social/wp-content/uploads/2024/04/RuedaLibre.jpg
ORGANIZER;CN="Rueda Libre":MAILTO:contact@ruedalibre.co.uk
GEO:51.5360313;-0.1265524
X-APPLE-STRUCTURED-LOCATION;VALUE=URI;X-ADDRESS=Coal Drops Yard Coal Drops Yard King's Cross London N1C 4DQ United Kingdom;X-APPLE-RADIUS=500;X-TITLE=Coal Drops Yard\, King's Cross:geo:-0.1265524,51.5360313
END:VEVENT
BEGIN:VEVENT
DTSTART;TZID=Europe/London:20240518T130000
DTEND;TZID=Europe/London:20240518T160000
DTSTAMP:20260420T205740
CREATED:20240430T153617Z
LAST-MODIFIED:20240506T134449Z
UID:10000498-1716037200-1716048000@latin.social
SUMMARY:Cali Swing Masterclass - Jhon Jairo Rodriguez & Daniela De Jesus
DESCRIPTION:The current World Salsa Champions are coming to London! \nA one-off opportunity to learn from the best! \nJoin us for these special series of Salsa Masterclasses with the best of the best! \nSaturday 18th May \n1-2:30pm: Improver/Intermediate footwork \n2:30-4pm: Improver/Intermediate partnerwork \nSunday 19th May \n1-2:30pm: Advanced footwork \n2:30-4pm: Advanced partnerwork
URL:https://latin.social/event/cali-swing-jhon-jairo-rodriguez-daniela-de-jesus/2024-05-18/
LOCATION:Mulberry Sports Centre\, Mulberry Sports Centre\, Richard Street\, London\, E1 2JR\, United Kingdom
CATEGORIES:Workshop
ATTACH;FMTTYPE=image/webp:https://latin.social/wp-content/uploads/2024/04/Cali-Swing-Masterclass.webp
ORGANIZER;CN="Cali Swing Dance School":MAILTO:info@caliswinguk.com
GEO:51.5139955;-0.0595965
X-APPLE-STRUCTURED-LOCATION;VALUE=URI;X-ADDRESS=Mulberry Sports Centre Mulberry Sports Centre Richard Street London E1 2JR United Kingdom;X-APPLE-RADIUS=500;X-TITLE=Mulberry Sports Centre\, Richard Street:geo:-0.0595965,51.5139955
END:VEVENT
BEGIN:VEVENT
DTSTART;TZID=Europe/London:20240518T140000
DTEND;TZID=Europe/London:20240518T180000
DTSTAMP:20260420T205740
CREATED:20240507T163811Z
LAST-MODIFIED:20240911T170008Z
UID:10001548-1716040800-1716055200@latin.social
SUMMARY:Pexava - Saturday Matinee Social
DESCRIPTION:Our Saturday afternoon Pexava salsa social\, in the heart of bustling Upper Street Angel\, central London!\nAmazing venue: A bright\, atmospheric and airy hall with wooden floor. Social dancing with great music and the chance to catch up and connect with salsa friends over snacks.\n2pm to 6pm Salsa Social\, including 4pm to 6pm Pizza room open.\nBring your own drinks (no alcohol) \n£10 Cash or card on the door
URL:https://latin.social/event/pexava-saturday-matinee-social/2024-05-18/
LOCATION:New Unity\, New Unity\, 277A Upper Street\, London\, N1 2TZ\, United Kingdom
CATEGORIES:Social
ATTACH;FMTTYPE=image/png:https://latin.social/wp-content/uploads/2024/04/Pexava.png
ORGANIZER;CN="Pexava":MAILTO:info@pexava.com
GEO:51.5403606;-0.1023339
X-APPLE-STRUCTURED-LOCATION;VALUE=URI;X-ADDRESS=New Unity New Unity 277A Upper Street London N1 2TZ United Kingdom;X-APPLE-RADIUS=500;X-TITLE=New Unity\, 277A Upper Street:geo:-0.1023339,51.5403606
END:VEVENT
BEGIN:VEVENT
DTSTART;TZID=Europe/London:20240518T140000
DTEND;TZID=Europe/London:20240518T183000
DTSTAMP:20260420T205740
CREATED:20240515T170730Z
LAST-MODIFIED:20240515T171349Z
UID:10001938-1716040800-1716057000@latin.social
SUMMARY:Joyful Jamboree in Hyde Park: Bachata\, Salsa\, and a Sun-Kissed Picnic
DESCRIPTION:📚 2pm Free Dance Class \n🪇 3pm Free Social \n😴 6:30pm Close \nDance outside in the sunshine at the bandstand in Hyde Park \nCheck the Facebook link in case the event is cancelled due to bad weather.
URL:https://latin.social/event/joyful-jamboree-in-hyde-park-bachata-salsa-and-a-sun-kissed-picnic/
LOCATION:Hyde Park Bandstand\, Hyde Park Bandstand\, Hyde Park\, London\, W2 2UH\, United Kingdom
CATEGORIES:Social
ATTACH;FMTTYPE=image/jpeg:https://latin.social/wp-content/uploads/2024/05/Joyful-Jamboree.jpg
GEO:51.5050116;-0.1564583
X-APPLE-STRUCTURED-LOCATION;VALUE=URI;X-ADDRESS=Hyde Park Bandstand Hyde Park Bandstand Hyde Park London W2 2UH United Kingdom;X-APPLE-RADIUS=500;X-TITLE=Hyde Park Bandstand\, Hyde Park:geo:-0.1564583,51.5050116
END:VEVENT
BEGIN:VEVENT
DTSTART;TZID=Europe/London:20240518T143000
DTEND;TZID=Europe/London:20240518T153000
DTSTAMP:20260420T205740
CREATED:20240507T124227Z
LAST-MODIFIED:20240507T124227Z
UID:10001290-1716042600-1716046200@latin.social
SUMMARY:DanceBuzz - Salsa Intermediate
DESCRIPTION:Our Level 3 Salsa classes are for those with a minimum of nine to twelve months of regular class attendance of our course programs or elsewhere. \nAt this stage\, leaders should be comfortable with rhythm and picking up routines and will be working on smoothening their signals for the followers as well as and adding more style and flair to their dancing. \nFor the followers\, this would be the time to work on styling\, lightness\, and elegance as well as responding to the leading accurately and without disturbing the flow of the dance.
URL:https://latin.social/event/dancebuzz-salsa-intermediate-2/2024-05-18/
LOCATION:The Abbey Centre\, The Abbey Centre\, 34 Great Smith St\,\, London\, SW1P 3BU\, United Kingdom
CATEGORIES:Class
ATTACH;FMTTYPE=image/png:https://latin.social/wp-content/uploads/2024/04/Dancebuzz.png
ORGANIZER;CN="DanceBuzz":MAILTO:hello@dancebuzz.co.uk
GEO:51.4975281;-0.1298045
X-APPLE-STRUCTURED-LOCATION;VALUE=URI;X-ADDRESS=The Abbey Centre The Abbey Centre 34 Great Smith St London SW1P 3BU United Kingdom;X-APPLE-RADIUS=500;X-TITLE=The Abbey Centre\, 34 Great Smith St\,:geo:-0.1298045,51.4975281
END:VEVENT
BEGIN:VEVENT
DTSTART;TZID=Europe/London:20240518T143000
DTEND;TZID=Europe/London:20240518T153000
DTSTAMP:20260420T205740
CREATED:20240507T123653Z
LAST-MODIFIED:20240507T123730Z
UID:10001270-1716042600-1716046200@latin.social
SUMMARY:DanceBuzz - Salsa Improvers
DESCRIPTION:Our Improver Salsa classes program follows straight from the Level 1 Beginners Salsa courses. It is split into a number of progressive courses running throughout the year\, allowing you to get exposed to a large number of moves and variations and improve on your leading\, following\, rhythm and balance. \nYou are expected to complete four to six Level 2 courses before progressing to Level 3 – Intermediate Salsa.
URL:https://latin.social/event/dancebuzz-salsa-improvers-4/2024-05-18/
LOCATION:The Abbey Centre\, The Abbey Centre\, 34 Great Smith St\,\, London\, SW1P 3BU\, United Kingdom
CATEGORIES:Class
ATTACH;FMTTYPE=image/png:https://latin.social/wp-content/uploads/2024/04/Dancebuzz.png
ORGANIZER;CN="DanceBuzz":MAILTO:hello@dancebuzz.co.uk
GEO:51.4975281;-0.1298045
X-APPLE-STRUCTURED-LOCATION;VALUE=URI;X-ADDRESS=The Abbey Centre The Abbey Centre 34 Great Smith St London SW1P 3BU United Kingdom;X-APPLE-RADIUS=500;X-TITLE=The Abbey Centre\, 34 Great Smith St\,:geo:-0.1298045,51.4975281
END:VEVENT
BEGIN:VEVENT
DTSTART;TZID=Europe/London:20240518T143000
DTEND;TZID=Europe/London:20240518T153000
DTSTAMP:20260420T205740
CREATED:20240507T122311Z
LAST-MODIFIED:20240507T122311Z
UID:10001227-1716042600-1716046200@latin.social
SUMMARY:DanceBuzz - Salsa Beginners
DESCRIPTION:Our beginners salsa classes are structured in progressive courses which means that you will be covering a syllabus of steps and routines each week for the duration of the salsa course\, making your learning curve continuous. This format allows you to learn the salsa steps and rhythm faster with our structured\, yet fun and effective teaching method.
URL:https://latin.social/event/dancebuzz-salsa-beginners-4/2024-05-18/
LOCATION:The Abbey Centre\, The Abbey Centre\, 34 Great Smith St\,\, London\, SW1P 3BU\, United Kingdom
CATEGORIES:Class
ATTACH;FMTTYPE=image/png:https://latin.social/wp-content/uploads/2024/04/Dancebuzz.png
ORGANIZER;CN="DanceBuzz":MAILTO:hello@dancebuzz.co.uk
GEO:51.4975281;-0.1298045
X-APPLE-STRUCTURED-LOCATION;VALUE=URI;X-ADDRESS=The Abbey Centre The Abbey Centre 34 Great Smith St London SW1P 3BU United Kingdom;X-APPLE-RADIUS=500;X-TITLE=The Abbey Centre\, 34 Great Smith St\,:geo:-0.1298045,51.4975281
END:VEVENT
BEGIN:VEVENT
DTSTART;TZID=Europe/London:20240518T170000
DTEND;TZID=Europe/London:20240518T220000
DTSTAMP:20260420T205740
CREATED:20240507T121147Z
LAST-MODIFIED:20240508T093144Z
UID:10001218-1716051600-1716069600@latin.social
SUMMARY:Cubaneando - 1 Day Intensive Cuban Salsa
DESCRIPTION:⏰ 4:45pm \n📚 5pm Cuban Salsa Course – Part 1 \n🪇 7pm Break \n📚 7:30pm Cuban Salsa Course – Part 2 \n🪇 9:30pm Practice and 1-1 Q&A \n😴 10pm Close \nLevels available for beginners\, improvers\, intermediates\, and advanced
URL:https://latin.social/event/cubaneando-1-day-intensive-cuban-salsa/
LOCATION:O2 Centre\,The Venue Hall\, O2 Centre\,The Venue Hall\, 255 Finchley Road\, London\, NW3 6LU\, United Kingdom
CATEGORIES:Class,Workshop
ATTACH;FMTTYPE=image/jpeg:https://latin.social/wp-content/uploads/2024/05/Cubaneando-1-e1715082514819.jpg
ORGANIZER;CN="Cubaneando":MAILTO:info@cubaneando.com
GEO:51.5478286;-0.1814281
X-APPLE-STRUCTURED-LOCATION;VALUE=URI;X-ADDRESS=O2 CentreThe Venue Hall O2 CentreThe Venue Hall 255 Finchley Road London NW3 6LU United Kingdom;X-APPLE-RADIUS=500;X-TITLE=O2 Centre\,The Venue Hall\, 255 Finchley Road:geo:-0.1814281,51.5478286
END:VEVENT
BEGIN:VEVENT
DTSTART;TZID=Europe/London:20240518T180000
DTEND;TZID=Europe/London:20240518T210000
DTSTAMP:20260420T205740
CREATED:20240501T160320Z
LAST-MODIFIED:20240508T094403Z
UID:10001008-1716055200-1716066000@latin.social
SUMMARY:Salsateca - Intensive Cuban Salsa Workshop
DESCRIPTION:⏰ 5:40pm \n📚 6pm Intensive 3 Hour Cuban Workshop \n😴 9pm Close \nEvery other week this workshop becomes Super Intensive and we add 1 hour of Cuban Son from 5pm to 6pm. \nCheck the website to see which week is extended.
URL:https://latin.social/event/salsateca-intensive-cuban-salsa-workshop/2024-05-18/
LOCATION:Christ Church Southwark\, Christ Church Southwark\, 27 Blackfriars Rd\,\, London\, SE1 8NY\, United Kingdom
CATEGORIES:Class,Workshop
ATTACH;FMTTYPE=image/jpeg:https://latin.social/wp-content/uploads/2024/04/Salsateca.jpg
ORGANIZER;CN="Salsateca":MAILTO:admin@salsateca.co.uk
GEO:51.5062543;-0.105126
X-APPLE-STRUCTURED-LOCATION;VALUE=URI;X-ADDRESS=Christ Church Southwark Christ Church Southwark 27 Blackfriars Rd London SE1 8NY United Kingdom;X-APPLE-RADIUS=500;X-TITLE=Christ Church Southwark\, 27 Blackfriars Rd\,:geo:-0.105126,51.5062543
END:VEVENT
END:VCALENDAR