BEGIN:VCALENDAR
VERSION:2.0
PRODID:-//Latin Social - ECPv6.8.2//NONSGML v1.0//EN
CALSCALE:GREGORIAN
METHOD:PUBLISH
X-WR-CALNAME:Latin Social
X-ORIGINAL-URL:https://latin.social
X-WR-CALDESC:Events for Latin Social
REFRESH-INTERVAL;VALUE=DURATION:PT1H
X-Robots-Tag:noindex
X-PUBLISHED-TTL:PT1H
BEGIN:VTIMEZONE
TZID:Europe/London
BEGIN:DAYLIGHT
TZOFFSETFROM:+0000
TZOFFSETTO:+0100
TZNAME:BST
DTSTART:20240331T010000
END:DAYLIGHT
BEGIN:STANDARD
TZOFFSETFROM:+0100
TZOFFSETTO:+0000
TZNAME:GMT
DTSTART:20241027T010000
END:STANDARD
END:VTIMEZONE
BEGIN:VEVENT
DTSTART;TZID=Europe/London:20240518T143000
DTEND;TZID=Europe/London:20240518T153000
DTSTAMP:20260420T224807
CREATED:20240507T123653Z
LAST-MODIFIED:20240507T123730Z
UID:10001270-1716042600-1716046200@latin.social
SUMMARY:DanceBuzz - Salsa Improvers
DESCRIPTION:Our Improver Salsa classes program follows straight from the Level 1 Beginners Salsa courses. It is split into a number of progressive courses running throughout the year\, allowing you to get exposed to a large number of moves and variations and improve on your leading\, following\, rhythm and balance. \nYou are expected to complete four to six Level 2 courses before progressing to Level 3 – Intermediate Salsa.
URL:https://latin.social/event/dancebuzz-salsa-improvers-4/2024-05-18/
LOCATION:The Abbey Centre\, The Abbey Centre\, 34 Great Smith St\,\, London\, SW1P 3BU\, United Kingdom
CATEGORIES:Class
ATTACH;FMTTYPE=image/png:https://latin.social/wp-content/uploads/2024/04/Dancebuzz.png
ORGANIZER;CN="DanceBuzz":MAILTO:hello@dancebuzz.co.uk
GEO:51.4975281;-0.1298045
X-APPLE-STRUCTURED-LOCATION;VALUE=URI;X-ADDRESS=The Abbey Centre The Abbey Centre 34 Great Smith St London SW1P 3BU United Kingdom;X-APPLE-RADIUS=500;X-TITLE=The Abbey Centre\, 34 Great Smith St\,:geo:-0.1298045,51.4975281
END:VEVENT
BEGIN:VEVENT
DTSTART;TZID=Europe/London:20240518T143000
DTEND;TZID=Europe/London:20240518T153000
DTSTAMP:20260420T224807
CREATED:20240507T122311Z
LAST-MODIFIED:20240507T122311Z
UID:10001227-1716042600-1716046200@latin.social
SUMMARY:DanceBuzz - Salsa Beginners
DESCRIPTION:Our beginners salsa classes are structured in progressive courses which means that you will be covering a syllabus of steps and routines each week for the duration of the salsa course\, making your learning curve continuous. This format allows you to learn the salsa steps and rhythm faster with our structured\, yet fun and effective teaching method.
URL:https://latin.social/event/dancebuzz-salsa-beginners-4/2024-05-18/
LOCATION:The Abbey Centre\, The Abbey Centre\, 34 Great Smith St\,\, London\, SW1P 3BU\, United Kingdom
CATEGORIES:Class
ATTACH;FMTTYPE=image/png:https://latin.social/wp-content/uploads/2024/04/Dancebuzz.png
ORGANIZER;CN="DanceBuzz":MAILTO:hello@dancebuzz.co.uk
GEO:51.4975281;-0.1298045
X-APPLE-STRUCTURED-LOCATION;VALUE=URI;X-ADDRESS=The Abbey Centre The Abbey Centre 34 Great Smith St London SW1P 3BU United Kingdom;X-APPLE-RADIUS=500;X-TITLE=The Abbey Centre\, 34 Great Smith St\,:geo:-0.1298045,51.4975281
END:VEVENT
BEGIN:VEVENT
DTSTART;TZID=Europe/London:20240518T170000
DTEND;TZID=Europe/London:20240518T220000
DTSTAMP:20260420T224807
CREATED:20240507T121147Z
LAST-MODIFIED:20240508T093144Z
UID:10001218-1716051600-1716069600@latin.social
SUMMARY:Cubaneando - 1 Day Intensive Cuban Salsa
DESCRIPTION:⏰ 4:45pm \n📚 5pm Cuban Salsa Course – Part 1 \n🪇 7pm Break \n📚 7:30pm Cuban Salsa Course – Part 2 \n🪇 9:30pm Practice and 1-1 Q&A \n😴 10pm Close \nLevels available for beginners\, improvers\, intermediates\, and advanced
URL:https://latin.social/event/cubaneando-1-day-intensive-cuban-salsa/
LOCATION:O2 Centre\,The Venue Hall\, O2 Centre\,The Venue Hall\, 255 Finchley Road\, London\, NW3 6LU\, United Kingdom
CATEGORIES:Class,Workshop
ATTACH;FMTTYPE=image/jpeg:https://latin.social/wp-content/uploads/2024/05/Cubaneando-1-e1715082514819.jpg
ORGANIZER;CN="Cubaneando":MAILTO:info@cubaneando.com
GEO:51.5478286;-0.1814281
X-APPLE-STRUCTURED-LOCATION;VALUE=URI;X-ADDRESS=O2 CentreThe Venue Hall O2 CentreThe Venue Hall 255 Finchley Road London NW3 6LU United Kingdom;X-APPLE-RADIUS=500;X-TITLE=O2 Centre\,The Venue Hall\, 255 Finchley Road:geo:-0.1814281,51.5478286
END:VEVENT
BEGIN:VEVENT
DTSTART;TZID=Europe/London:20240518T180000
DTEND;TZID=Europe/London:20240518T210000
DTSTAMP:20260420T224807
CREATED:20240501T160320Z
LAST-MODIFIED:20240508T094403Z
UID:10001008-1716055200-1716066000@latin.social
SUMMARY:Salsateca - Intensive Cuban Salsa Workshop
DESCRIPTION:⏰ 5:40pm \n📚 6pm Intensive 3 Hour Cuban Workshop \n😴 9pm Close \nEvery other week this workshop becomes Super Intensive and we add 1 hour of Cuban Son from 5pm to 6pm. \nCheck the website to see which week is extended.
URL:https://latin.social/event/salsateca-intensive-cuban-salsa-workshop/2024-05-18/
LOCATION:Christ Church Southwark\, Christ Church Southwark\, 27 Blackfriars Rd\,\, London\, SE1 8NY\, United Kingdom
CATEGORIES:Class,Workshop
ATTACH;FMTTYPE=image/jpeg:https://latin.social/wp-content/uploads/2024/04/Salsateca.jpg
ORGANIZER;CN="Salsateca":MAILTO:admin@salsateca.co.uk
GEO:51.5062543;-0.105126
X-APPLE-STRUCTURED-LOCATION;VALUE=URI;X-ADDRESS=Christ Church Southwark Christ Church Southwark 27 Blackfriars Rd London SE1 8NY United Kingdom;X-APPLE-RADIUS=500;X-TITLE=Christ Church Southwark\, 27 Blackfriars Rd\,:geo:-0.105126,51.5062543
END:VEVENT
END:VCALENDAR