BEGIN:VCALENDAR
VERSION:2.0
PRODID:-//Latin Social - ECPv6.8.2//NONSGML v1.0//EN
CALSCALE:GREGORIAN
METHOD:PUBLISH
X-WR-CALNAME:Latin Social
X-ORIGINAL-URL:https://latin.social
X-WR-CALDESC:Events for Latin Social
REFRESH-INTERVAL;VALUE=DURATION:PT1H
X-Robots-Tag:noindex
X-PUBLISHED-TTL:PT1H
BEGIN:VTIMEZONE
TZID:Europe/London
BEGIN:DAYLIGHT
TZOFFSETFROM:+0000
TZOFFSETTO:+0100
TZNAME:BST
DTSTART:20240331T010000
END:DAYLIGHT
BEGIN:STANDARD
TZOFFSETFROM:+0100
TZOFFSETTO:+0000
TZNAME:GMT
DTSTART:20241027T010000
END:STANDARD
END:VTIMEZONE
BEGIN:VEVENT
DTSTART;TZID=Europe/London:20240520T193000
DTEND;TZID=Europe/London:20240520T233000
DTSTAMP:20260423T040420
CREATED:20240515T191029Z
LAST-MODIFIED:20240515T191029Z
UID:10001980-1716233400-1716247800@latin.social
SUMMARY:Cuban Vibes - Cuban Salsa & Rueda
DESCRIPTION:Join the Cuban Vibes Dance School every Monday in the heart of Brent for your Cuban Salsa & Rueda fix and not forgetting the little bit of social dancing interaction at the end of the classes. (Every 1st Monday of the Month we have our legendary Colour Theme Party). \nDoors open 7.30pm | Classes 7.45pm – 9.45pm | Social dancing 10.00pm – 11.30pm | Classes & Social £10 | Social Only £5 | Students £8 | Loyalty Card Available – Ask @ Reception. \nTeachers: Carlton Thomas | Radek Kawer | Miguel Gonzalez | Charles Parris | Michelle Crawford | Sue Marchant | Laurell Edwards | Timea Major | Mary-Ann Goddard | Monica Parris | Tony Palmer \nYou can find us at Cricklewood Railway Club\, 327 Edgware Road\, Cricklewood\, London\, NW2 6JP (2 mins from Cricklewood Bus Garage). \nVideo for event \nHOW TO GET TO US VIA: BUS | BRITISH RAIL | LONDON UNDERGROUND \nRemember Cuban Vibes Dance School *Monday Madness* nice people\, nice vibes\, nice classes\, nice music. Understand the importance of keeping active\, keeping social\, keeping connected through dance. \n“It’s not a revolution it’s an evolution”. Open the door an unlock the Cuban dance in You! \nFind Us on FACEBOOK | INSTAGRAM | YOUTUBE \nFind Us on Google Maps: Cricklewood Railway Club \nFlyers for event and promotional stuff \nContact Carlton via Mobile: 07904 082080 or send us a message via the Contact Us page.
URL:https://latin.social/event/cuban-vibes-cuban-salsa-rueda-2/
LOCATION:Cricklewood Railway Club\, Cricklewood Railway Club\, The Cricklewood Club\, 327 Edgware Road\, London\, NW2 6JP\, United Kingdom
CATEGORIES:Class,Social
ATTACH;FMTTYPE=image/webp:https://latin.social/wp-content/uploads/2024/05/Cuban-Vibes-Monday.webp
ORGANIZER;CN="Cuban Vibes":MAILTO:info@cubanvibes.com
GEO:51.5632379;-0.2227954
X-APPLE-STRUCTURED-LOCATION;VALUE=URI;X-ADDRESS=Cricklewood Railway Club Cricklewood Railway Club The Cricklewood Club 327 Edgware Road London NW2 6JP United Kingdom;X-APPLE-RADIUS=500;X-TITLE=Cricklewood Railway Club\, The Cricklewood Club\, 327 Edgware Road:geo:-0.2227954,51.5632379
END:VEVENT
BEGIN:VEVENT
DTSTART;TZID=Europe/London:20240520T200000
DTEND;TZID=Europe/London:20240520T210000
DTSTAMP:20260423T040420
CREATED:20240430T161258Z
LAST-MODIFIED:20240506T134934Z
UID:10000528-1716235200-1716238800@latin.social
SUMMARY:Cali Beat - Cali Mixed Level
DESCRIPTION:Progressive Cali style salsa course. \n£40 per month (or £50 if the month has 5 weeks).
URL:https://latin.social/event/cali-beat-cali-mixed-level/2024-05-20/
LOCATION:Arts Educational Schools\, Arts Educational Schools\, Cone Ripman House\, 14 Bath Rd\, Chiswick\,\, London\, W4 1LY\, United Kingdom
CATEGORIES:Class
ATTACH;FMTTYPE=image/png:https://latin.social/wp-content/uploads/2024/04/CaliBeat.png
ORGANIZER;CN="CaliBeat Dance Co":MAILTO:info@calibeatdance.com
GEO:51.4959866;-0.2530531
X-APPLE-STRUCTURED-LOCATION;VALUE=URI;X-ADDRESS=Arts Educational Schools Arts Educational Schools Cone Ripman House 14 Bath Rd Chiswick London W4 1LY United Kingdom;X-APPLE-RADIUS=500;X-TITLE=Arts Educational Schools\, Cone Ripman House\, 14 Bath Rd\, Chiswick\,:geo:-0.2530531,51.4959866
END:VEVENT
END:VCALENDAR