BEGIN:VCALENDAR
VERSION:2.0
PRODID:-//Latin Social - ECPv6.8.2//NONSGML v1.0//EN
CALSCALE:GREGORIAN
METHOD:PUBLISH
X-WR-CALNAME:Latin Social
X-ORIGINAL-URL:https://latin.social
X-WR-CALDESC:Events for Latin Social
REFRESH-INTERVAL;VALUE=DURATION:PT1H
X-Robots-Tag:noindex
X-PUBLISHED-TTL:PT1H
BEGIN:VTIMEZONE
TZID:Europe/London
BEGIN:DAYLIGHT
TZOFFSETFROM:+0000
TZOFFSETTO:+0100
TZNAME:BST
DTSTART:20240331T010000
END:DAYLIGHT
BEGIN:STANDARD
TZOFFSETFROM:+0100
TZOFFSETTO:+0000
TZNAME:GMT
DTSTART:20241027T010000
END:STANDARD
END:VTIMEZONE
BEGIN:VEVENT
DTSTART;TZID=Europe/London:20240502T181500
DTEND;TZID=Europe/London:20240502T191500
DTSTAMP:20260420T123515
CREATED:20240418T161732Z
LAST-MODIFIED:20240507T121855Z
UID:10000027-1714673700-1714677300@latin.social
SUMMARY:DanceBuzz - Salsa Beginners
DESCRIPTION:Our beginners salsa classes are structured in progressive courses which means that you will be covering a syllabus of steps and routines each week for the duration of the salsa course\, making your learning curve continuous. This format allows you to learn the salsa steps and rhythm faster with our structured\, yet fun and effective teaching method.
URL:https://latin.social/event/dancebuzz-salsa-beginners-2/2024-05-02/
LOCATION:St Aloysius R.C. Church\, St Aloysius R.C. Church\, 20 Phoenix Rd\,\, London\, NW1 1TA\, United Kingdom
CATEGORIES:Class
ATTACH;FMTTYPE=image/png:https://latin.social/wp-content/uploads/2024/04/Dancebuzz.png
ORGANIZER;CN="DanceBuzz":MAILTO:hello@dancebuzz.co.uk
GEO:51.5300869;-0.1334929
X-APPLE-STRUCTURED-LOCATION;VALUE=URI;X-ADDRESS=St Aloysius R.C. Church St Aloysius R.C. Church 20 Phoenix Rd London NW1 1TA United Kingdom;X-APPLE-RADIUS=500;X-TITLE=St Aloysius R.C. Church\, 20 Phoenix Rd\,:geo:-0.1334929,51.5300869
END:VEVENT
BEGIN:VEVENT
DTSTART;TZID=Europe/London:20240502T190000
DTEND;TZID=Europe/London:20240502T210000
DTSTAMP:20260420T123515
CREATED:20240418T161733Z
LAST-MODIFIED:20240506T140058Z
UID:10000097-1714676400-1714683600@latin.social
SUMMARY:Salsateca - Cuban Salsa
DESCRIPTION:6:40pmDoors Open (Arrive at least 5 to 10 min before the lesson starts to avoid queues) \n7:00pm to 8:00pm\nCuban Salsa: Absolute Beginners – Improvers – Intermediate (Levels 1\, 3\, 5) \n8:00pm to 9:00pm\nCuban Salsa: Beginners – High Improvers – Advanced (Levels 2\, 4\, 6) \n9:00pm to 11:00pm\nFree Social Dancing (Free time to practice and enjoy) \n1 class: £13 per person. OFFER: 2 classes for £16 (Taken by the same person on the same day). \nEVERY THURSDAY CUBAN SALSA IN MOORGATE /  LIVERPOOL ST \n \n 
URL:https://latin.social/event/salsateca-cuban-salsa/2024-05-02/
LOCATION:St Mary Moorfields\, St Mary Moorfields\, 4-5 Eldon St\,\, London\, EC2M 7LS\, United Kingdom
CATEGORIES:Class
ATTACH;FMTTYPE=image/webp:https://latin.social/wp-content/uploads/2024/04/Salsateca.webp
ORGANIZER;CN="Salsateca":MAILTO:admin@salsateca.co.uk
GEO:51.5187492;-0.08568
X-APPLE-STRUCTURED-LOCATION;VALUE=URI;X-ADDRESS=St Mary Moorfields St Mary Moorfields 4-5 Eldon St London EC2M 7LS United Kingdom;X-APPLE-RADIUS=500;X-TITLE=St Mary Moorfields\, 4-5 Eldon St\,:geo:-0.08568,51.5187492
END:VEVENT
BEGIN:VEVENT
DTSTART;TZID=Europe/London:20240502T190000
DTEND;TZID=Europe/London:20240502T224500
DTSTAMP:20260420T123515
CREATED:20240430T162026Z
LAST-MODIFIED:20240508T094627Z
UID:10000604-1714676400-1714689900@latin.social
SUMMARY:Changó Salsa and Bachata Night
DESCRIPTION:📚 7pm Bachata Class (1 level) \n📚 8pm Cali Beat Salsa Classes (2 levels) \n🪇 9pm Social \n😴 10:45pm Close
URL:https://latin.social/event/chango-salsa-and-bachata-night/2024-05-02/
LOCATION:Hogarth Health Club\, Hogarth Health Club\, Airedale Ave\, London\, W4 2NW\, United Kingdom
CATEGORIES:Class,Social
ATTACH;FMTTYPE=image/png:https://latin.social/wp-content/uploads/2024/04/CaliBeat.png
ORGANIZER;CN="CaliBeat Dance Co":MAILTO:info@calibeatdance.com
GEO:51.491664;-0.24923
X-APPLE-STRUCTURED-LOCATION;VALUE=URI;X-ADDRESS=Hogarth Health Club Hogarth Health Club Airedale Ave London W4 2NW United Kingdom;X-APPLE-RADIUS=500;X-TITLE=Hogarth Health Club\, Airedale Ave:geo:-0.24923,51.491664
END:VEVENT
BEGIN:VEVENT
DTSTART;TZID=Europe/London:20240502T191500
DTEND;TZID=Europe/London:20240502T201500
DTSTAMP:20260420T123515
CREATED:20240418T161733Z
LAST-MODIFIED:20240507T123317Z
UID:10000021-1714677300-1714680900@latin.social
SUMMARY:DanceBuzz - Salsa Improvers
DESCRIPTION:Our Improver Salsa classes program follows straight from the Level 1 Beginners Salsa courses. It is split into a number of progressive courses running throughout the year\, allowing you to get exposed to a large number of moves and variations and improve on your leading\, following\, rhythm and balance. \nYou are expected to complete four to six Level 2 courses before progressing to Level 3 – Intermediate Salsa.
URL:https://latin.social/event/dancebuzz-salsa-improvers-2/2024-05-02/
LOCATION:St Aloysius R.C. Church\, St Aloysius R.C. Church\, 20 Phoenix Rd\,\, London\, NW1 1TA\, United Kingdom
CATEGORIES:Class
ATTACH;FMTTYPE=image/png:https://latin.social/wp-content/uploads/2024/04/Dancebuzz.png
ORGANIZER;CN="DanceBuzz":MAILTO:hello@dancebuzz.co.uk
GEO:51.5300869;-0.1334929
X-APPLE-STRUCTURED-LOCATION;VALUE=URI;X-ADDRESS=St Aloysius R.C. Church St Aloysius R.C. Church 20 Phoenix Rd London NW1 1TA United Kingdom;X-APPLE-RADIUS=500;X-TITLE=St Aloysius R.C. Church\, 20 Phoenix Rd\,:geo:-0.1334929,51.5300869
END:VEVENT
BEGIN:VEVENT
DTSTART;TZID=Europe/London:20240502T193000
DTEND;TZID=Europe/London:20240502T203000
DTSTAMP:20260420T123515
CREATED:20240430T142941Z
LAST-MODIFIED:20240822T140420Z
UID:10000308-1714678200-1714681800@latin.social
SUMMARY:Wild Bachata Thursdays
DESCRIPTION:📚 7:30pm Styling/Role Rotation \n📚 8:30pm Bachata – All Levels \n🪇 9:30pm Social \n😴 Late Close \n💰 £12 for one class\, £15 for 2 classes\, £5 Social only \nStudent discount available \n 
URL:https://latin.social/event/wild-bachata-thursdays/2024-05-02/
LOCATION:Coyote Ugly\, The Stables Market\, Camden Market\, Chalk Farm Road\, London\, NW1 8AH\, United Kingdom
CATEGORIES:Class,Social
ATTACH;FMTTYPE=image/webp:https://latin.social/wp-content/uploads/2024/04/Wild-Bachata-Thursdays.webp
ORGANIZER;CN="Bachata Club":MAILTO:hello@bachataclub.co.uk
GEO:51.5420455;-0.1469688
X-APPLE-STRUCTURED-LOCATION;VALUE=URI;X-ADDRESS=Coyote Ugly The Stables Market Camden Market Chalk Farm Road London NW1 8AH United Kingdom;X-APPLE-RADIUS=500;X-TITLE=The Stables Market\, Camden Market\, Chalk Farm Road:geo:-0.1469688,51.5420455
END:VEVENT
BEGIN:VEVENT
DTSTART;TZID=Europe/London:20240502T193000
DTEND;TZID=Europe/London:20240502T213000
DTSTAMP:20260420T123515
CREATED:20240514T194422Z
LAST-MODIFIED:20240515T153836Z
UID:10001843-1714678200-1714685400@latin.social
SUMMARY:MS Dance - Intermediate Salsa (8 Weeks)
DESCRIPTION:During this course you will learn footwork and partnerwork. We will work on body isolations\, body movement\, improving your basics as well as working on more complex moves and combinations\, working on technique\, drilling\, build dancing confidence and working on social dancing skills…and also have some fun 🙂 \nThe class is broken in 1 hr footwork/body movement/solo technique and 1 hr partnerwork. \nThe aim of the course is to give you tools to enjoy the dancing and express yourself on the dancefloor. \nIf you would like to join the course but are not sure about your dancing level please get in touch.
URL:https://latin.social/event/ms-dance-intermediate-salsa-8-weeks/2024-05-02/
LOCATION:St Marylebone School\, St Marylebone School\, 64 Marylebone High Street\, London\, W1U 5BA\, United Kingdom
CATEGORIES:Class
ATTACH;FMTTYPE=image/jpeg:https://latin.social/wp-content/uploads/2024/04/MSDance-logo.jpg
ORGANIZER;CN="MS Dance":MAILTO:info@msdance.co.uk
GEO:51.5220966;-0.1520278
X-APPLE-STRUCTURED-LOCATION;VALUE=URI;X-ADDRESS=St Marylebone School St Marylebone School 64 Marylebone High Street London W1U 5BA United Kingdom;X-APPLE-RADIUS=500;X-TITLE=St Marylebone School\, 64 Marylebone High Street:geo:-0.1520278,51.5220966
END:VEVENT
BEGIN:VEVENT
DTSTART;TZID=Europe/London:20240502T194500
DTEND;TZID=Europe/London:20240502T230000
DTSTAMP:20260420T123515
CREATED:20240418T161734Z
LAST-MODIFIED:20240805T170038Z
UID:10000046-1714679100-1714690800@latin.social
SUMMARY:Incognito - Bachata and Salsa
DESCRIPTION:⏰ 7:30pm \n📚 7:45pm Bachata Classes – All Levels \n📚 8:40pm Salsa Classes – All Levels \n🪇 9:30pm Social \n😴 11pm Close \n💰 £14 for Both Classes + Club Entry \n💰 £10 Club Only Entry
URL:https://latin.social/event/incognito-bachata-and-salsa/2024-05-02/
LOCATION:St Phillip’s Church\, St Phillip's Church\, Earl's Court Road\, London\, W8 6QH\, United Kingdom
CATEGORIES:Class,Social
ATTACH;FMTTYPE=image/jpeg:https://latin.social/wp-content/uploads/2024/04/Incognito.jpg
ORGANIZER;CN="Incognito Dance":MAILTO:info@incognitodance.com
GEO:51.4955198;-0.1962807
X-APPLE-STRUCTURED-LOCATION;VALUE=URI;X-ADDRESS=St Phillip’s Church St Phillip's Church Earl's Court Road London W8 6QH United Kingdom;X-APPLE-RADIUS=500;X-TITLE=St Phillip's Church\, Earl's Court Road:geo:-0.1962807,51.4955198
END:VEVENT
BEGIN:VEVENT
DTSTART;TZID=Europe/London:20240503T183000
DTEND;TZID=Europe/London:20240503T194500
DTSTAMP:20260420T123515
CREATED:20240514T194634Z
LAST-MODIFIED:20240515T153819Z
UID:10001853-1714761000-1714765500@latin.social
SUMMARY:MS Dance  - Beginners Salsa (8 Weeks)
DESCRIPTION:Have you ever wanted to learn Salsa? …You came to the right place. \nIn our Salsa beginners course you will learn the basic steps and moves as well as the rhythm of the dance. \nThis is a progressive course and your knowledge and progression will be built from week to week. \nThere will be plenty of drilling to make you comfortable and confident with the steps and moves you are to learn. \nAnd on top of that you may even have some fun…after all dancing is about fun 🙂 \nThis course is suitable for both men and women\, no partner necessary.
URL:https://latin.social/event/ms-dance-beginners-salsa-8-weeks/2024-05-03/
LOCATION:YMCA (Ealing)\, YMCA\, 25 St Mary's Road\, London\, W5 5RE\, United Kingdom
CATEGORIES:Class
ATTACH;FMTTYPE=image/jpeg:https://latin.social/wp-content/uploads/2024/04/MSDance-logo.jpg
ORGANIZER;CN="MS Dance":MAILTO:info@msdance.co.uk
GEO:51.5070375;-0.3040958
X-APPLE-STRUCTURED-LOCATION;VALUE=URI;X-ADDRESS=YMCA (Ealing) YMCA 25 St Mary's Road London W5 5RE United Kingdom;X-APPLE-RADIUS=500;X-TITLE=YMCA\, 25 St Mary's Road:geo:-0.3040958,51.5070375
END:VEVENT
BEGIN:VEVENT
DTSTART;TZID=Europe/London:20240503T190000
DTEND;TZID=Europe/London:20240503T203000
DTSTAMP:20260420T123515
CREATED:20240430T140748Z
LAST-MODIFIED:20240506T135455Z
UID:10000256-1714762800-1714768200@latin.social
SUMMARY:AT Dancing - Salsa Ladies Styling Intermediate
DESCRIPTION:On-going Salsa Ladies Styling Intermediate class in Whetstone – Join to gain more confidence with your body movement and stylings! Learn small routines\, work on details! Sessions include isolation exercises\, armwork\, balance\, spin techniques and more. Come to get inspired! Each session is 1.5hr \nBook one off class or a 4 week course to maintain continuation in your learning. \nPlease pre-book your classes online or contact us to book your spot.
URL:https://latin.social/event/at-dancing-salsa-ladies-styling-intermediate/2024-05-03/
LOCATION:High Road\, Whetstone\, High Road\, Whetstone\, London\, N20 0PT\, United Kingdom
CATEGORIES:Class
ATTACH;FMTTYPE=image/jpeg:https://latin.social/wp-content/uploads/2024/04/ATDancing.jpg
ORGANIZER;CN="AT Dancing":MAILTO:atdancing.uk@gmail.com
GEO:51.6256214;-0.1759873
X-APPLE-STRUCTURED-LOCATION;VALUE=URI;X-ADDRESS=High Road Whetstone High Road Whetstone London N20 0PT United Kingdom;X-APPLE-RADIUS=500;X-TITLE=High Road\, Whetstone:geo:-0.1759873,51.6256214
END:VEVENT
BEGIN:VEVENT
DTSTART;TZID=Europe/London:20240503T190000
DTEND;TZID=Europe/London:20240503T210000
DTSTAMP:20260420T123515
CREATED:20240501T155320Z
LAST-MODIFIED:20240508T094537Z
UID:10000980-1714762800-1714770000@latin.social
SUMMARY:Salsateca - Salsa and Bachata
DESCRIPTION:⏰ 6:40pm \n📚 7pm Cross-body salsa – Beginners\, Improvers\, Intermediate \n📚 8pm Bachata – Beginners\, Improvers\, Intermediate \n🪇 9pm Free Social \n😴 10:30pm Close \nNote: On the 2nd Friday of Every Month this event becomes a party called LATIN PARADISE until 12am. With guest DJs\, Instructors and shows.
URL:https://latin.social/event/salsateca-salsa-and-bachata-4/2024-05-03/
LOCATION:Crofton Halls\, Crofton Halls\, York Rise\,\, Orpington\, BR6 8PR\, United Kingdom
CATEGORIES:Class
ATTACH;FMTTYPE=image/jpeg:https://latin.social/wp-content/uploads/2024/04/Salsateca.jpg
ORGANIZER;CN="Salsateca":MAILTO:admin@salsateca.co.uk
GEO:51.3735151;0.087235
X-APPLE-STRUCTURED-LOCATION;VALUE=URI;X-ADDRESS=Crofton Halls Crofton Halls York Rise Orpington BR6 8PR United Kingdom;X-APPLE-RADIUS=500;X-TITLE=Crofton Halls\, York Rise\,:geo:0.087235,51.3735151
END:VEVENT
BEGIN:VEVENT
DTSTART;TZID=Europe/London:20240503T190000
DTEND;TZID=Europe/London:20240503T210000
DTSTAMP:20260420T123515
CREATED:20240501T155111Z
LAST-MODIFIED:20240508T094559Z
UID:10000954-1714762800-1714770000@latin.social
SUMMARY:Salsateca - Salsa and Bachata
DESCRIPTION:⏰ 6:40pm \n📚 7pm Cross-body salsa – Beginners\, Improvers\, Intermediate \n📚 8pm Bachata – Beginners\, Improvers\, Intermediate \n🪇 9pm Free Social \n😴 11pm Close
URL:https://latin.social/event/salsateca-salsa-and-bachata-3/2024-05-03/
LOCATION:St Mary Moorfields\, St Mary Moorfields\, 4-5 Eldon St\,\, London\, EC2M 7LS\, United Kingdom
CATEGORIES:Class
ATTACH;FMTTYPE=image/jpeg:https://latin.social/wp-content/uploads/2024/04/Salsateca.jpg
ORGANIZER;CN="Salsateca":MAILTO:admin@salsateca.co.uk
GEO:51.5187492;-0.08568
X-APPLE-STRUCTURED-LOCATION;VALUE=URI;X-ADDRESS=St Mary Moorfields St Mary Moorfields 4-5 Eldon St London EC2M 7LS United Kingdom;X-APPLE-RADIUS=500;X-TITLE=St Mary Moorfields\, 4-5 Eldon St\,:geo:-0.08568,51.5187492
END:VEVENT
BEGIN:VEVENT
DTSTART;TZID=Europe/London:20240503T190000
DTEND;TZID=Europe/London:20240503T213000
DTSTAMP:20260420T123515
CREATED:20240430T153249Z
LAST-MODIFIED:20240508T094511Z
UID:10000472-1714762800-1714771800@latin.social
SUMMARY:Cali Swing - Monthly Beg/Imp/Int/Adv
DESCRIPTION:Room 2 \n⏰ 6:50pm Doors open \n📚 7pm Beginner footwork \n📚 8pm Beginner partnerwork \n😴 9pm Close \n  \nRoom 1 \n⏰ 6:20pm Doors open \n📚 6:30pm Improvers partnerwork \n📚 7:30pm Intermediate partnerwork \n📚 8:30pm Advanced partnerwork \n😴 9:30pm Close \nThis is a monthly progressive course. Drop-ins are not available.
URL:https://latin.social/event/cali-swing-monthly-beg-imp-int-adv/2024-05-03/
LOCATION:Mulberry Sports Centre\, Mulberry Sports Centre\, Richard Street\, London\, E1 2JR\, United Kingdom
CATEGORIES:Class
ATTACH;FMTTYPE=image/png:https://latin.social/wp-content/uploads/2024/04/CaliSwing.png
ORGANIZER;CN="Cali Swing Dance School":MAILTO:info@caliswinguk.com
GEO:51.5139955;-0.0595965
X-APPLE-STRUCTURED-LOCATION;VALUE=URI;X-ADDRESS=Mulberry Sports Centre Mulberry Sports Centre Richard Street London E1 2JR United Kingdom;X-APPLE-RADIUS=500;X-TITLE=Mulberry Sports Centre\, Richard Street:geo:-0.0595965,51.5139955
END:VEVENT
END:VCALENDAR