BEGIN:VCALENDAR
VERSION:2.0
PRODID:-//Latin Social - ECPv6.8.2//NONSGML v1.0//EN
CALSCALE:GREGORIAN
METHOD:PUBLISH
X-WR-CALNAME:Latin Social
X-ORIGINAL-URL:https://latin.social
X-WR-CALDESC:Events for Latin Social
REFRESH-INTERVAL;VALUE=DURATION:PT1H
X-Robots-Tag:noindex
X-PUBLISHED-TTL:PT1H
BEGIN:VTIMEZONE
TZID:Europe/London
BEGIN:DAYLIGHT
TZOFFSETFROM:+0000
TZOFFSETTO:+0100
TZNAME:BST
DTSTART:20240331T010000
END:DAYLIGHT
BEGIN:STANDARD
TZOFFSETFROM:+0100
TZOFFSETTO:+0000
TZNAME:GMT
DTSTART:20241027T010000
END:STANDARD
END:VTIMEZONE
BEGIN:VEVENT
DTSTART;TZID=Europe/London:20240503T200000
DTEND;TZID=Europe/London:20240504T020000
DTSTAMP:20260420T123600
CREATED:20240501T162802Z
LAST-MODIFIED:20240625T172758Z
UID:10001061-1714766400-1714788000@latin.social
SUMMARY:Bachata First
DESCRIPTION:Bachata social dance only (no classes). \nBYOB (but no red wine).
URL:https://latin.social/event/bachata-first/2024-05-03/
LOCATION:St Ethelburga’s Centre for Reconciliation and Peace\, 78 Bishopsgate\, London\, EC2N 4AG\, United Kingdom
CATEGORIES:Social
ATTACH;FMTTYPE=image/jpeg:https://latin.social/wp-content/uploads/2024/05/BachataFirst.jpg
GEO:51.5154655;-0.0819124
X-APPLE-STRUCTURED-LOCATION;VALUE=URI;X-ADDRESS=St Ethelburga’s Centre for Reconciliation and Peace 78 Bishopsgate London EC2N 4AG United Kingdom;X-APPLE-RADIUS=500;X-TITLE=78 Bishopsgate:geo:-0.0819124,51.5154655
END:VEVENT
BEGIN:VEVENT
DTSTART;TZID=Europe/London:20240504T140000
DTEND;TZID=Europe/London:20240504T183000
DTSTAMP:20260420T123600
CREATED:20240501T164238Z
LAST-MODIFIED:20240511T150731Z
UID:10001067-1714831200-1714847400@latin.social
SUMMARY:Sunshine Serenade: Bachata\, Salsa\, and Picnic
DESCRIPTION:📚 2pm Free Dance Class \n🪇 3pm Free Social \n😴 6:30pm Close \nDance outside in the sunshine at the bandstand in Hyde Park \nCheck the Facebook link in case the event is cancelled due to bad weather.
URL:https://latin.social/event/sunshine-serenade-bachata-salsa-and-picnic/2024-05-04/
LOCATION:Hyde Park Bandstand\, Hyde Park Bandstand\, Hyde Park\, London\, W2 2UH\, United Kingdom
CATEGORIES:Class,Social
ATTACH;FMTTYPE=image/jpeg:https://latin.social/wp-content/uploads/2024/04/EstrellaDance.jpg
GEO:51.5050116;-0.1564583
X-APPLE-STRUCTURED-LOCATION;VALUE=URI;X-ADDRESS=Hyde Park Bandstand Hyde Park Bandstand Hyde Park London W2 2UH United Kingdom;X-APPLE-RADIUS=500;X-TITLE=Hyde Park Bandstand\, Hyde Park:geo:-0.1564583,51.5050116
END:VEVENT
BEGIN:VEVENT
DTSTART;TZID=Europe/London:20240504T180000
DTEND;TZID=Europe/London:20240504T210000
DTSTAMP:20260420T123600
CREATED:20240501T160320Z
LAST-MODIFIED:20240508T094403Z
UID:10001006-1714845600-1714856400@latin.social
SUMMARY:Salsateca - Intensive Cuban Salsa Workshop
DESCRIPTION:⏰ 5:40pm \n📚 6pm Intensive 3 Hour Cuban Workshop \n😴 9pm Close \nEvery other week this workshop becomes Super Intensive and we add 1 hour of Cuban Son from 5pm to 6pm. \nCheck the website to see which week is extended.
URL:https://latin.social/event/salsateca-intensive-cuban-salsa-workshop/2024-05-04/
LOCATION:Christ Church Southwark\, Christ Church Southwark\, 27 Blackfriars Rd\,\, London\, SE1 8NY\, United Kingdom
CATEGORIES:Class,Workshop
ATTACH;FMTTYPE=image/jpeg:https://latin.social/wp-content/uploads/2024/04/Salsateca.jpg
ORGANIZER;CN="Salsateca":MAILTO:admin@salsateca.co.uk
GEO:51.5062543;-0.105126
X-APPLE-STRUCTURED-LOCATION;VALUE=URI;X-ADDRESS=Christ Church Southwark Christ Church Southwark 27 Blackfriars Rd London SE1 8NY United Kingdom;X-APPLE-RADIUS=500;X-TITLE=Christ Church Southwark\, 27 Blackfriars Rd\,:geo:-0.105126,51.5062543
END:VEVENT
BEGIN:VEVENT
DTSTART;TZID=Europe/London:20240505T170000
DTEND;TZID=Europe/London:20240505T230000
DTSTAMP:20260420T123600
CREATED:20240430T144055Z
LAST-MODIFIED:20241103T232208Z
UID:10000360-1714928400-1714950000@latin.social
SUMMARY:Bachata Exchange
DESCRIPTION:Dance outdoors at the most popular weekly bachata event in the UK! \n📚 5pm Bachata Class – All levels \n🪇 6pm Social \n😴 11pm Close \n💰 Free! (Donations encouraged) \nPlease leave bags in the designated area at the side\, but note that you do so at your own risk.  This is a publicly accessible space and the organisers cannot not take any responsibility for loss or theft. \nThe site is alcohol free\, but please bring soft-drinks.  Water bottles can be refilled from the public fountain in Exchange Square. \nThe nearest public toilets are at Liverpool Street Station. \nWe aim to make the event as safe and welcoming as possible\, but if you have any concerns on the night\, please speak to someone at the DJ desk\, or one of the volunteers wearing an armband. \n 
URL:https://latin.social/event/bachata-exchange/2024-05-05/
LOCATION:Exchange House\, Exchange House\, 12 Primrose Street\, London\, EC2A 2EG\, United Kingdom
CATEGORIES:Class,Social
ATTACH;FMTTYPE=image/png:https://latin.social/wp-content/uploads/2024/04/BachataExchange.png
GEO:51.5204008;-0.080911
X-APPLE-STRUCTURED-LOCATION;VALUE=URI;X-ADDRESS=Exchange House Exchange House 12 Primrose Street London EC2A 2EG United Kingdom;X-APPLE-RADIUS=500;X-TITLE=Exchange House\, 12 Primrose Street:geo:-0.080911,51.5204008
END:VEVENT
BEGIN:VEVENT
DTSTART;TZID=Europe/London:20240505T180000
DTEND;TZID=Europe/London:20240505T200000
DTSTAMP:20260420T123600
CREATED:20240501T160513Z
LAST-MODIFIED:20240508T094137Z
UID:10001032-1714932000-1714939200@latin.social
SUMMARY:Salsateca - Salsa and Bachata
DESCRIPTION:⏰ 5:40pm \n📚 6pm Cross-body salsa – Beginners\, Improvers\, Intermediate \n📚 7pm Bachata – Beginners\, Improvers\, Intermediate \n🪇 8pm Free Social \n😴 9pm Close
URL:https://latin.social/event/salsateca-salsa-and-bachata-5/2024-05-05/
LOCATION:Siobhan Davies Studios\, Siobhan Davies Studios\, 85 St George's Rd\,\, London\, SE1 6ER\, United Kingdom
CATEGORIES:Class
ATTACH;FMTTYPE=image/jpeg:https://latin.social/wp-content/uploads/2024/04/Salsateca.jpg
ORGANIZER;CN="Salsateca":MAILTO:admin@salsateca.co.uk
GEO:51.4960929;-0.1052934
X-APPLE-STRUCTURED-LOCATION;VALUE=URI;X-ADDRESS=Siobhan Davies Studios Siobhan Davies Studios 85 St George's Rd London SE1 6ER United Kingdom;X-APPLE-RADIUS=500;X-TITLE=Siobhan Davies Studios\, 85 St George's Rd\,:geo:-0.1052934,51.4960929
END:VEVENT
BEGIN:VEVENT
DTSTART;TZID=Europe/London:20240505T190000
DTEND;TZID=Europe/London:20240505T230000
DTSTAMP:20260420T123600
CREATED:20240501T143645Z
LAST-MODIFIED:20241123T140524Z
UID:10000782-1714935600-1714950000@latin.social
SUMMARY:SOS - Salsa on Sunday
DESCRIPTION:Classes from 7:00pm-8:00pm\, all levels. \nSocial from 8:00pm-11:00pm. \n£10 on the door or in advance\n£8 – Door Only! (Students with NUS\, NHS\, Police\, Fire\, Ambulance – Must show ID at the door) \n 
URL:https://latin.social/event/sos-salsa-on-sunday/2024-05-05/
LOCATION:Cecil Sharp House\, Cecil Sharp House\, 2 Regent's Park Rd\,\, London\, NW1 7AY\, United Kingdom
CATEGORIES:Class,Social
ATTACH;FMTTYPE=image/jpeg:https://latin.social/wp-content/uploads/2024/04/SOS.jpg
GEO:51.5381546;-0.1493065
X-APPLE-STRUCTURED-LOCATION;VALUE=URI;X-ADDRESS=Cecil Sharp House Cecil Sharp House 2 Regent's Park Rd London NW1 7AY United Kingdom;X-APPLE-RADIUS=500;X-TITLE=Cecil Sharp House\, 2 Regent's Park Rd\,:geo:-0.1493065,51.5381546
END:VEVENT
BEGIN:VEVENT
DTSTART;TZID=Europe/London:20240506T190000
DTEND;TZID=Europe/London:20240506T200000
DTSTAMP:20260420T123600
CREATED:20240430T161125Z
LAST-MODIFIED:20240506T135007Z
UID:10000500-1715022000-1715025600@latin.social
SUMMARY:Cali Beat - Cross-body Level 2
DESCRIPTION:Progressive cross-body salsa course. \n£40 per month (or £50 if the month has 5 weeks).
URL:https://latin.social/event/cali-beat-cross-body-level-2/2024-05-06/
LOCATION:Arts Educational Schools\, Arts Educational Schools\, Cone Ripman House\, 14 Bath Rd\, Chiswick\,\, London\, W4 1LY\, United Kingdom
CATEGORIES:Class
ATTACH;FMTTYPE=image/png:https://latin.social/wp-content/uploads/2024/04/CaliBeat.png
ORGANIZER;CN="CaliBeat Dance Co":MAILTO:info@calibeatdance.com
GEO:51.4959866;-0.2530531
X-APPLE-STRUCTURED-LOCATION;VALUE=URI;X-ADDRESS=Arts Educational Schools Arts Educational Schools Cone Ripman House 14 Bath Rd Chiswick London W4 1LY United Kingdom;X-APPLE-RADIUS=500;X-TITLE=Arts Educational Schools\, Cone Ripman House\, 14 Bath Rd\, Chiswick\,:geo:-0.2530531,51.4959866
END:VEVENT
BEGIN:VEVENT
DTSTART;TZID=Europe/London:20240506T190000
DTEND;TZID=Europe/London:20240506T210000
DTSTAMP:20260420T123600
CREATED:20240501T153704Z
LAST-MODIFIED:20240508T094112Z
UID:10000823-1715022000-1715029200@latin.social
SUMMARY:Salsateca - Salsa and Bachata
DESCRIPTION:⏰ 6:40pm \n📚 7pm Cross-body salsa – Beginners\, Improvers\, Intermediate \n📚 8pm Bachata – Beginners\, Improvers\, Intermediate \n🪇 9pm Free Social \n😴 10pm Close
URL:https://latin.social/event/salsateca-salsa-and-bachata/2024-05-06/
LOCATION:Haberdasher’s Borough Academy Sports Centre\, Haberdasher's Borough Academy Sports Centre\, King's Ct\,\, London\, SE1 0BU\, United Kingdom
CATEGORIES:Class
ATTACH;FMTTYPE=image/jpeg:https://latin.social/wp-content/uploads/2024/04/Salsateca.jpg
ORGANIZER;CN="Salsateca":MAILTO:admin@salsateca.co.uk
GEO:51.5015593;-0.0995307
X-APPLE-STRUCTURED-LOCATION;VALUE=URI;X-ADDRESS=Haberdasher’s Borough Academy Sports Centre Haberdasher's Borough Academy Sports Centre King's Ct London SE1 0BU United Kingdom;X-APPLE-RADIUS=500;X-TITLE=Haberdasher's Borough Academy Sports Centre\, King's Ct\,:geo:-0.0995307,51.5015593
END:VEVENT
BEGIN:VEVENT
DTSTART;TZID=Europe/London:20240506T200000
DTEND;TZID=Europe/London:20240506T210000
DTSTAMP:20260420T123600
CREATED:20240430T161258Z
LAST-MODIFIED:20240506T134934Z
UID:10000526-1715025600-1715029200@latin.social
SUMMARY:Cali Beat - Cali Mixed Level
DESCRIPTION:Progressive Cali style salsa course. \n£40 per month (or £50 if the month has 5 weeks).
URL:https://latin.social/event/cali-beat-cali-mixed-level/2024-05-06/
LOCATION:Arts Educational Schools\, Arts Educational Schools\, Cone Ripman House\, 14 Bath Rd\, Chiswick\,\, London\, W4 1LY\, United Kingdom
CATEGORIES:Class
ATTACH;FMTTYPE=image/png:https://latin.social/wp-content/uploads/2024/04/CaliBeat.png
ORGANIZER;CN="CaliBeat Dance Co":MAILTO:info@calibeatdance.com
GEO:51.4959866;-0.2530531
X-APPLE-STRUCTURED-LOCATION;VALUE=URI;X-ADDRESS=Arts Educational Schools Arts Educational Schools Cone Ripman House 14 Bath Rd Chiswick London W4 1LY United Kingdom;X-APPLE-RADIUS=500;X-TITLE=Arts Educational Schools\, Cone Ripman House\, 14 Bath Rd\, Chiswick\,:geo:-0.2530531,51.4959866
END:VEVENT
END:VCALENDAR