BEGIN:VCALENDAR
VERSION:2.0
PRODID:-//Latin Social - ECPv6.8.2//NONSGML v1.0//EN
CALSCALE:GREGORIAN
METHOD:PUBLISH
X-WR-CALNAME:Latin Social
X-ORIGINAL-URL:https://latin.social
X-WR-CALDESC:Events for Latin Social
REFRESH-INTERVAL;VALUE=DURATION:PT1H
X-Robots-Tag:noindex
X-PUBLISHED-TTL:PT1H
BEGIN:VTIMEZONE
TZID:Europe/London
BEGIN:DAYLIGHT
TZOFFSETFROM:+0000
TZOFFSETTO:+0100
TZNAME:BST
DTSTART:20240331T010000
END:DAYLIGHT
BEGIN:STANDARD
TZOFFSETFROM:+0100
TZOFFSETTO:+0000
TZNAME:GMT
DTSTART:20241027T010000
END:STANDARD
END:VTIMEZONE
BEGIN:VEVENT
DTSTART;TZID=Europe/London:20240511T150000
DTEND;TZID=Europe/London:20240511T193000
DTSTAMP:20260420T133227
CREATED:20240510T144321Z
LAST-MODIFIED:20240524T172212Z
UID:10001834-1715439600-1715455800@latin.social
SUMMARY:Bachata Under The Sun
DESCRIPTION:Saturday afternoon bachata social from 3pm – 7:30pm\nHyde Park\, @ Cavalry Statue (https://maps.app.goo.gl/eLtt8HwCSBLm4dwZA?g_st=ic) \nClosest entrance: Hyde Park Corner station\nPlease feel free to bring picnic blankets\, food\, drinks and friends
URL:https://latin.social/event/bachata-under-the-sun/
LOCATION:Hyde Park Bandstand\, Hyde Park Bandstand\, Hyde Park\, London\, W2 2UH\, United Kingdom
CATEGORIES:Social
ATTACH;FMTTYPE=image/jpeg:https://latin.social/wp-content/uploads/2024/05/Bachata-Under-The-Sun.jpg
GEO:51.5050116;-0.1564583
X-APPLE-STRUCTURED-LOCATION;VALUE=URI;X-ADDRESS=Hyde Park Bandstand Hyde Park Bandstand Hyde Park London W2 2UH United Kingdom;X-APPLE-RADIUS=500;X-TITLE=Hyde Park Bandstand\, Hyde Park:geo:-0.1564583,51.5050116
END:VEVENT
BEGIN:VEVENT
DTSTART;TZID=Europe/London:20240511T170000
DTEND;TZID=Europe/London:20240511T191500
DTSTAMP:20260420T133227
CREATED:20240507T120646Z
LAST-MODIFIED:20240508T093511Z
UID:10001193-1715446800-1715454900@latin.social
SUMMARY:Cubaneando - Structured Cuban Salsa
DESCRIPTION:⏰ 4:45pm \n📚 5pm Cuban Salsa – Beginners 1\, Improvers 1 \n📚 6:15pm Cuban Salsa – Beginners 2\, Improvers 2\, Intermediates 1 \n😴 7:15pm Close \n💰 £10 for 1 hour\, £15 for 2 hours\, multi-hour bundle prices available \nSign-up is mandatory\, contact via WhatsApp (+44 795 018 4131) to confirm your place.
URL:https://latin.social/event/cubaneando-structured-cuban-salsa/2024-05-11/
LOCATION:O2 Centre\,The Venue Hall\, O2 Centre\,The Venue Hall\, 255 Finchley Road\, London\, NW3 6LU\, United Kingdom
CATEGORIES:Class
ATTACH;FMTTYPE=image/jpeg:https://latin.social/wp-content/uploads/2024/05/Cubaneando-1-e1715082514819.jpg
ORGANIZER;CN="Cubaneando":MAILTO:info@cubaneando.com
GEO:51.5478286;-0.1814281
X-APPLE-STRUCTURED-LOCATION;VALUE=URI;X-ADDRESS=O2 CentreThe Venue Hall O2 CentreThe Venue Hall 255 Finchley Road London NW3 6LU United Kingdom;X-APPLE-RADIUS=500;X-TITLE=O2 Centre\,The Venue Hall\, 255 Finchley Road:geo:-0.1814281,51.5478286
END:VEVENT
BEGIN:VEVENT
DTSTART;TZID=Europe/London:20240511T180000
DTEND;TZID=Europe/London:20240511T210000
DTSTAMP:20260420T133227
CREATED:20240501T160320Z
LAST-MODIFIED:20240508T094403Z
UID:10001007-1715450400-1715461200@latin.social
SUMMARY:Salsateca - Intensive Cuban Salsa Workshop
DESCRIPTION:⏰ 5:40pm \n📚 6pm Intensive 3 Hour Cuban Workshop \n😴 9pm Close \nEvery other week this workshop becomes Super Intensive and we add 1 hour of Cuban Son from 5pm to 6pm. \nCheck the website to see which week is extended.
URL:https://latin.social/event/salsateca-intensive-cuban-salsa-workshop/2024-05-11/
LOCATION:Christ Church Southwark\, Christ Church Southwark\, 27 Blackfriars Rd\,\, London\, SE1 8NY\, United Kingdom
CATEGORIES:Class,Workshop
ATTACH;FMTTYPE=image/jpeg:https://latin.social/wp-content/uploads/2024/04/Salsateca.jpg
ORGANIZER;CN="Salsateca":MAILTO:admin@salsateca.co.uk
GEO:51.5062543;-0.105126
X-APPLE-STRUCTURED-LOCATION;VALUE=URI;X-ADDRESS=Christ Church Southwark Christ Church Southwark 27 Blackfriars Rd London SE1 8NY United Kingdom;X-APPLE-RADIUS=500;X-TITLE=Christ Church Southwark\, 27 Blackfriars Rd\,:geo:-0.105126,51.5062543
END:VEVENT
BEGIN:VEVENT
DTSTART;TZID=Europe/London:20240511T190000
DTEND;TZID=Europe/London:20240511T233000
DTSTAMP:20260420T133227
CREATED:20240430T151309Z
LAST-MODIFIED:20240506T141529Z
UID:10000444-1715454000-1715470200@latin.social
SUMMARY:LLBOS Carlos & Chloe Weekender
DESCRIPTION:Friday Location – GHappyFeet Studio\, 19-23 Overseas House\, Ironmonger Row\, EC1V 3QN \nSaturday Location – THE VAULT\, 300 Strand\, London WC2R 1AE \n★The LLBBOS FRIDAY Schedule★ \nIntimate Masterclasses with our Internationals \nLimited to 25 couples only \nMirrored Studio \nmust be high improver+ \n  \n730pm – 830pm – Juanjo & Maria \n830pm – 930pm – Carlos & Chloe \n930pm – 12am – Social Dance (Only 20 spaces avail\, must be booked in advance) \n  \n★The LLBBOS SATURDAY Schedule★ \n5:00pm – 7:00pm – 2x workshops with Carlos & Chloe *Must be high improver+ \n7:30- 8:30pm – Bachata Fusion \nLevel 1 – Andrea \nLevel 2 – Pierre & Pebbles \nLevel 3 – Juanjo & Maria \n  \n8:30 – 9:30pm – Bachata Sensual \nLevel 1 – Pebbles \nLevel 2 – Biskit & Federica \nLevel 3 – Juanjo & Maria \n  \n9:30pm – 3am – PARTY
URL:https://latin.social/event/llbos-carlos-chloe-weekender/2024-05-11/
LOCATION:GHappyFeet Studio\, 19-23 Overseas House\, Ironmonger Row\, London\, EC1V 3QN\, United Kingdom
CATEGORIES:Class,Social,Workshop
ATTACH;FMTTYPE=image/webp:https://latin.social/wp-content/uploads/2024/04/LLBOS-Weekender.webp
GEO:51.5269672;-0.0946068
X-APPLE-STRUCTURED-LOCATION;VALUE=URI;X-ADDRESS=GHappyFeet Studio 19-23 Overseas House Ironmonger Row London EC1V 3QN United Kingdom;X-APPLE-RADIUS=500;X-TITLE=19-23 Overseas House\, Ironmonger Row:geo:-0.0946068,51.5269672
END:VEVENT
BEGIN:VEVENT
DTSTART;TZID=Europe/London:20240511T190000
DTEND;TZID=Europe/London:20240512T020000
DTSTAMP:20260420T133227
CREATED:20240501T161206Z
LAST-MODIFIED:20240508T093434Z
UID:10001059-1715454000-1715479200@latin.social
SUMMARY:El Bembé
DESCRIPTION:⏰ 7pm \n📚 7:15pm Bachata – Beginners\, Improvers\, Intermediate \n📚 8:15pm Cross-body salsa – Beginners\, Improvers\, Intermediate \n🪇 9pm Social \n😴 2am Close \n💰 Cash Only on the door Price: £15 per person plus £5 for Both Lessons (Salsa & Bachata) \nALL ENTRY PRICES INCLUDE A DRINK OF CHOICE: Pint of Lager / House Spirit + Mixer / Glass of Wine / Soft Drink / Small Bottle of Water
URL:https://latin.social/event/el-bembe-2/
LOCATION:The Editor’s Tap\, The Editor's Tap\, 5-11 Fetter Ln\,\, London\, EC4A 1BR\, United Kingdom
CATEGORIES:Class,Social
ATTACH;FMTTYPE=image/webp:https://latin.social/wp-content/uploads/2024/05/El-Bembe-Poster.webp
ORGANIZER;CN="Salsateca":MAILTO:admin@salsateca.co.uk
GEO:51.5147546;-0.1093949
X-APPLE-STRUCTURED-LOCATION;VALUE=URI;X-ADDRESS=The Editor’s Tap The Editor's Tap 5-11 Fetter Ln London EC4A 1BR United Kingdom;X-APPLE-RADIUS=500;X-TITLE=The Editor's Tap\, 5-11 Fetter Ln\,:geo:-0.1093949,51.5147546
END:VEVENT
BEGIN:VEVENT
DTSTART;TZID=Europe/London:20240511T193000
DTEND;TZID=Europe/London:20240512T000000
DTSTAMP:20260420T133227
CREATED:20240508T181404Z
LAST-MODIFIED:20240712T135328Z
UID:10001830-1715455800-1715472000@latin.social
SUMMARY:El Swing with Tropic Peru live + Yamile's Salsa dance Class + El Swing DJs
DESCRIPTION:📚 7:30pm Cross-body salsa class \n🪇 8:30pm Free Social \n😴 Midnight Close \n💰 £12
URL:https://latin.social/event/el-swing-with-tropic-peru-live-yamiles-salsa-dance-class-el-swing-djs/
LOCATION:Portico Gallery\, Portico Gallery\, 23B Knights Hill\, London\, SE27 0HS\, United Kingdom
CATEGORIES:Social
ATTACH;FMTTYPE=image/png:https://latin.social/wp-content/uploads/2024/05/El-Swing-May.png
GEO:51.4309692;-0.103771
X-APPLE-STRUCTURED-LOCATION;VALUE=URI;X-ADDRESS=Portico Gallery Portico Gallery 23B Knights Hill London SE27 0HS United Kingdom;X-APPLE-RADIUS=500;X-TITLE=Portico Gallery\, 23B Knights Hill:geo:-0.103771,51.4309692
END:VEVENT
BEGIN:VEVENT
DTSTART;TZID=Europe/London:20240512T140000
DTEND;TZID=Europe/London:20240512T210000
DTSTAMP:20260420T133227
CREATED:20240508T182303Z
LAST-MODIFIED:20240508T182303Z
UID:10001831-1715522400-1715547600@latin.social
SUMMARY:KIZ LDN - The Social
DESCRIPTION:7 Hours of non-stop social dancing \n🪇 2pm Free Social \n😴 9pm Close \n💰 £17
URL:https://latin.social/event/kiz-ldn-the-social/
LOCATION:St Ethelburga’s Centre for Reconciliation and Peace\, 78 Bishopsgate\, London\, EC2N 4AG\, United Kingdom
CATEGORIES:Social
ATTACH;FMTTYPE=image/jpeg:https://latin.social/wp-content/uploads/2024/05/KIZ-LDN-The-Social-May.jpg
ORGANIZER;CN="KIZ LDN":MAILTO:contact@kizldn.com
GEO:51.5154655;-0.0819124
X-APPLE-STRUCTURED-LOCATION;VALUE=URI;X-ADDRESS=St Ethelburga’s Centre for Reconciliation and Peace 78 Bishopsgate London EC2N 4AG United Kingdom;X-APPLE-RADIUS=500;X-TITLE=78 Bishopsgate:geo:-0.0819124,51.5154655
END:VEVENT
BEGIN:VEVENT
DTSTART;TZID=Europe/London:20240512T170000
DTEND;TZID=Europe/London:20240512T230000
DTSTAMP:20260420T133227
CREATED:20240430T144055Z
LAST-MODIFIED:20241103T232208Z
UID:10000361-1715533200-1715554800@latin.social
SUMMARY:Bachata Exchange
DESCRIPTION:Dance outdoors at the most popular weekly bachata event in the UK! \n📚 5pm Bachata Class – All levels \n🪇 6pm Social \n😴 11pm Close \n💰 Free! (Donations encouraged) \nPlease leave bags in the designated area at the side\, but note that you do so at your own risk.  This is a publicly accessible space and the organisers cannot not take any responsibility for loss or theft. \nThe site is alcohol free\, but please bring soft-drinks.  Water bottles can be refilled from the public fountain in Exchange Square. \nThe nearest public toilets are at Liverpool Street Station. \nWe aim to make the event as safe and welcoming as possible\, but if you have any concerns on the night\, please speak to someone at the DJ desk\, or one of the volunteers wearing an armband. \n 
URL:https://latin.social/event/bachata-exchange/2024-05-12/
LOCATION:Exchange House\, Exchange House\, 12 Primrose Street\, London\, EC2A 2EG\, United Kingdom
CATEGORIES:Class,Social
ATTACH;FMTTYPE=image/png:https://latin.social/wp-content/uploads/2024/04/BachataExchange.png
GEO:51.5204008;-0.080911
X-APPLE-STRUCTURED-LOCATION;VALUE=URI;X-ADDRESS=Exchange House Exchange House 12 Primrose Street London EC2A 2EG United Kingdom;X-APPLE-RADIUS=500;X-TITLE=Exchange House\, 12 Primrose Street:geo:-0.080911,51.5204008
END:VEVENT
BEGIN:VEVENT
DTSTART;TZID=Europe/London:20240512T180000
DTEND;TZID=Europe/London:20240512T200000
DTSTAMP:20260420T133227
CREATED:20240501T160513Z
LAST-MODIFIED:20240508T094137Z
UID:10001033-1715536800-1715544000@latin.social
SUMMARY:Salsateca - Salsa and Bachata
DESCRIPTION:⏰ 5:40pm \n📚 6pm Cross-body salsa – Beginners\, Improvers\, Intermediate \n📚 7pm Bachata – Beginners\, Improvers\, Intermediate \n🪇 8pm Free Social \n😴 9pm Close
URL:https://latin.social/event/salsateca-salsa-and-bachata-5/2024-05-12/
LOCATION:Siobhan Davies Studios\, Siobhan Davies Studios\, 85 St George's Rd\,\, London\, SE1 6ER\, United Kingdom
CATEGORIES:Class
ATTACH;FMTTYPE=image/jpeg:https://latin.social/wp-content/uploads/2024/04/Salsateca.jpg
ORGANIZER;CN="Salsateca":MAILTO:admin@salsateca.co.uk
GEO:51.4960929;-0.1052934
X-APPLE-STRUCTURED-LOCATION;VALUE=URI;X-ADDRESS=Siobhan Davies Studios Siobhan Davies Studios 85 St George's Rd London SE1 6ER United Kingdom;X-APPLE-RADIUS=500;X-TITLE=Siobhan Davies Studios\, 85 St George's Rd\,:geo:-0.1052934,51.4960929
END:VEVENT
BEGIN:VEVENT
DTSTART;TZID=Europe/London:20240512T190000
DTEND;TZID=Europe/London:20240512T230000
DTSTAMP:20260420T133227
CREATED:20240501T143645Z
LAST-MODIFIED:20241123T140524Z
UID:10000783-1715540400-1715554800@latin.social
SUMMARY:SOS - Salsa on Sunday
DESCRIPTION:Classes from 7:00pm-8:00pm\, all levels. \nSocial from 8:00pm-11:00pm. \n£10 on the door or in advance\n£8 – Door Only! (Students with NUS\, NHS\, Police\, Fire\, Ambulance – Must show ID at the door) \n 
URL:https://latin.social/event/sos-salsa-on-sunday/2024-05-12/
LOCATION:Cecil Sharp House\, Cecil Sharp House\, 2 Regent's Park Rd\,\, London\, NW1 7AY\, United Kingdom
CATEGORIES:Class,Social
ATTACH;FMTTYPE=image/jpeg:https://latin.social/wp-content/uploads/2024/04/SOS.jpg
GEO:51.5381546;-0.1493065
X-APPLE-STRUCTURED-LOCATION;VALUE=URI;X-ADDRESS=Cecil Sharp House Cecil Sharp House 2 Regent's Park Rd London NW1 7AY United Kingdom;X-APPLE-RADIUS=500;X-TITLE=Cecil Sharp House\, 2 Regent's Park Rd\,:geo:-0.1493065,51.5381546
END:VEVENT
END:VCALENDAR